BEGIN:VCALENDAR
VERSION:2.0
PRODID:-//VK Polanka nad Odrou, z.s.82585//NONSGML kigkonsult.se iCalcreator 2.41.80//
CALSCALE:GREGORIAN
UID:31356261-6437-4936-b733-373832373162
BEGIN:VEVENT
UID:65333739-3439-4433-b031-626666366364
DTSTAMP:20260421T183727Z
DESCRIPTION:3/11 VK Polanka nad Odrou - Volejbalový spolek Ostrava 3:0 (3\,
 10\,14)
DTSTART;TZID=Europe/Berlin:20231007T090000
DTEND;TZID=Europe/Berlin:20231007T110000
LOCATION:Sportovní hala\, Heleny Salichové 1275 Ostrava - Polanka nad Odrou
SUMMARY:MS-U18Z-B: VK Polanka nad Odrou-Volejbalový spolek Ostrava
END:VEVENT
BEGIN:VEVENT
UID:61613738-6264-4566-a539-623963343538
DTSTAMP:20260421T183727Z
DESCRIPTION:4/15 VK Polanka nad Odrou - Volejbalový spolek Ostrava 3:1 (15\
 ,-26\,14\,8)
DTSTART;TZID=Europe/Berlin:20231007T130000
DTEND;TZID=Europe/Berlin:20231007T150000
LOCATION:Sportovní hala\, Heleny Salichové 1275 Ostrava - Polanka nad Odrou
SUMMARY:MS-U18Z-B: VK Polanka nad Odrou-Volejbalový spolek Ostrava
END:VEVENT
BEGIN:VEVENT
UID:66623838-3432-4166-a438-383239303337
DTSTAMP:20260421T183727Z
DESCRIPTION:7/26 VK Polanka nad Odrou - Tělovýchovná jednota Ostrava 0:3 (-
 18\,-21\,-19)
DTSTART;TZID=Europe/Berlin:20231020T170000
DTEND;TZID=Europe/Berlin:20231020T190000
LOCATION:Sportovní hala\, Heleny Salichové 1275 Ostrava - Polanka nad Odrou
SUMMARY:MS-U18Z-B: VK Polanka nad Odrou-Tělovýchovná jednota Ostrava
END:VEVENT
BEGIN:VEVENT
UID:30323862-3766-4535-b634-366264336631
DTSTAMP:20260421T183727Z
DESCRIPTION:8/30 VK Polanka nad Odrou - Tělovýchovná jednota Ostrava 1:3 (-
 16\,-22\,22\,-10)
DTSTART;TZID=Europe/Berlin:20231020T190000
DTEND;TZID=Europe/Berlin:20231020T210000
LOCATION:Sportovní hala\, Heleny Salichové 1275 Ostrava - Polanka nad Odrou
SUMMARY:MS-U18Z-B: VK Polanka nad Odrou-Tělovýchovná jednota Ostrava
END:VEVENT
BEGIN:VEVENT
UID:62303330-3562-4064-a136-333665303135
DTSTAMP:20260421T183727Z
DESCRIPTION:13/52 VK Polanka nad Odrou - Happy Sport Opava 1:3 (-15\,-19\,1
 0\,-22)
DTSTART;TZID=Europe/Berlin:20231125T090000
DTEND;TZID=Europe/Berlin:20231125T110000
LOCATION:Sportovní hala\, Heleny Salichové 1275 Ostrava - Polanka nad Odrou
SUMMARY:MS-U18Z-B: VK Polanka nad Odrou-Happy Sport Opava
END:VEVENT
BEGIN:VEVENT
UID:35623134-6435-4031-a461-366538366465
DTSTAMP:20260421T183727Z
DESCRIPTION:14/56 VK Polanka nad Odrou - Happy Sport Opava 3:0 (23\,21\,23)
DTSTART;TZID=Europe/Berlin:20231125T130000
DTEND;TZID=Europe/Berlin:20231125T150000
LOCATION:Sportovní hala\, Heleny Salichové 1275 Ostrava - Polanka nad Odrou
SUMMARY:MS-U18Z-B: VK Polanka nad Odrou-Happy Sport Opava
END:VEVENT
BEGIN:VEVENT
UID:37313064-6234-4337-b833-376135656365
DTSTAMP:20260421T183727Z
DESCRIPTION:15/58 VK Polanka nad Odrou - VAM Havířov 1:3 (-13\,-14\,19\,-16
 )
DTSTART;TZID=Europe/Berlin:20231202T090000
DTEND;TZID=Europe/Berlin:20231202T110000
LOCATION:Sportovní hala\, Heleny Salichové 1275 Ostrava - Polanka nad Odrou
SUMMARY:MS-U18Z-B: VK Polanka nad Odrou-VAM Havířov
END:VEVENT
BEGIN:VEVENT
UID:37646162-3831-4735-a636-353761306265
DTSTAMP:20260421T183727Z
DESCRIPTION:16/62 VK Polanka nad Odrou - VAM Havířov 1:3 (-22\,-22\,22\,-21
 )
DTSTART;TZID=Europe/Berlin:20231202T130000
DTEND;TZID=Europe/Berlin:20231202T150000
LOCATION:Sportovní hala\, Heleny Salichové 1275 Ostrava - Polanka nad Odrou
SUMMARY:MS-U18Z-B: VK Polanka nad Odrou-VAM Havířov
END:VEVENT
BEGIN:VEVENT
UID:65386364-3931-4832-b935-376165386463
DTSTAMP:20260421T183727Z
DESCRIPTION:19/75 VK Polanka nad Odrou - Kylešovice 0:3 (-22\,-20\,-18)
DTSTART;TZID=Europe/Berlin:20240113T090000
DTEND;TZID=Europe/Berlin:20240113T110000
LOCATION:Sportovní hala\, Heleny Salichové 1275 Ostrava - Polanka nad Odrou
SUMMARY:MS-U18Z-B: VK Polanka nad Odrou-Kylešovice
END:VEVENT
BEGIN:VEVENT
UID:32656532-3736-4139-b037-636263613931
DTSTAMP:20260421T183727Z
DESCRIPTION:20/79 VK Polanka nad Odrou - Kylešovice 1:3 (-20\,20\,-22\,-23)
DTSTART;TZID=Europe/Berlin:20240113T130000
DTEND;TZID=Europe/Berlin:20240113T150000
LOCATION:Sportovní hala\, Heleny Salichové 1275 Ostrava - Polanka nad Odrou
SUMMARY:MS-U18Z-B: VK Polanka nad Odrou-Kylešovice
END:VEVENT
BEGIN:VEVENT
UID:35356465-3637-4439-b333-313035646531
DTSTAMP:20260421T183727Z
DESCRIPTION:23/92 VK Polanka nad Odrou - VO Slezská Orlice 1:3 (17\,-17\,-1
 5\,-16)
DTSTART;TZID=Europe/Berlin:20240127T090000
DTEND;TZID=Europe/Berlin:20240127T110000
LOCATION:Sportovní hala\, Heleny Salichové 1275 Ostrava - Polanka nad Odrou
SUMMARY:MS-U18Z-B: VK Polanka nad Odrou-VO Slezská Orlice
END:VEVENT
BEGIN:VEVENT
UID:65626135-6438-4732-b564-343232666433
DTSTAMP:20260421T183727Z
DESCRIPTION:24/96 VK Polanka nad Odrou - VO Slezská Orlice 1:3 (-17\,20\,-1
 8\,-23)
DTSTART;TZID=Europe/Berlin:20240127T130000
DTEND;TZID=Europe/Berlin:20240127T150000
LOCATION:Sportovní hala\, Heleny Salichové 1275 Ostrava - Polanka nad Odrou
SUMMARY:MS-U18Z-B: VK Polanka nad Odrou-VO Slezská Orlice
END:VEVENT
BEGIN:VEVENT
UID:61306530-6238-4335-b833-653365393865
DTSTAMP:20260421T183727Z
DESCRIPTION:1/2 VAM Havířov - VK Polanka nad Odrou 3:2 (22\,-22\,-19\,23\,1
 1)
DTSTART;TZID=Europe/Berlin:20230923T090000
DTEND;TZID=Europe/Berlin:20230923T110000
LOCATION:Sportovní hala Žákovská\, Komunardů 1548 Havířov - Město
SUMMARY:MS-U18Z-B: VAM Havířov-VK Polanka nad Odrou
END:VEVENT
BEGIN:VEVENT
UID:38336561-3334-4234-a535-343230373131
DTSTAMP:20260421T183727Z
DESCRIPTION:2/6 VAM Havířov - VK Polanka nad Odrou 1:3 (-16\,-17\,23\,-23)
DTSTART;TZID=Europe/Berlin:20230923T130000
DTEND;TZID=Europe/Berlin:20230923T150000
LOCATION:Sportovní hala Žákovská\, Komunardů 1548 Havířov - Město
SUMMARY:MS-U18Z-B: VAM Havířov-VK Polanka nad Odrou
END:VEVENT
BEGIN:VEVENT
UID:34303535-3235-4264-a438-313861373663
DTSTAMP:20260421T183727Z
DESCRIPTION:5/19 Kylešovice - VK Polanka nad Odrou 3:1 (21\,14\,-24\,8)
DTSTART;TZID=Europe/Berlin:20231014T100000
DTEND;TZID=Europe/Berlin:20231014T120000
LOCATION:Sportovní hala Slezského gymnázia v Opavě\, Zámecký okruh 461 Opav
 a - Město
SUMMARY:MS-U18Z-B: Kylešovice-VK Polanka nad Odrou
END:VEVENT
BEGIN:VEVENT
UID:31366166-3639-4339-a236-353438656137
DTSTAMP:20260421T183727Z
DESCRIPTION:6/23 Kylešovice - VK Polanka nad Odrou 3:0 (21\,21\,23)
DTSTART;TZID=Europe/Berlin:20231014T140000
DTEND;TZID=Europe/Berlin:20231014T160000
LOCATION:Sportovní hala Slezského gymnázia v Opavě\, Zámecký okruh 461 Opav
 a - Město
SUMMARY:MS-U18Z-B: Kylešovice-VK Polanka nad Odrou
END:VEVENT
BEGIN:VEVENT
UID:61366431-3834-4666-b635-336535326164
DTSTAMP:20260421T183727Z
DESCRIPTION:9/36 VO Slezská Orlice - VK Polanka nad Odrou 3:1 (5\,-21\,14\,
 23)
DTSTART;TZID=Europe/Berlin:20231104T100000
DTEND;TZID=Europe/Berlin:20231104T120000
LOCATION:ZŠ Janáčkovo náměstí 17\, Janáčkovo náměstí 1970 Krnov - Pod Bezru
 čovým vrchem
SUMMARY:MS-U18Z-B: VO Slezská Orlice-VK Polanka nad Odrou
END:VEVENT
BEGIN:VEVENT
UID:65303266-3966-4636-b330-303265356338
DTSTAMP:20260421T183727Z
DESCRIPTION:10/40 VO Slezská Orlice - VK Polanka nad Odrou 3:2 (19\,-19\,-1
 9\,14\,10)
DTSTART;TZID=Europe/Berlin:20231104T140000
DTEND;TZID=Europe/Berlin:20231104T160000
LOCATION:ZŠ Janáčkovo náměstí 17\, Janáčkovo náměstí 1970 Krnov - Pod Bezru
 čovým vrchem
SUMMARY:MS-U18Z-B: VO Slezská Orlice-VK Polanka nad Odrou
END:VEVENT
BEGIN:VEVENT
UID:32633539-3266-4366-a666-396535376264
DTSTAMP:20260421T183727Z
DESCRIPTION:17/67 Volejbalový spolek Ostrava - VK Polanka nad Odrou 2:3 (-1
 7\,-15\,21\,18\,-2)
DTSTART;TZID=Europe/Berlin:20240126T170000
DTEND;TZID=Europe/Berlin:20240126T190000
LOCATION:SŠSS Krakovská \, Krakovská 1095 Ostrava - Hrabůvka
SUMMARY:MS-U18Z-B: Volejbalový spolek Ostrava-VK Polanka nad Odrou
END:VEVENT
BEGIN:VEVENT
UID:34663032-3562-4164-a661-353239653632
DTSTAMP:20260421T183727Z
DESCRIPTION:18/71 Volejbalový spolek Ostrava - VK Polanka nad Odrou 0:3 (-2
 2\,-21\,-23)
DTSTART;TZID=Europe/Berlin:20240126T200000
DTEND;TZID=Europe/Berlin:20240126T220000
LOCATION:SŠSS Krakovská \, Krakovská 1095 Ostrava - Hrabůvka
SUMMARY:MS-U18Z-B: Volejbalový spolek Ostrava-VK Polanka nad Odrou
END:VEVENT
BEGIN:VEVENT
UID:35363237-6265-4861-a361-323963613531
DTSTAMP:20260421T183727Z
DESCRIPTION:21/82 Tělovýchovná jednota Ostrava - VK Polanka nad Odrou 3:2 (
 -15\,23\,9\,-20\,12)
DTSTART;TZID=Europe/Berlin:20240120T100000
DTEND;TZID=Europe/Berlin:20240120T120000
LOCATION:Tělocvična ZŠ Gen. Píky \, Gen. Píky 2975 Ostrava - Moravská Ostra
 va
SUMMARY:MS-U18Z-B: Tělovýchovná jednota Ostrava-VK Polanka nad Odrou
END:VEVENT
BEGIN:VEVENT
UID:38316536-6662-4630-a234-663866643366
DTSTAMP:20260421T183727Z
DESCRIPTION:22/86 Tělovýchovná jednota Ostrava - VK Polanka nad Odrou 3:0 (
 18\,13\,20)
DTSTART;TZID=Europe/Berlin:20240120T140000
DTEND;TZID=Europe/Berlin:20240120T160000
LOCATION:Tělocvična ZŠ Gen. Píky \, Gen. Píky 2975 Ostrava - Moravská Ostra
 va
SUMMARY:MS-U18Z-B: Tělovýchovná jednota Ostrava-VK Polanka nad Odrou
END:VEVENT
BEGIN:VEVENT
UID:61656632-6537-4132-b437-646335613762
DTSTAMP:20260421T183727Z
DESCRIPTION:27/108 Happy Sport Opava - VK Polanka nad Odrou 3:1 (23\,17\,-2
 2\,15)
DTSTART;TZID=Europe/Berlin:20240210T100000
DTEND;TZID=Europe/Berlin:20240210T120000
LOCATION:ZŠ Ed. Beneše -malá tělocvična\, Edvarda Beneše 961 Opava - Kateři
 nky
SUMMARY:MS-U18Z-B: Happy Sport Opava-VK Polanka nad Odrou
END:VEVENT
BEGIN:VEVENT
UID:37646637-3736-4764-b132-623637393162
DTSTAMP:20260421T183727Z
DESCRIPTION:28/112 Happy Sport Opava - VK Polanka nad Odrou 3:2 (14\,17\,-2
 0\,-19\,7)
DTSTART;TZID=Europe/Berlin:20240210T140000
DTEND;TZID=Europe/Berlin:20240210T160000
LOCATION:ZŠ Ed. Beneše -malá tělocvična\, Edvarda Beneše 961 Opava - Kateři
 nky
SUMMARY:MS-U18Z-B: Happy Sport Opava-VK Polanka nad Odrou
END:VEVENT
BEGIN:VEVENT
UID:34303861-3532-4335-b831-656530633033
DTSTAMP:20260421T183727Z
DESCRIPTION:3/9 VK Polanka nad Odrou - SVK Nový Jičín 2:3 (-23\,21\,18\,-14
 \,-9)
DTSTART;TZID=Europe/Berlin:20240224T090000
DTEND;TZID=Europe/Berlin:20240224T110000
LOCATION:Sportovní hala\, Heleny Salichové 1275 Ostrava - Polanka nad Odrou
SUMMARY:MS-U18Z-2C: VK Polanka nad Odrou-SVK Nový Jičín
END:VEVENT
BEGIN:VEVENT
UID:37653533-3430-4638-b435-353831366130
DTSTAMP:20260421T183727Z
DESCRIPTION:4/12 VK Polanka nad Odrou - SVK Nový Jičín 0:3 (-17\,-26\,-17)
DTSTART;TZID=Europe/Berlin:20240224T130000
DTEND;TZID=Europe/Berlin:20240224T150000
LOCATION:Sportovní hala\, Heleny Salichové 1275 Ostrava - Polanka nad Odrou
SUMMARY:MS-U18Z-2C: VK Polanka nad Odrou-SVK Nový Jičín
END:VEVENT
BEGIN:VEVENT
UID:30353164-3733-4561-b265-386131393935
DTSTAMP:20260421T183727Z
DESCRIPTION:7/19 VK Polanka nad Odrou - VK Karviná 1:3 (-12\,21\,-15\,-24)
DTSTART;TZID=Europe/Berlin:20240309T090000
DTEND;TZID=Europe/Berlin:20240309T110000
LOCATION:Sportovní hala\, Heleny Salichové 1275 Ostrava - Polanka nad Odrou
SUMMARY:MS-U18Z-2C: VK Polanka nad Odrou-VK Karviná
END:VEVENT
BEGIN:VEVENT
UID:65333963-6632-4666-b536-303364363061
DTSTAMP:20260421T183727Z
DESCRIPTION:8/22 VK Polanka nad Odrou - VK Karviná 3:0 (19\,16\,16)
DTSTART;TZID=Europe/Berlin:20240309T130000
DTEND;TZID=Europe/Berlin:20240309T150000
LOCATION:Sportovní hala\, Heleny Salichové 1275 Ostrava - Polanka nad Odrou
SUMMARY:MS-U18Z-2C: VK Polanka nad Odrou-VK Karviná
END:VEVENT
BEGIN:VEVENT
UID:30343233-3539-4534-b861-356531393531
DTSTAMP:20260421T183727Z
DESCRIPTION:11/32 VK Polanka nad Odrou - Vsetín 2:3 (-6\,-17\,19\,15\,-13)
DTSTART;TZID=Europe/Berlin:20240406T090000
DTEND;TZID=Europe/Berlin:20240406T110000
LOCATION:Sportovní hala\, Heleny Salichové 1275 Ostrava - Polanka nad Odrou
SUMMARY:MS-U18Z-2C: VK Polanka nad Odrou-Vsetín
END:VEVENT
BEGIN:VEVENT
UID:32613961-3439-4433-a131-366131623163
DTSTAMP:20260421T183727Z
DESCRIPTION:12/35 VK Polanka nad Odrou - Vsetín 3:2 (19\,22\,-15\,-16\,8)
DTSTART;TZID=Europe/Berlin:20240406T130000
DTEND;TZID=Europe/Berlin:20240406T150000
LOCATION:Sportovní hala\, Heleny Salichové 1275 Ostrava - Polanka nad Odrou
SUMMARY:MS-U18Z-2C: VK Polanka nad Odrou-Vsetín
END:VEVENT
BEGIN:VEVENT
UID:62393635-6337-4432-b530-336361623735
DTSTAMP:20260421T183727Z
DESCRIPTION:1/1 VK Karviná - VK Polanka nad Odrou 3:0 (9\,16\,16)
DTSTART;TZID=Europe/Berlin:20240217T100000
DTEND;TZID=Europe/Berlin:20240217T120000
LOCATION:Tělocvična ZŠ Družby\, tř. Družby 1383 Karviná - Nové Město
SUMMARY:MS-U18Z-2C: VK Karviná-VK Polanka nad Odrou
END:VEVENT
BEGIN:VEVENT
UID:32336564-6532-4034-b738-633762643362
DTSTAMP:20260421T183727Z
DESCRIPTION:2/4 VK Karviná - VK Polanka nad Odrou 3:1 (19\,17\,-26\,18)
DTSTART;TZID=Europe/Berlin:20240217T140000
DTEND;TZID=Europe/Berlin:20240217T160000
LOCATION:Tělocvična ZŠ Družby\, tř. Družby 1383 Karviná - Nové Město
SUMMARY:MS-U18Z-2C: VK Karviná-VK Polanka nad Odrou
END:VEVENT
BEGIN:VEVENT
UID:39663135-3637-4236-a236-366565343965
DTSTAMP:20260421T183727Z
DESCRIPTION:5/14 Vsetín - VK Polanka nad Odrou 3:1 (-19\,10\,16\,22)
DTSTART;TZID=Europe/Berlin:20240303T090000
DTEND;TZID=Europe/Berlin:20240303T110000
LOCATION:Sportovní hala Na Lapači\, Na Lapači 247 Vsetín - Rokytnice
SUMMARY:MS-U18Z-2C: Vsetín-VK Polanka nad Odrou
END:VEVENT
BEGIN:VEVENT
UID:34623032-6138-4763-b363-396631373963
DTSTAMP:20260421T183727Z
DESCRIPTION:6/17 Vsetín - VK Polanka nad Odrou 3:0 (22\,18\,20)
DTSTART;TZID=Europe/Berlin:20240303T130000
DTEND;TZID=Europe/Berlin:20240303T150000
LOCATION:Sportovní hala Na Lapači\, Na Lapači 247 Vsetín - Rokytnice
SUMMARY:MS-U18Z-2C: Vsetín-VK Polanka nad Odrou
END:VEVENT
BEGIN:VEVENT
UID:30613839-3363-4932-a163-666464653535
DTSTAMP:20260421T183727Z
DESCRIPTION:9/27 SVK Nový Jičín - VK Polanka nad Odrou 3:0 (16\,23\,21)
DTSTART;TZID=Europe/Berlin:20240310T100000
DTEND;TZID=Europe/Berlin:20240310T120000
LOCATION:Hala Msgr. Šrámka (Marxovka)\, Msgr. Šrámka 1105 Nový Jičín
SUMMARY:MS-U18Z-2C: SVK Nový Jičín-VK Polanka nad Odrou
END:VEVENT
BEGIN:VEVENT
UID:61383662-6562-4033-b439-386631366338
DTSTAMP:20260421T183727Z
DESCRIPTION:10/30 SVK Nový Jičín - VK Polanka nad Odrou 3:1 (18\,19\,-20\,1
 4)
DTSTART;TZID=Europe/Berlin:20240310T140000
DTEND;TZID=Europe/Berlin:20240310T160000
LOCATION:Hala Msgr. Šrámka (Marxovka)\, Msgr. Šrámka 1105 Nový Jičín
SUMMARY:MS-U18Z-2C: SVK Nový Jičín-VK Polanka nad Odrou
END:VEVENT
END:VCALENDAR
