BEGIN:VCALENDAR
VERSION:2.0
PRODID:-//Vysokoškolský sportovní klub VŠB - TU Ostrava82599//NONSGML kigkonsult.se iCalcreator 2.41.80//
CALSCALE:GREGORIAN
UID:38333364-3666-4639-b333-316566623165
BEGIN:VEVENT
UID:39316462-3964-4466-b762-333431363333
DTSTAMP:20260423T070855Z
DESCRIPTION:3/10 TU Ostrava - TJ ODRY 3:1 (-24\,15\,22\,16)
DTSTART;TZID=Europe/Berlin:20231007T110000
DTEND;TZID=Europe/Berlin:20231007T130000
LOCATION:Sportovní hala VŠB-TUO\, Studentská 6175 Ostrava - Poruba
SUMMARY:MS-M: TU Ostrava-TJ ODRY
END:VEVENT
BEGIN:VEVENT
UID:35336562-3536-4334-b635-353064313363
DTSTAMP:20260423T070855Z
DESCRIPTION:4/14 TU Ostrava - TJ ODRY 3:0 (17\,12\,23)
DTSTART;TZID=Europe/Berlin:20231007T150000
DTEND;TZID=Europe/Berlin:20231007T170000
LOCATION:Sportovní hala VŠB-TUO\, Studentská 6175 Ostrava - Poruba
SUMMARY:MS-M: TU Ostrava-TJ ODRY
END:VEVENT
BEGIN:VEVENT
UID:30336462-6361-4334-a232-303332643034
DTSTAMP:20260423T070855Z
DESCRIPTION:9/36 TU Ostrava - SK AZ Kylešovice 2:3 (21\,-18\,-23\,11\,-4)
DTSTART;TZID=Europe/Berlin:20231104T100000
DTEND;TZID=Europe/Berlin:20231104T120000
LOCATION:Sportovní hala VŠB-TUO\, Studentská 6175 Ostrava - Poruba
SUMMARY:MS-M: TU Ostrava-SK AZ Kylešovice
END:VEVENT
BEGIN:VEVENT
UID:63383232-3966-4435-b662-666339333536
DTSTAMP:20260423T070855Z
DESCRIPTION:10/40 TU Ostrava - SK AZ Kylešovice 3:0 (19\,20\,18)
DTSTART;TZID=Europe/Berlin:20231104T140000
DTEND;TZID=Europe/Berlin:20231104T160000
LOCATION:Sportovní hala VŠB-TUO\, Studentská 6175 Ostrava - Poruba
SUMMARY:MS-M: TU Ostrava-SK AZ Kylešovice
END:VEVENT
BEGIN:VEVENT
UID:32643765-6566-4735-b465-623362386438
DTSTAMP:20260423T070855Z
DESCRIPTION:13/51 TU Ostrava - TJ Hlučín 3:1 (-22\,19\,18\,12)
DTSTART;TZID=Europe/Berlin:20231125T100000
DTEND;TZID=Europe/Berlin:20231125T120000
LOCATION:Sportovní hala VŠB-TUO\, Studentská 6175 Ostrava - Poruba
SUMMARY:MS-M: TU Ostrava-TJ Hlučín
END:VEVENT
BEGIN:VEVENT
UID:61366433-3231-4333-b261-303533333531
DTSTAMP:20260423T070855Z
DESCRIPTION:14/55 TU Ostrava - TJ Hlučín 3:0 (20\,16\,20)
DTSTART;TZID=Europe/Berlin:20231125T140000
DTEND;TZID=Europe/Berlin:20231125T160000
LOCATION:Sportovní hala VŠB-TUO\, Studentská 6175 Ostrava - Poruba
SUMMARY:MS-M: TU Ostrava-TJ Hlučín
END:VEVENT
BEGIN:VEVENT
UID:62666136-6234-4464-b936-373362666437
DTSTAMP:20260423T070855Z
DESCRIPTION:15/59 TU Ostrava - VK Ostrava 'B' 3:0 (21\,15\,22)
DTSTART;TZID=Europe/Berlin:20231202T100000
DTEND;TZID=Europe/Berlin:20231202T120000
LOCATION:Sportovní hala VŠB-TUO\, Studentská 6175 Ostrava - Poruba
SUMMARY:MS-M: TU Ostrava-VK Ostrava 'B'
END:VEVENT
BEGIN:VEVENT
UID:33366264-3061-4363-a564-303539396566
DTSTAMP:20260423T070855Z
DESCRIPTION:16/63 TU Ostrava - VK Ostrava 'B' 3:0 (20\,17\,16)
DTSTART;TZID=Europe/Berlin:20231202T140000
DTEND;TZID=Europe/Berlin:20231202T160000
LOCATION:Sportovní hala VŠB-TUO\, Studentská 6175 Ostrava - Poruba
SUMMARY:MS-M: TU Ostrava-VK Ostrava 'B'
END:VEVENT
BEGIN:VEVENT
UID:30643364-6339-4533-b536-343964363437
DTSTAMP:20260423T070855Z
DESCRIPTION:19/76 TU Ostrava - Vlci Nový Jičín 'B' 3:0 (12\,22\,19)
DTSTART;TZID=Europe/Berlin:20240110T173000
DTEND;TZID=Europe/Berlin:20240110T193000
LOCATION:Sportovní hala VŠB-TUO\, Studentská 6175 Ostrava - Poruba
SUMMARY:MS-M: TU Ostrava-Vlci Nový Jičín 'B'
END:VEVENT
BEGIN:VEVENT
UID:35393061-6261-4263-a162-356633383562
DTSTAMP:20260423T070855Z
DESCRIPTION:20/80 TU Ostrava - Vlci Nový Jičín 'B' 3:0 (15\,18\,11)
DTSTART;TZID=Europe/Berlin:20240110T190000
DTEND;TZID=Europe/Berlin:20240110T210000
LOCATION:Sportovní hala VŠB-TUO\, Studentská 6175 Ostrava - Poruba
SUMMARY:MS-M: TU Ostrava-Vlci Nový Jičín 'B'
END:VEVENT
BEGIN:VEVENT
UID:63623739-3466-4365-b230-646439306461
DTSTAMP:20260423T070855Z
DESCRIPTION:21/81 TU Ostrava - Green F-M 'B' 1:3 (-19\,-23\,17\,-23)
DTSTART;TZID=Europe/Berlin:20240113T100000
DTEND;TZID=Europe/Berlin:20240113T120000
LOCATION:Sportovní hala VŠB-TUO\, Studentská 6175 Ostrava - Poruba
SUMMARY:MS-M: TU Ostrava-Green F-M 'B'
END:VEVENT
BEGIN:VEVENT
UID:33333131-3837-4135-b330-353162653961
DTSTAMP:20260423T070855Z
DESCRIPTION:22/85 TU Ostrava - Green F-M 'B' 3:0 (14\,21\,18)
DTSTART;TZID=Europe/Berlin:20240113T140000
DTEND;TZID=Europe/Berlin:20240113T160000
LOCATION:Sportovní hala VŠB-TUO\, Studentská 6175 Ostrava - Poruba
SUMMARY:MS-M: TU Ostrava-Green F-M 'B'
END:VEVENT
BEGIN:VEVENT
UID:36633436-6630-4630-b436-376539373430
DTSTAMP:20260423T070855Z
DESCRIPTION:25/98 TU Ostrava - TJ Kotouč Štramberk 3:0 (20\,16\,23)
DTSTART;TZID=Europe/Berlin:20240127T100000
DTEND;TZID=Europe/Berlin:20240127T120000
LOCATION:Sportovní hala VŠB-TUO\, Studentská 6175 Ostrava - Poruba
SUMMARY:MS-M: TU Ostrava-TJ Kotouč Štramberk
END:VEVENT
BEGIN:VEVENT
UID:62396538-3861-4164-a633-343864666661
DTSTAMP:20260423T070855Z
DESCRIPTION:26/102 TU Ostrava - TJ Kotouč Štramberk 3:0 (22\,20\,22)
DTSTART;TZID=Europe/Berlin:20240127T140000
DTEND;TZID=Europe/Berlin:20240127T160000
LOCATION:Sportovní hala VŠB-TUO\, Studentská 6175 Ostrava - Poruba
SUMMARY:MS-M: TU Ostrava-TJ Kotouč Štramberk
END:VEVENT
BEGIN:VEVENT
UID:31623965-3563-4435-a336-313765656232
DTSTAMP:20260423T070855Z
DESCRIPTION:1/3 VK Ostrava 'B' - TU Ostrava 3:1 (-22\,20\,17\,24)
DTSTART;TZID=Europe/Berlin:20230923T100000
DTEND;TZID=Europe/Berlin:20230923T120000
LOCATION:Hala mládeže\, Gajdošova 1893 Ostrava - Moravská Ostrava
SUMMARY:MS-M: VK Ostrava 'B'-TU Ostrava
END:VEVENT
BEGIN:VEVENT
UID:30393637-6562-4034-a238-653761633261
DTSTAMP:20260423T070855Z
DESCRIPTION:2/7 VK Ostrava 'B' - TU Ostrava 2:3 (-22\,21\,21\,-17\,-12)
DTSTART;TZID=Europe/Berlin:20230923T140000
DTEND;TZID=Europe/Berlin:20230923T160000
LOCATION:Hala mládeže\, Gajdošova 1893 Ostrava - Moravská Ostrava
SUMMARY:MS-M: VK Ostrava 'B'-TU Ostrava
END:VEVENT
BEGIN:VEVENT
UID:62343731-6561-4233-a133-633465363233
DTSTAMP:20260423T070855Z
DESCRIPTION:5/20 Vlci Nový Jičín 'B' - TU Ostrava 0:3 (-15\,-15\,-18)
DTSTART;TZID=Europe/Berlin:20231014T100000
DTEND;TZID=Europe/Berlin:20231014T120000
LOCATION:Tělocvična Msgr. Šrámka\, Msgr. Šrámka 1105 Nový Jičín
SUMMARY:MS-M: Vlci Nový Jičín 'B'-TU Ostrava
END:VEVENT
BEGIN:VEVENT
UID:63343432-3335-4465-a363-626230376561
DTSTAMP:20260423T070855Z
DESCRIPTION:6/24 Vlci Nový Jičín 'B' - TU Ostrava 0:3 (-10\,-14\,-17)
DTSTART;TZID=Europe/Berlin:20231014T140000
DTEND;TZID=Europe/Berlin:20231014T160000
LOCATION:Tělocvična Msgr. Šrámka\, Msgr. Šrámka 1105 Nový Jičín
SUMMARY:MS-M: Vlci Nový Jičín 'B'-TU Ostrava
END:VEVENT
BEGIN:VEVENT
UID:63343636-3133-4966-a662-646131336430
DTSTAMP:20260423T070855Z
DESCRIPTION:7/25 Green F-M 'B' - TU Ostrava 0:3 (-16\,-23\,-19)
DTSTART;TZID=Europe/Berlin:20231028T100000
DTEND;TZID=Europe/Berlin:20231028T120000
LOCATION:Hala SPŠ\, 28. října 1639 Frýdek-Místek - Místek
SUMMARY:MS-M: Green F-M 'B'-TU Ostrava
END:VEVENT
BEGIN:VEVENT
UID:39323034-3138-4136-a365-636237386338
DTSTAMP:20260423T070855Z
DESCRIPTION:8/29 Green F-M 'B' - TU Ostrava 0:3 (-22\,-19\,-23)
DTSTART;TZID=Europe/Berlin:20231028T140000
DTEND;TZID=Europe/Berlin:20231028T160000
LOCATION:Hala SPŠ\, 28. října 1639 Frýdek-Místek - Místek
SUMMARY:MS-M: Green F-M 'B'-TU Ostrava
END:VEVENT
BEGIN:VEVENT
UID:36353536-3233-4562-a534-363436623337
DTSTAMP:20260423T070855Z
DESCRIPTION:11/42 TJ Kotouč Štramberk - TU Ostrava 2:3 (-23\,22\,12\,-16\,-
 15)
DTSTART;TZID=Europe/Berlin:20231112T090000
DTEND;TZID=Europe/Berlin:20231112T110000
LOCATION:Hala Štramberk\, Zauličí 620 Štramberk
SUMMARY:MS-M: TJ Kotouč Štramberk-TU Ostrava
END:VEVENT
BEGIN:VEVENT
UID:61316434-6535-4537-b036-393832663630
DTSTAMP:20260423T070855Z
DESCRIPTION:12/46 TJ Kotouč Štramberk - TU Ostrava 0:3 (-10\,-20\,-20)
DTSTART;TZID=Europe/Berlin:20231112T130000
DTEND;TZID=Europe/Berlin:20231112T150000
LOCATION:Hala Štramberk\, Zauličí 620 Štramberk
SUMMARY:MS-M: TJ Kotouč Štramberk-TU Ostrava
END:VEVENT
BEGIN:VEVENT
UID:36333530-6630-4164-a562-303361643333
DTSTAMP:20260423T070855Z
DESCRIPTION:17/66 TJ ODRY - TU Ostrava 1:3 (-16\,22\,-15\,-19)
DTSTART;TZID=Europe/Berlin:20231209T100000
DTEND;TZID=Europe/Berlin:20231209T120000
LOCATION:Tělocvična\, Pohořská 1010 Odry
SUMMARY:MS-M: TJ ODRY-TU Ostrava
END:VEVENT
BEGIN:VEVENT
UID:32666533-6134-4831-b637-356462373237
DTSTAMP:20260423T070855Z
DESCRIPTION:18/70 TJ ODRY - TU Ostrava 2:3 (-17\,-19\,23\,23\,-9)
DTSTART;TZID=Europe/Berlin:20231209T140000
DTEND;TZID=Europe/Berlin:20231209T160000
LOCATION:Tělocvična\, Pohořská 1010 Odry
SUMMARY:MS-M: TJ ODRY-TU Ostrava
END:VEVENT
BEGIN:VEVENT
UID:64386433-6331-4237-a164-373162366261
DTSTAMP:20260423T070855Z
DESCRIPTION:23/92 SK AZ Kylešovice - TU Ostrava 3:0 (17\,23\,23)
DTSTART;TZID=Europe/Berlin:20240120T100000
DTEND;TZID=Europe/Berlin:20240120T120000
LOCATION:Sportovní hala Obchodní akademie\, Hany Kvapilové 1656 Opava - Pře
 dměstí
SUMMARY:MS-M: SK AZ Kylešovice-TU Ostrava
END:VEVENT
BEGIN:VEVENT
UID:66643863-3130-4932-a439-623164663934
DTSTAMP:20260423T070855Z
DESCRIPTION:24/96 SK AZ Kylešovice - TU Ostrava 0:3 (-10\,-22\,-21)
DTSTART;TZID=Europe/Berlin:20240120T140000
DTEND;TZID=Europe/Berlin:20240120T160000
LOCATION:Sportovní hala Obchodní akademie\, Hany Kvapilové 1656 Opava - Pře
 dměstí
SUMMARY:MS-M: SK AZ Kylešovice-TU Ostrava
END:VEVENT
BEGIN:VEVENT
UID:61623864-3839-4737-b934-346163663230
DTSTAMP:20260423T070855Z
DESCRIPTION:27/107 TJ Hlučín - TU Ostrava 0:3 (-22\,-20\,-23)
DTSTART;TZID=Europe/Berlin:20240210T110000
DTEND;TZID=Europe/Berlin:20240210T130000
LOCATION:Sportovní hala\, Tyršova 1668 Hlučín
SUMMARY:MS-M: TJ Hlučín-TU Ostrava
END:VEVENT
BEGIN:VEVENT
UID:37343533-3839-4234-b161-373135326231
DTSTAMP:20260423T070855Z
DESCRIPTION:28/111 TJ Hlučín - TU Ostrava 0:3 (-18\,-18\,-18)
DTSTART;TZID=Europe/Berlin:20240210T150000
DTEND;TZID=Europe/Berlin:20240210T170000
LOCATION:Sportovní hala\, Tyršova 1668 Hlučín
SUMMARY:MS-M: TJ Hlučín-TU Ostrava
END:VEVENT
BEGIN:VEVENT
UID:62646565-6232-4233-b137-336463306338
DTSTAMP:20260423T070855Z
DESCRIPTION:1/2 TU Ostrava - Kojetín C 0:3 (-16\,-14\,-19)
DTSTART;TZID=Europe/Berlin:20240420T120000
DTEND;TZID=Europe/Berlin:20240420T140000
LOCATION:Volejbalová hala \, U Koupaliště 1734 Choceň
SUMMARY:2-M-KC: TU Ostrava-Kojetín C
END:VEVENT
BEGIN:VEVENT
UID:32306537-3563-4134-a361-646438323361
DTSTAMP:20260423T070855Z
DESCRIPTION:3/5 TU Ostrava - LI Brno 3:1 (20\,16\,-19\,19)
DTSTART;TZID=Europe/Berlin:20240421T100000
DTEND;TZID=Europe/Berlin:20240421T120000
LOCATION:Volejbalová hala \, U Koupaliště 1734 Choceň
SUMMARY:2-M-KC: TU Ostrava-LI Brno
END:VEVENT
BEGIN:VEVENT
UID:36313638-6164-4531-b637-343439303333
DTSTAMP:20260423T070855Z
DESCRIPTION:2/4 Choceň - TU Ostrava 1:3 (-19\,22\,-18\,-22)
DTSTART;TZID=Europe/Berlin:20240420T170000
DTEND;TZID=Europe/Berlin:20240420T190000
LOCATION:Volejbalová hala \, U Koupaliště 1734 Choceň
SUMMARY:2-M-KC: Choceň-TU Ostrava
END:VEVENT
END:VCALENDAR
