BEGIN:VCALENDAR
VERSION:2.0
PRODID:-//Volejbal Aš - Klokani z.s. "B"82612//NONSGML kigkonsult.se iCalcreator 2.41.80//
CALSCALE:GREGORIAN
UID:36613631-6463-4838-b663-353335366538
BEGIN:VEVENT
UID:38653364-3233-4238-b165-383637323235
DTSTAMP:20260422T183126Z
DESCRIPTION:2/2 Volejbalový sportovní klub Tatran Kraslice - Volejbal Aš - 
 Klokani z.s. 'B' 1:2 (21\,-14\,-15)
DTSTART;TZID=Europe/Berlin:20231008T110000
DTEND;TZID=Europe/Berlin:20231008T130000
LOCATION:sokolovna\, Tyršova 168 Kraslice
SUMMARY:KV-U16Z-A: Volejbalový sportovní klub Tatran Kraslice-Volejbal Aš -
  Klokani z.s. 'B'
END:VEVENT
BEGIN:VEVENT
UID:39306662-3462-4635-b636-356366663533
DTSTAMP:20260422T183126Z
DESCRIPTION:3/3 Karlovy Vary - Volejbal Aš - Klokani z.s. 'B' 2:0 (5\,14)
DTSTART;TZID=Europe/Berlin:20231008T130000
DTEND;TZID=Europe/Berlin:20231008T150000
LOCATION:Mattoni Arena Hala míčových sportů\, Západní 1812 Karlovy Vary
SUMMARY:KV-U16Z-A: Karlovy Vary-Volejbal Aš - Klokani z.s. 'B'
END:VEVENT
BEGIN:VEVENT
UID:31343836-6465-4634-a130-303862383539
DTSTAMP:20260422T183126Z
DESCRIPTION:1/2 Chodov - Volejbal Aš - Klokani z.s. 'B' 2:0 (8\,12)
DTSTART;TZID=Europe/Berlin:20231008T150000
DTEND;TZID=Europe/Berlin:20231008T170000
LOCATION:Městská sportovní hala Chodov\, Tyršova 1201 Chodov
SUMMARY:KV-U16Z-ABCD: Chodov-Volejbal Aš - Klokani z.s. 'B'
END:VEVENT
BEGIN:VEVENT
UID:64313762-3832-4035-b732-653238323837
DTSTAMP:20260422T183126Z
DESCRIPTION:1/6 Volejbal Aš - Klokani z.s. 'B' - Volejbalový klub Karlovy V
 ary z.s. 'C' 0:2 (-8\,-13)
DTSTART;TZID=Europe/Berlin:20231112T120000
DTEND;TZID=Europe/Berlin:20231112T140000
LOCATION:Sportovní hala Textilka\, Gustava Geipela 2713 Aš
SUMMARY:KV-U16Z-1B: Volejbal Aš - Klokani z.s. 'B'-Volejbalový klub Karlovy
  Vary z.s. 'C'
END:VEVENT
BEGIN:VEVENT
UID:36333063-3633-4133-a464-376238613330
DTSTAMP:20260422T183126Z
DESCRIPTION:1/2 Volejbalový klub Karlovy Vary z.s. “E” - Volejbal Aš - Klok
 ani z.s. 'B' 2:0 (11\,14)
DTSTART;TZID=Europe/Berlin:20231112T120000
DTEND;TZID=Europe/Berlin:20231112T140000
LOCATION:Mattoni Arena Hala míčových sportů\, Západní 1812 Karlovy Vary
SUMMARY:KV-U16Z-1B: Volejbalový klub Karlovy Vary z.s. “E”-Volejbal Aš - Kl
 okani z.s. 'B'
END:VEVENT
BEGIN:VEVENT
UID:30333564-3862-4662-a639-666632633263
DTSTAMP:20260422T183126Z
DESCRIPTION:1/3 BVC Chodov 'B' - Volejbal Aš - Klokani z.s. 'B' 2:0 (19\,22
 )
DTSTART;TZID=Europe/Berlin:20231112T120000
DTEND;TZID=Europe/Berlin:20231112T140000
LOCATION:Městská sportovní hala Chodov\, Tyršova 1201 Chodov
SUMMARY:KV-U16Z-1B: BVC Chodov 'B'-Volejbal Aš - Klokani z.s. 'B'
END:VEVENT
BEGIN:VEVENT
UID:35306365-3265-4534-b665-376432626564
DTSTAMP:20260422T183126Z
DESCRIPTION:1/1 Volejbal Aš - Klokani z.s. 'B' - VK Ostrov - Karlovarsko 2:
 1 (-16\,23\,12)
DTSTART;TZID=Europe/Berlin:20240106T090000
DTEND;TZID=Europe/Berlin:20240106T110000
LOCATION:Sportovní hala Textilka\, Gustava Geipela 2713 Aš
SUMMARY:KV-U16Z-2C: Volejbal Aš - Klokani z.s. 'B'-VK Ostrov - Karlovarsko
END:VEVENT
BEGIN:VEVENT
UID:30323034-3430-4432-a164-626133396536
DTSTAMP:20260422T183126Z
DESCRIPTION:1/4 Volejbal Aš - Klokani z.s. 'B' - Volejbalový sportovní klub
  Tatran Kraslice 0:2 (-15\,-14)
DTSTART;TZID=Europe/Berlin:20240106T090000
DTEND;TZID=Europe/Berlin:20240106T110000
LOCATION:Sportovní hala Textilka\, Gustava Geipela 2713 Aš
SUMMARY:KV-U16Z-2C: Volejbal Aš - Klokani z.s. 'B'-Volejbalový sportovní kl
 ub Tatran Kraslice
END:VEVENT
BEGIN:VEVENT
UID:36663461-3364-4534-b563-303735333936
DTSTAMP:20260422T183126Z
DESCRIPTION:1/6 Volejbalový klub Karlovy Vary z.s. 'D' - Volejbal Aš - Klok
 ani z.s. 'B' 2:0 (14\,27)
DTSTART;TZID=Europe/Berlin:20240106T090000
DTEND;TZID=Europe/Berlin:20240106T110000
LOCATION:Mattoni Arena Hala míčových sportů\, Západní 1812 Karlovy Vary
SUMMARY:KV-U16Z-2C: Volejbalový klub Karlovy Vary z.s. 'D'-Volejbal Aš - Kl
 okani z.s. 'B'
END:VEVENT
BEGIN:VEVENT
UID:65633166-6661-4962-b465-623031633636
DTSTAMP:20260422T183126Z
DESCRIPTION:1/6 Volejbal Aš - Klokani z.s. 'B' - BVC Chodov 'B' 1:2 (-9\,20
 \,-10)
DTSTART;TZID=Europe/Berlin:20240225T090000
DTEND;TZID=Europe/Berlin:20240225T110000
LOCATION:Sportovní hala Textilka\, Gustava Geipela 2713 Aš
SUMMARY:KV-U16Z-3C: Volejbal Aš - Klokani z.s. 'B'-BVC Chodov 'B'
END:VEVENT
BEGIN:VEVENT
UID:30326133-3464-4031-b036-313434613863
DTSTAMP:20260422T183126Z
DESCRIPTION:1/2 Volejbalový sportovní klub Tatran Kraslice - Volejbal Aš - 
 Klokani z.s. 'B' 2:0 (24\,21)
DTSTART;TZID=Europe/Berlin:20240225T090000
DTEND;TZID=Europe/Berlin:20240225T110000
LOCATION:sokolovna\, Tyršova 168 Kraslice
SUMMARY:KV-U16Z-3C: Volejbalový sportovní klub Tatran Kraslice-Volejbal Aš 
 - Klokani z.s. 'B'
END:VEVENT
BEGIN:VEVENT
UID:63363766-6533-4432-b030-393463613635
DTSTAMP:20260422T183126Z
DESCRIPTION:1/3 VK Ostrov - Karlovarsko - Volejbal Aš - Klokani z.s. 'B' 2:
 0 (18\,18)
DTSTART;TZID=Europe/Berlin:20240225T090000
DTEND;TZID=Europe/Berlin:20240225T110000
LOCATION:Mattoni Arena Hala míčových sportů\, Západní 1812 Karlovy Vary
SUMMARY:KV-U16Z-3C: VK Ostrov - Karlovarsko-Volejbal Aš - Klokani z.s. 'B'
END:VEVENT
END:VCALENDAR
