BEGIN:VCALENDAR
VERSION:2.0
PRODID:-//Volejbalový klub Karlovy Vary z.s. "D"82618//NONSGML kigkonsult.se iCalcreator 2.41.80//
CALSCALE:GREGORIAN
UID:32643261-6332-4261-a332-316161313539
BEGIN:VEVENT
UID:62663538-6361-4536-b961-643966613239
DTSTAMP:20260422T191408Z
DESCRIPTION:1/1 Volejbalový klub Karlovy Vary z.s. 'B' - Volejbalový klub K
 arlovy Vary z.s. 'D' 2:0 (3\,13)
DTSTART;TZID=Europe/Berlin:20231008T100000
DTEND;TZID=Europe/Berlin:20231008T120000
LOCATION:Mattoni Arena Hala míčových sportů\, Západní 1812 Karlovy Vary
SUMMARY:KV-U16Z-D: Volejbalový klub Karlovy Vary z.s. 'B'-Volejbalový klub 
 Karlovy Vary z.s. 'D'
END:VEVENT
BEGIN:VEVENT
UID:32363839-3864-4836-a337-636538626138
DTSTAMP:20260422T191408Z
DESCRIPTION:2/2 BVC Chodov 'B' - Volejbalový klub Karlovy Vary z.s. 'D' 2:0
  (9\,19)
DTSTART;TZID=Europe/Berlin:20231008T120000
DTEND;TZID=Europe/Berlin:20231008T140000
LOCATION:Městská sportovní hala Chodov\, Tyršova 1201 Chodov
SUMMARY:KV-U16Z-D: BVC Chodov 'B'-Volejbalový klub Karlovy Vary z.s. 'D'
END:VEVENT
BEGIN:VEVENT
UID:64353462-3839-4537-b335-646666346635
DTSTAMP:20260422T191408Z
DESCRIPTION:1/2 Volejbalový klub Karlovy Vary z.s. 'D' - VK Ostrov - Karlov
 arsko 2:0 (21\,11)
DTSTART;TZID=Europe/Berlin:20231112T150000
DTEND;TZID=Europe/Berlin:20231112T170000
LOCATION:Mattoni Arena Hala míčových sportů\, Západní 1812 Karlovy Vary
SUMMARY:KV-U16Z-1C: Volejbalový klub Karlovy Vary z.s. 'D'-VK Ostrov - Karl
 ovarsko
END:VEVENT
BEGIN:VEVENT
UID:38383237-6265-4337-b336-363135313861
DTSTAMP:20260422T191408Z
DESCRIPTION:1/5 Volejbalový klub Karlovy Vary z.s. 'D' - Volejbalový sporto
 vní klub Tatran Kraslice 1:2 (17\,-16\,-12)
DTSTART;TZID=Europe/Berlin:20231112T150000
DTEND;TZID=Europe/Berlin:20231112T170000
LOCATION:Mattoni Arena Hala míčových sportů\, Západní 1812 Karlovy Vary
SUMMARY:KV-U16Z-1C: Volejbalový klub Karlovy Vary z.s. 'D'-Volejbalový spor
 tovní klub Tatran Kraslice
END:VEVENT
BEGIN:VEVENT
UID:64333036-3666-4164-b236-656138656130
DTSTAMP:20260422T191408Z
DESCRIPTION:1/4 Volejbal Aš - Klokani z.s. 'A' - Volejbalový klub Karlovy V
 ary z.s. 'D' 2:0 (25\,13)
DTSTART;TZID=Europe/Berlin:20231112T150000
DTEND;TZID=Europe/Berlin:20231112T170000
LOCATION:Sportovní hala Textilka\, Gustava Geipela 2713 Aš
SUMMARY:KV-U16Z-1C: Volejbal Aš - Klokani z.s. 'A'-Volejbalový klub Karlovy
  Vary z.s. 'D'
END:VEVENT
BEGIN:VEVENT
UID:65383362-3939-4632-a664-346232323161
DTSTAMP:20260422T191408Z
DESCRIPTION:1/6 Volejbalový klub Karlovy Vary z.s. 'D' - Volejbal Aš - Klok
 ani z.s. 'B' 2:0 (14\,27)
DTSTART;TZID=Europe/Berlin:20240106T090000
DTEND;TZID=Europe/Berlin:20240106T110000
LOCATION:Mattoni Arena Hala míčových sportů\, Západní 1812 Karlovy Vary
SUMMARY:KV-U16Z-2C: Volejbalový klub Karlovy Vary z.s. 'D'-Volejbal Aš - Kl
 okani z.s. 'B'
END:VEVENT
BEGIN:VEVENT
UID:30356132-3030-4562-a563-386366336638
DTSTAMP:20260422T191408Z
DESCRIPTION:1/2 Volejbalový sportovní klub Tatran Kraslice - Volejbalový kl
 ub Karlovy Vary z.s. 'D' 0:2 (-23\,-20)
DTSTART;TZID=Europe/Berlin:20240106T090000
DTEND;TZID=Europe/Berlin:20240106T110000
LOCATION:sokolovna\, Tyršova 168 Kraslice
SUMMARY:KV-U16Z-2C: Volejbalový sportovní klub Tatran Kraslice-Volejbalový 
 klub Karlovy Vary z.s. 'D'
END:VEVENT
BEGIN:VEVENT
UID:37306130-3032-4631-b861-663331393835
DTSTAMP:20260422T191408Z
DESCRIPTION:1/3 VK Ostrov - Karlovarsko - Volejbalový klub Karlovy Vary z.s
 . 'D' 0:2 (-17\,-21)
DTSTART;TZID=Europe/Berlin:20240106T090000
DTEND;TZID=Europe/Berlin:20240106T110000
LOCATION:Mattoni Arena Hala míčových sportů\, Západní 1812 Karlovy Vary
SUMMARY:KV-U16Z-2C: VK Ostrov - Karlovarsko-Volejbalový klub Karlovy Vary z
 .s. 'D'
END:VEVENT
BEGIN:VEVENT
UID:63313866-3462-4138-a630-353966326162
DTSTAMP:20260422T191408Z
DESCRIPTION:1/3 Volejbalový klub Karlovy Vary z.s. 'D' - Volejbal Aš - Klok
 ani z.s. 'A' 0:2 (-14\,-15)
DTSTART;TZID=Europe/Berlin:20240225T090000
DTEND;TZID=Europe/Berlin:20240225T110000
LOCATION:Mattoni Arena Hala míčových sportů\, Západní 1812 Karlovy Vary
SUMMARY:KV-U16Z-3B: Volejbalový klub Karlovy Vary z.s. 'D'-Volejbal Aš - Kl
 okani z.s. 'A'
END:VEVENT
BEGIN:VEVENT
UID:61313831-6136-4738-b839-343738306364
DTSTAMP:20260422T191408Z
DESCRIPTION:1/1 Volejbalový klub Karlovy Vary z.s. “E” - Volejbalový klub K
 arlovy Vary z.s. 'D' 2:0 (12\,21)
DTSTART;TZID=Europe/Berlin:20240225T090000
DTEND;TZID=Europe/Berlin:20240225T110000
LOCATION:Mattoni Arena Hala míčových sportů\, Západní 1812 Karlovy Vary
SUMMARY:KV-U16Z-3B: Volejbalový klub Karlovy Vary z.s. “E”-Volejbalový klub
  Karlovy Vary z.s. 'D'
END:VEVENT
BEGIN:VEVENT
UID:37313332-3864-4337-b033-333830613863
DTSTAMP:20260422T191408Z
DESCRIPTION:1/5 Volejbalový klub Karlovy Vary z.s. 'C' - Volejbalový klub K
 arlovy Vary z.s. 'D' 2:1 (10\,-20\,9)
DTSTART;TZID=Europe/Berlin:20240225T090000
DTEND;TZID=Europe/Berlin:20240225T110000
LOCATION:Mattoni Arena Hala míčových sportů\, Západní 1812 Karlovy Vary
SUMMARY:KV-U16Z-3B: Volejbalový klub Karlovy Vary z.s. 'C'-Volejbalový klub
  Karlovy Vary z.s. 'D'
END:VEVENT
END:VCALENDAR
