BEGIN:VCALENDAR
VERSION:2.0
PRODID:-//VK Karlovy Vary A82633//NONSGML kigkonsult.se iCalcreator 2.41.80//
CALSCALE:GREGORIAN
UID:31363061-3335-4439-b031-333833306163
BEGIN:VEVENT
UID:61366363-3733-4062-b264-353137663434
DTSTAMP:20260422T033908Z
DESCRIPTION:5/10 VK Karlovy Vary A - VSK Spartak Děčín 2:0 (14\,15)
DTSTART;TZID=Europe/Berlin:20230923T133000
DTEND;TZID=Europe/Berlin:20230923T153000
LOCATION:Mattoni Arena Hala míčových sportů\, Západní 1812 Karlovy Vary
SUMMARY:CP-U16Z-Z1B: VK Karlovy Vary A-VSK Spartak Děčín
END:VEVENT
BEGIN:VEVENT
UID:36386636-3933-4538-b737-303964393832
DTSTAMP:20260422T033908Z
DESCRIPTION:1/2 BVC Chodov - VK Karlovy Vary A 0:2 (-15\,-18)
DTSTART;TZID=Europe/Berlin:20230923T090000
DTEND;TZID=Europe/Berlin:20230923T110000
LOCATION:Městská sportovní hala Chodov\, Tyršova 1201 Chodov
SUMMARY:CP-U16Z-Z1B: BVC Chodov-VK Karlovy Vary A
END:VEVENT
BEGIN:VEVENT
UID:66666235-3166-4662-b633-633964663866
DTSTAMP:20260422T033908Z
DESCRIPTION:2/4 VK Tuchlovice - VK Karlovy Vary A 0:2 (-16\,-12)
DTSTART;TZID=Europe/Berlin:20230923T100000
DTEND;TZID=Europe/Berlin:20230923T120000
LOCATION:Přetlaková sportovní hala Brjanská\, Severní 3127 Kladno
SUMMARY:CP-U16Z-Z1B: VK Tuchlovice-VK Karlovy Vary A
END:VEVENT
BEGIN:VEVENT
UID:61623837-6532-4564-a131-643764313062
DTSTAMP:20260422T033908Z
DESCRIPTION:4/8 Radotín - VK Karlovy Vary A 0:2 (-9\,-19)
DTSTART;TZID=Europe/Berlin:20230923T123000
DTEND;TZID=Europe/Berlin:20230923T143000
LOCATION:Sportovní hala Radotín\, U starého stadiónu 1585 Praha - Radotín
SUMMARY:CP-U16Z-Z1B: Radotín-VK Karlovy Vary A
END:VEVENT
BEGIN:VEVENT
UID:30616363-3730-4566-b231-363065333332
DTSTAMP:20260422T033908Z
DESCRIPTION:9/17 PVK Olymp Praha - VK Karlovy Vary A 0:2 (-14\,-17)
DTSTART;TZID=Europe/Berlin:20230924T100000
DTEND;TZID=Europe/Berlin:20230924T120000
LOCATION:VCM OLYMP PRAHA \, Radlická 115 Praha - Radlice
SUMMARY:CP-U16Z-Z1B: PVK Olymp Praha-VK Karlovy Vary A
END:VEVENT
BEGIN:VEVENT
UID:31616134-3262-4562-b138-666539663462
DTSTAMP:20260422T033908Z
DESCRIPTION:11/21 VSK Baník Sokolov - VK Karlovy Vary A 0:2 (-15\,-19)
DTSTART;TZID=Europe/Berlin:20230924T120000
DTEND;TZID=Europe/Berlin:20230924T140000
LOCATION:Jiskra\, Maxima Gorkého 280 Sokolov
SUMMARY:CP-U16Z-Z1B: VSK Baník Sokolov-VK Karlovy Vary A
END:VEVENT
BEGIN:VEVENT
UID:36363431-3736-4964-b134-373666316164
DTSTAMP:20260422T033908Z
DESCRIPTION:1/1 VK Karlovy Vary A - Mikulova B 2:1 (18\,-19\,9)
DTSTART;TZID=Europe/Berlin:20231014T090000
DTEND;TZID=Europe/Berlin:20231014T110000
LOCATION:Mattoni Arena Hala míčových sportů\, Západní 1812 Karlovy Vary
SUMMARY:CP-U16Z-Z2A: VK Karlovy Vary A-Mikulova B
END:VEVENT
BEGIN:VEVENT
UID:63333234-6461-4634-b536-353631326164
DTSTAMP:20260422T033908Z
DESCRIPTION:2/3 VK Karlovy Vary A - VK Dukla Liberec 2:1 (-22\,19\,12)
DTSTART;TZID=Europe/Berlin:20231014T102000
DTEND;TZID=Europe/Berlin:20231014T122000
LOCATION:Mattoni Arena Hala míčových sportů\, Západní 1812 Karlovy Vary
SUMMARY:CP-U16Z-Z2A: VK Karlovy Vary A-VK Dukla Liberec
END:VEVENT
BEGIN:VEVENT
UID:31353132-3032-4033-a365-656337663566
DTSTAMP:20260422T033908Z
DESCRIPTION:4/7 VK Karlovy Vary A - Mikulova A 2:0 (15\,10)
DTSTART;TZID=Europe/Berlin:20231014T130000
DTEND;TZID=Europe/Berlin:20231014T150000
LOCATION:Mattoni Arena Hala míčových sportů\, Západní 1812 Karlovy Vary
SUMMARY:CP-U16Z-Z2A: VK Karlovy Vary A-Mikulova A
END:VEVENT
BEGIN:VEVENT
UID:37303665-3937-4664-a231-316539633937
DTSTAMP:20260422T033908Z
DESCRIPTION:6/11 VK Karlovy Vary A - Volleyball Nymburk 2:0 (19\,19)
DTSTART;TZID=Europe/Berlin:20231014T154000
DTEND;TZID=Europe/Berlin:20231014T174000
LOCATION:Mattoni Arena Hala míčových sportů\, Západní 1812 Karlovy Vary
SUMMARY:CP-U16Z-Z2A: VK Karlovy Vary A-Volleyball Nymburk
END:VEVENT
BEGIN:VEVENT
UID:64373436-6261-4634-b531-643230326464
DTSTAMP:20260422T033908Z
DESCRIPTION:8/15 VK Karlovy Vary A - TJ Orion Praha 2:0 (13\,20)
DTSTART;TZID=Europe/Berlin:20231015T083000
DTEND;TZID=Europe/Berlin:20231015T103000
LOCATION:Mattoni Arena Hala míčových sportů\, Západní 1812 Karlovy Vary
SUMMARY:CP-U16Z-Z2A: VK Karlovy Vary A-TJ Orion Praha
END:VEVENT
BEGIN:VEVENT
UID:33633662-6665-4638-b231-373834346336
DTSTAMP:20260422T033908Z
DESCRIPTION:10/19 VK Karlovy Vary A - SK Kometa Praha 2:0 (14\,18)
DTSTART;TZID=Europe/Berlin:20231015T111000
DTEND;TZID=Europe/Berlin:20231015T131000
LOCATION:Mattoni Arena Hala míčových sportů\, Západní 1812 Karlovy Vary
SUMMARY:CP-U16Z-Z2A: VK Karlovy Vary A-SK Kometa Praha
END:VEVENT
BEGIN:VEVENT
UID:61366333-3636-4466-b235-666237616262
DTSTAMP:20260422T033908Z
DESCRIPTION:2/3 VK Karlovy Vary A - SK Volejbal Klatovy 2:0 (4\,16)
DTSTART;TZID=Europe/Berlin:20231117T113000
DTEND;TZID=Europe/Berlin:20231117T133000
LOCATION:Mattoni Arena Hala míčových sportů\, Západní 1812 Karlovy Vary
SUMMARY:CP-U16Z-Z3A: VK Karlovy Vary A-SK Volejbal Klatovy
END:VEVENT
BEGIN:VEVENT
UID:34396161-6631-4731-a531-633838313832
DTSTAMP:20260422T033908Z
DESCRIPTION:5/10 VK Karlovy Vary A - Volleyball Nymburk 0:2 (-17\,-21)
DTSTART;TZID=Europe/Berlin:20231117T160000
DTEND;TZID=Europe/Berlin:20231117T180000
LOCATION:Mattoni Arena Hala míčových sportů\, Západní 1812 Karlovy Vary
SUMMARY:CP-U16Z-Z3A: VK Karlovy Vary A-Volleyball Nymburk
END:VEVENT
BEGIN:VEVENT
UID:36386266-3639-4166-b532-613966303666
DTSTAMP:20260422T033908Z
DESCRIPTION:10/19 VK Karlovy Vary A - TJ Orion Praha 0:2 (-15\,-15)
DTSTART;TZID=Europe/Berlin:20231118T124500
DTEND;TZID=Europe/Berlin:20231118T144500
LOCATION:Mattoni Arena Hala míčových sportů\, Západní 1812 Karlovy Vary
SUMMARY:CP-U16Z-Z3A: VK Karlovy Vary A-TJ Orion Praha
END:VEVENT
BEGIN:VEVENT
UID:37323465-3933-4862-a530-363139626166
DTSTAMP:20260422T033908Z
DESCRIPTION:3/6 Mikulova B - VK Karlovy Vary A 0:2 (-20\,-19)
DTSTART;TZID=Europe/Berlin:20231117T130000
DTEND;TZID=Europe/Berlin:20231117T150000
LOCATION:tělocvičny ZŠ Mikulova\, Mikulova 1594 Praha - Chodov
SUMMARY:CP-U16Z-Z3A: Mikulova B-VK Karlovy Vary A
END:VEVENT
BEGIN:VEVENT
UID:33396465-3430-4734-b233-343561396530
DTSTAMP:20260422T033908Z
DESCRIPTION:6/11 VK Dukla Liberec - VK Karlovy Vary A 0:2 (-14\,-21)
DTSTART;TZID=Europe/Berlin:20231117T173000
DTEND;TZID=Europe/Berlin:20231117T193000
LOCATION:Dukla Liberec\, Jeronýmova 558 Liberec - Liberec VII-Horní Růžodol
SUMMARY:CP-U16Z-Z3A: VK Dukla Liberec-VK Karlovy Vary A
END:VEVENT
BEGIN:VEVENT
UID:37613532-6366-4132-b535-383531613838
DTSTAMP:20260422T033908Z
DESCRIPTION:9/17 PVK Olymp Praha - VK Karlovy Vary A 0:2 (-20\,-16)
DTSTART;TZID=Europe/Berlin:20231118T113000
DTEND;TZID=Europe/Berlin:20231118T133000
LOCATION:VCM OLYMP PRAHA \, Radlická 115 Praha - Radlice
SUMMARY:CP-U16Z-Z3A: PVK Olymp Praha-VK Karlovy Vary A
END:VEVENT
BEGIN:VEVENT
UID:63636435-6332-4536-b036-646538323938
DTSTAMP:20260422T033908Z
DESCRIPTION:1/3 VK Karlovy Vary A - VK Dukla Liberec 2:0 (22\,13)
DTSTART;TZID=Europe/Berlin:20240127T090000
DTEND;TZID=Europe/Berlin:20240127T110000
LOCATION:Mattoni Arena Hala míčových sportů\, Západní 1812 Karlovy Vary
SUMMARY:CP-U16Z-F1A: VK Karlovy Vary A-VK Dukla Liberec
END:VEVENT
BEGIN:VEVENT
UID:36323665-3530-4338-b962-323736333065
DTSTAMP:20260422T033908Z
DESCRIPTION:2/7 VK Karlovy Vary A - TJ Slavia Hradec Králové 2:0 (23\,22)
DTSTART;TZID=Europe/Berlin:20240127T103000
DTEND;TZID=Europe/Berlin:20240127T123000
LOCATION:Mattoni Arena Hala míčových sportů\, Západní 1812 Karlovy Vary
SUMMARY:CP-U16Z-F1A: VK Karlovy Vary A-TJ Slavia Hradec Králové
END:VEVENT
BEGIN:VEVENT
UID:34333331-3337-4131-a436-613862306334
DTSTAMP:20260422T033908Z
DESCRIPTION:3/11 VK Karlovy Vary A - KP Brno A 2:0 (25\,19)
DTSTART;TZID=Europe/Berlin:20240127T130000
DTEND;TZID=Europe/Berlin:20240127T150000
LOCATION:Mattoni Arena Hala míčových sportů\, Západní 1812 Karlovy Vary
SUMMARY:CP-U16Z-F1A: VK Karlovy Vary A-KP Brno A
END:VEVENT
BEGIN:VEVENT
UID:35336339-3532-4563-b739-356365646231
DTSTAMP:20260422T033908Z
DESCRIPTION:4/15 VK Karlovy Vary A - Volleyball Nymburk 1:2 (18\,-17\,-7)
DTSTART;TZID=Europe/Berlin:20240127T143000
DTEND;TZID=Europe/Berlin:20240127T163000
LOCATION:Mattoni Arena Hala míčových sportů\, Západní 1812 Karlovy Vary
SUMMARY:CP-U16Z-F1A: VK Karlovy Vary A-Volleyball Nymburk
END:VEVENT
BEGIN:VEVENT
UID:35656434-3639-4138-b465-363039313162
DTSTAMP:20260422T033908Z
DESCRIPTION:5/19 VK Karlovy Vary A - TJ Orion Praha 1:2 (-23\,19\,-8)
DTSTART;TZID=Europe/Berlin:20240128T083000
DTEND;TZID=Europe/Berlin:20240128T103000
LOCATION:Mattoni Arena Hala míčových sportů\, Západní 1812 Karlovy Vary
SUMMARY:CP-U16Z-F1A: VK Karlovy Vary A-TJ Orion Praha
END:VEVENT
BEGIN:VEVENT
UID:32616435-6332-4261-a334-323038636135
DTSTAMP:20260422T033908Z
DESCRIPTION:6/23 VK Karlovy Vary A - VK Prostějov 2:0 (22\,11)
DTSTART;TZID=Europe/Berlin:20240128T100000
DTEND;TZID=Europe/Berlin:20240128T120000
LOCATION:Mattoni Arena Hala míčových sportů\, Západní 1812 Karlovy Vary
SUMMARY:CP-U16Z-F1A: VK Karlovy Vary A-VK Prostějov
END:VEVENT
BEGIN:VEVENT
UID:63313837-3830-4265-b435-303331656530
DTSTAMP:20260422T033908Z
DESCRIPTION:7/27 VK Karlovy Vary A - VO TJ Lanškroun A 2:0 (19\,11)
DTSTART;TZID=Europe/Berlin:20240128T113000
DTEND;TZID=Europe/Berlin:20240128T133000
LOCATION:Mattoni Arena Hala míčových sportů\, Západní 1812 Karlovy Vary
SUMMARY:CP-U16Z-F1A: VK Karlovy Vary A-VO TJ Lanškroun A
END:VEVENT
BEGIN:VEVENT
UID:65633362-3937-4330-b963-653631383833
DTSTAMP:20260422T033908Z
DESCRIPTION:1/3 VK Karlovy Vary A - VK Dukla Liberec 1:2 (19\,-14\,-6)
DTSTART;TZID=Europe/Berlin:20240217T090000
DTEND;TZID=Europe/Berlin:20240217T110000
LOCATION:Mattoni Arena Hala míčových sportů\, Západní 1812 Karlovy Vary
SUMMARY:CP-U16Z-F2A: VK Karlovy Vary A-VK Dukla Liberec
END:VEVENT
BEGIN:VEVENT
UID:36636133-6561-4733-b933-353531356631
DTSTAMP:20260422T033908Z
DESCRIPTION:2/7 VK Karlovy Vary A - TJ Slavia Hradec Králové 2:0 (21\,10)
DTSTART;TZID=Europe/Berlin:20240217T103000
DTEND;TZID=Europe/Berlin:20240217T123000
LOCATION:Mattoni Arena Hala míčových sportů\, Západní 1812 Karlovy Vary
SUMMARY:CP-U16Z-F2A: VK Karlovy Vary A-TJ Slavia Hradec Králové
END:VEVENT
BEGIN:VEVENT
UID:64663738-3839-4665-b533-353939343035
DTSTAMP:20260422T033908Z
DESCRIPTION:3/11 VK Karlovy Vary A - KP Brno A 2:1 (-19\,14\,11)
DTSTART;TZID=Europe/Berlin:20240217T124500
DTEND;TZID=Europe/Berlin:20240217T144500
LOCATION:Mattoni Arena Hala míčových sportů\, Západní 1812 Karlovy Vary
SUMMARY:CP-U16Z-F2A: VK Karlovy Vary A-KP Brno A
END:VEVENT
BEGIN:VEVENT
UID:61313262-3836-4636-b132-653038336630
DTSTAMP:20260422T033908Z
DESCRIPTION:4/15 VK Karlovy Vary A - Volleyball Nymburk 2:0 (19\,22)
DTSTART;TZID=Europe/Berlin:20240217T141500
DTEND;TZID=Europe/Berlin:20240217T161500
LOCATION:Mattoni Arena Hala míčových sportů\, Západní 1812 Karlovy Vary
SUMMARY:CP-U16Z-F2A: VK Karlovy Vary A-Volleyball Nymburk
END:VEVENT
BEGIN:VEVENT
UID:62383039-6666-4236-a163-613561353738
DTSTAMP:20260422T033908Z
DESCRIPTION:5/19 VK Karlovy Vary A - Mikulova B 2:0 (19\,11)
DTSTART;TZID=Europe/Berlin:20240218T083000
DTEND;TZID=Europe/Berlin:20240218T103000
LOCATION:Mattoni Arena Hala míčových sportů\, Západní 1812 Karlovy Vary
SUMMARY:CP-U16Z-F2A: VK Karlovy Vary A-Mikulova B
END:VEVENT
BEGIN:VEVENT
UID:61306530-3033-4132-b636-366335623439
DTSTAMP:20260422T033908Z
DESCRIPTION:6/23 VK Karlovy Vary A - TJ Orion Praha 0:2 (-27\,-21)
DTSTART;TZID=Europe/Berlin:20240218T100000
DTEND;TZID=Europe/Berlin:20240218T120000
LOCATION:Mattoni Arena Hala míčových sportů\, Západní 1812 Karlovy Vary
SUMMARY:CP-U16Z-F2A: VK Karlovy Vary A-TJ Orion Praha
END:VEVENT
BEGIN:VEVENT
UID:36626633-6364-4562-a533-303662613264
DTSTAMP:20260422T033908Z
DESCRIPTION:7/27 VK Karlovy Vary A - PVK Olymp Praha 2:0 (20\,13)
DTSTART;TZID=Europe/Berlin:20240218T113000
DTEND;TZID=Europe/Berlin:20240218T133000
LOCATION:Mattoni Arena Hala míčových sportů\, Západní 1812 Karlovy Vary
SUMMARY:CP-U16Z-F2A: VK Karlovy Vary A-PVK Olymp Praha
END:VEVENT
BEGIN:VEVENT
UID:62643433-3734-4332-b938-373936653137
DTSTAMP:20260422T033908Z
DESCRIPTION:1/3 VK Karlovy Vary A - TJ Ostrava 2:0 (18\,13)
DTSTART;TZID=Europe/Berlin:20240316T090000
DTEND;TZID=Europe/Berlin:20240316T110000
LOCATION:Mattoni Arena Hala míčových sportů\, Západní 1812 Karlovy Vary
SUMMARY:CP-U16Z-F3A: VK Karlovy Vary A-TJ Ostrava
END:VEVENT
BEGIN:VEVENT
UID:61393766-3961-4931-a335-353162653431
DTSTAMP:20260422T033908Z
DESCRIPTION:2/7 VK Karlovy Vary A - PVK Olymp Praha 2:0 (22\,17)
DTSTART;TZID=Europe/Berlin:20240316T103000
DTEND;TZID=Europe/Berlin:20240316T123000
LOCATION:Mattoni Arena Hala míčových sportů\, Západní 1812 Karlovy Vary
SUMMARY:CP-U16Z-F3A: VK Karlovy Vary A-PVK Olymp Praha
END:VEVENT
BEGIN:VEVENT
UID:61333666-3262-4363-a533-323539653336
DTSTAMP:20260422T033908Z
DESCRIPTION:3/11 VK Karlovy Vary A - KP Brno A 2:0 (16\,23)
DTSTART;TZID=Europe/Berlin:20240316T130000
DTEND;TZID=Europe/Berlin:20240316T150000
LOCATION:Mattoni Arena Hala míčových sportů\, Západní 1812 Karlovy Vary
SUMMARY:CP-U16Z-F3A: VK Karlovy Vary A-KP Brno A
END:VEVENT
BEGIN:VEVENT
UID:37363037-6634-4838-b833-663665313565
DTSTAMP:20260422T033908Z
DESCRIPTION:4/15 VK Karlovy Vary A - Volleyball Nymburk 2:0 (23\,21)
DTSTART;TZID=Europe/Berlin:20240316T143000
DTEND;TZID=Europe/Berlin:20240316T163000
LOCATION:Mattoni Arena Hala míčových sportů\, Západní 1812 Karlovy Vary
SUMMARY:CP-U16Z-F3A: VK Karlovy Vary A-Volleyball Nymburk
END:VEVENT
BEGIN:VEVENT
UID:37646632-6236-4438-b366-353433646432
DTSTAMP:20260422T033908Z
DESCRIPTION:5/19 VK Karlovy Vary A - VO TJ Lanškroun A 2:0 (20\,9)
DTSTART;TZID=Europe/Berlin:20240317T090000
DTEND;TZID=Europe/Berlin:20240317T110000
LOCATION:Mattoni Arena Hala míčových sportů\, Západní 1812 Karlovy Vary
SUMMARY:CP-U16Z-F3A: VK Karlovy Vary A-VO TJ Lanškroun A
END:VEVENT
BEGIN:VEVENT
UID:34646133-3632-4462-a337-306631343332
DTSTAMP:20260422T033908Z
DESCRIPTION:6/23 VK Karlovy Vary A - VK Dukla Liberec 1:2 (-19\,27\,-11)
DTSTART;TZID=Europe/Berlin:20240317T103000
DTEND;TZID=Europe/Berlin:20240317T123000
LOCATION:Mattoni Arena Hala míčových sportů\, Západní 1812 Karlovy Vary
SUMMARY:CP-U16Z-F3A: VK Karlovy Vary A-VK Dukla Liberec
END:VEVENT
BEGIN:VEVENT
UID:33626434-6265-4432-b031-376365616562
DTSTAMP:20260422T033908Z
DESCRIPTION:7/27 VK Karlovy Vary A - TJ Orion Praha 0:2 (-15\,-21)
DTSTART;TZID=Europe/Berlin:20240317T120000
DTEND;TZID=Europe/Berlin:20240317T140000
LOCATION:Mattoni Arena Hala míčových sportů\, Západní 1812 Karlovy Vary
SUMMARY:CP-U16Z-F3A: VK Karlovy Vary A-TJ Orion Praha
END:VEVENT
END:VCALENDAR
