BEGIN:VCALENDAR
VERSION:2.0
PRODID:-//VK Karviná, z.s. "A"82641//NONSGML kigkonsult.se iCalcreator 2.41.80//
CALSCALE:GREGORIAN
UID:39363363-6130-4661-a335-326537333237
BEGIN:VEVENT
UID:34623335-3866-4335-b363-633062323361
DTSTAMP:20260422T202413Z
DESCRIPTION:6/6 VK Karviná 'A' - SK Sl. Orlová 'A' 2:0 (17\,18)\no 3.místo
DTSTART;TZID=Europe/Berlin:20231008T163000
DTEND;TZID=Europe/Berlin:20231008T183000
LOCATION:Víceúčelová sportovní hala\,  Raškovice18
SUMMARY:MS-U16Z-KVC: VK Karviná 'A'-SK Sl. Orlová 'A'
END:VEVENT
BEGIN:VEVENT
UID:62353434-3436-4330-a261-623630396363
DTSTAMP:20260422T202413Z
DESCRIPTION:5/2 VK Raškovice - VK Karviná 'A' 2:0 (20\,9)
DTSTART;TZID=Europe/Berlin:20231008T150000
DTEND;TZID=Europe/Berlin:20231008T170000
LOCATION:Víceúčelová sportovní hala\,  Raškovice18
SUMMARY:MS-U16Z-KVC: VK Raškovice-VK Karviná 'A'
END:VEVENT
BEGIN:VEVENT
UID:31653039-3064-4338-b638-353635633632
DTSTAMP:20260422T202413Z
DESCRIPTION:2/2 VK Karviná 'A' - TJ Sokol F-M C 2:0 (17\,16)
DTSTART;TZID=Europe/Berlin:20231008T103000
DTEND;TZID=Europe/Berlin:20231008T123000
LOCATION:Víceúčelová sportovní hala\,  Raškovice18
SUMMARY:MS-U16Z-KVC1: VK Karviná 'A'-TJ Sokol F-M C
END:VEVENT
BEGIN:VEVENT
UID:30336165-6261-4332-b436-653032386137
DTSTAMP:20260422T202413Z
DESCRIPTION:3/3 VK Karviná 'A' - VS Ostrava 'B' 2:0 (8\,13)
DTSTART;TZID=Europe/Berlin:20231008T120000
DTEND;TZID=Europe/Berlin:20231008T140000
LOCATION:Víceúčelová sportovní hala\,  Raškovice18
SUMMARY:MS-U16Z-KVC1: VK Karviná 'A'-VS Ostrava 'B'
END:VEVENT
BEGIN:VEVENT
UID:65643435-3639-4634-a134-323338643437
DTSTAMP:20260422T202413Z
DESCRIPTION:4/5 Ostrava - VK Karviná 'A' 2:0 (3\,7)
DTSTART;TZID=Europe/Berlin:20231008T133000
DTEND;TZID=Europe/Berlin:20231008T153000
LOCATION:Víceúčelová sportovní hala\,  Raškovice18
SUMMARY:MS-U16Z-KVC1: Ostrava-VK Karviná 'A'
END:VEVENT
BEGIN:VEVENT
UID:65343932-6539-4131-a330-326133636661
DTSTAMP:20260422T202413Z
DESCRIPTION:3/5 VK Karviná 'A' - VK Kylešovice 0:2 (-11\,-22)
DTSTART;TZID=Europe/Berlin:20231105T120000
DTEND;TZID=Europe/Berlin:20231105T140000
LOCATION:Tělocvičny ZŠ 17.listopadu Kopřivnice\, 17. listopadu 1225 Kopřivn
 ice
SUMMARY:MS-U16Z-T1C: VK Karviná 'A'-VK Kylešovice
END:VEVENT
BEGIN:VEVENT
UID:63613733-6330-4936-b236-626336316139
DTSTAMP:20260422T202413Z
DESCRIPTION:1/2 TJ Sokol F-M B - VK Karviná 'A' 1:2 (24\,-15\,-6)
DTSTART;TZID=Europe/Berlin:20231105T090000
DTEND;TZID=Europe/Berlin:20231105T110000
LOCATION:Tělocvičny ZŠ 17.listopadu Kopřivnice\, 17. listopadu 1225 Kopřivn
 ice
SUMMARY:MS-U16Z-T1C: TJ Sokol F-M B-VK Karviná 'A'
END:VEVENT
BEGIN:VEVENT
UID:62376439-6535-4662-a137-373431656239
DTSTAMP:20260422T202413Z
DESCRIPTION:2/4 KV Kopřivnice - VK Karviná 'A' 2:1 (-13\,7\,14)
DTSTART;TZID=Europe/Berlin:20231105T103000
DTEND;TZID=Europe/Berlin:20231105T123000
LOCATION:Tělocvičny ZŠ 17.listopadu Kopřivnice\, 17. listopadu 1225 Kopřivn
 ice
SUMMARY:MS-U16Z-T1C: KV Kopřivnice-VK Karviná 'A'
END:VEVENT
BEGIN:VEVENT
UID:64666435-6530-4962-b730-666562636436
DTSTAMP:20260422T202413Z
DESCRIPTION:1/1 VK Karviná 'A' - VAM Havířov 'A' 0:2 (-20\,-18)
DTSTART;TZID=Europe/Berlin:20231126T090000
DTEND;TZID=Europe/Berlin:20231126T110000
LOCATION:Tělocvična ZŠ Družby\, tř. Družby 1383 Karviná - Nové Město
SUMMARY:MS-U16Z-T2D: VK Karviná 'A'-VAM Havířov 'A'
END:VEVENT
BEGIN:VEVENT
UID:33376139-6338-4438-b765-343836636365
DTSTAMP:20260422T202413Z
DESCRIPTION:4/4 VK Karviná 'A' - VkB Frýdlant n.O. 0:2 (-5\,-14)
DTSTART;TZID=Europe/Berlin:20231126T133000
DTEND;TZID=Europe/Berlin:20231126T153000
LOCATION:Tělocvična ZŠ Družby\, tř. Družby 1383 Karviná - Nové Město
SUMMARY:MS-U16Z-T2D: VK Karviná 'A'-VkB Frýdlant n.O.
END:VEVENT
BEGIN:VEVENT
UID:66653035-3536-4837-b632-393837333533
DTSTAMP:20260422T202413Z
DESCRIPTION:6/6 VK Karviná 'A' - TJ Sokol F-M B 2:X
DTSTART;TZID=Europe/Berlin:20231126T163000
DTEND;TZID=Europe/Berlin:20231126T183000
LOCATION:Tělocvična ZŠ Družby\, tř. Družby 1383 Karviná - Nové Město
SUMMARY:MS-U16Z-T2D: VK Karviná 'A'-TJ Sokol F-M B
END:VEVENT
BEGIN:VEVENT
UID:30623063-3234-4162-b737-656332386536
DTSTAMP:20260422T202413Z
DESCRIPTION:1/2 VK Karviná 'A' - ŠSK Bílovec B 0:2 (-18\,-15)
DTSTART;TZID=Europe/Berlin:20231217T090000
DTEND;TZID=Europe/Berlin:20231217T110000
LOCATION:Hala ABC\, Purkyňova 116 Nový Jičín
SUMMARY:MS-U16Z-T3E: VK Karviná 'A'-ŠSK Bílovec B
END:VEVENT
BEGIN:VEVENT
UID:31336666-3232-4161-a164-653462353535
DTSTAMP:20260422T202413Z
DESCRIPTION:2/3 VK Karviná 'A' - SVK NJ B 0:2 (-16\,-17)
DTSTART;TZID=Europe/Berlin:20231217T103000
DTEND;TZID=Europe/Berlin:20231217T123000
LOCATION:Hala ABC\, Purkyňova 116 Nový Jičín
SUMMARY:MS-U16Z-T3E: VK Karviná 'A'-SVK NJ B
END:VEVENT
BEGIN:VEVENT
UID:37343137-3261-4166-b463-626265346535
DTSTAMP:20260422T202413Z
DESCRIPTION:3/5 VK Karviná 'A' - TJ Sokol F-M B 2:1 (21\,-23\,7)
DTSTART;TZID=Europe/Berlin:20231217T120000
DTEND;TZID=Europe/Berlin:20231217T140000
LOCATION:Hala ABC\, Purkyňova 116 Nový Jičín
SUMMARY:MS-U16Z-T3E: VK Karviná 'A'-TJ Sokol F-M B
END:VEVENT
BEGIN:VEVENT
UID:63353865-3866-4737-b137-326231633564
DTSTAMP:20260422T202413Z
DESCRIPTION:1/1 VK Karviná 'A' - VAM Havířov 'B' 2:1 (10\,-22\,9)
DTSTART;TZID=Europe/Berlin:20240114T090000
DTEND;TZID=Europe/Berlin:20240114T110000
LOCATION:Sportovní hala Žákovská\, Komunardů 1548 Havířov - Město
SUMMARY:MS-U16Z-T4F: VK Karviná 'A'-VAM Havířov 'B'
END:VEVENT
BEGIN:VEVENT
UID:35316635-3463-4434-b863-663331636137
DTSTAMP:20260422T202413Z
DESCRIPTION:3/3 VK Karviná 'A' - VS Ostrava 'A' 1:2 (-16\,20\,-7)
DTSTART;TZID=Europe/Berlin:20240114T120000
DTEND;TZID=Europe/Berlin:20240114T140000
LOCATION:Sportovní hala Žákovská\, Komunardů 1548 Havířov - Město
SUMMARY:MS-U16Z-T4F: VK Karviná 'A'-VS Ostrava 'A'
END:VEVENT
BEGIN:VEVENT
UID:32346533-6330-4166-a435-643033366532
DTSTAMP:20260422T202413Z
DESCRIPTION:4/6 VK Karviná 'A' - TJ Sokol F-M B 2:0 (16\,17)
DTSTART;TZID=Europe/Berlin:20240114T133000
DTEND;TZID=Europe/Berlin:20240114T153000
LOCATION:Sportovní hala Žákovská\, Komunardů 1548 Havířov - Město
SUMMARY:MS-U16Z-T4F: VK Karviná 'A'-TJ Sokol F-M B
END:VEVENT
BEGIN:VEVENT
UID:35393237-3330-4635-b137-303462376439
DTSTAMP:20260422T202413Z
DESCRIPTION:1/2 VK Karviná 'A' - VAM Havířov 'B' 2:0 (17\,23)
DTSTART;TZID=Europe/Berlin:20240211T090000
DTEND;TZID=Europe/Berlin:20240211T110000
LOCATION:ZŠ Janáčkovo náměstí 17\, Janáčkovo náměstí 1970 Krnov - Pod Bezru
 čovým vrchem
SUMMARY:MS-U16Z-T5F: VK Karviná 'A'-VAM Havířov 'B'
END:VEVENT
BEGIN:VEVENT
UID:62646336-3261-4363-a534-396561656331
DTSTAMP:20260422T202413Z
DESCRIPTION:2/4 VK Karviná 'A' - TJ Ostrava B 0:2 (-14\,-12)
DTSTART;TZID=Europe/Berlin:20240211T103000
DTEND;TZID=Europe/Berlin:20240211T123000
LOCATION:ZŠ Janáčkovo náměstí 17\, Janáčkovo náměstí 1970 Krnov - Pod Bezru
 čovým vrchem
SUMMARY:MS-U16Z-T5F: VK Karviná 'A'-TJ Ostrava B
END:VEVENT
BEGIN:VEVENT
UID:61663935-3965-4632-a436-613463393965
DTSTAMP:20260422T202413Z
DESCRIPTION:3/5 VO Sl. Orlice - VK Karviná 'A' 0:2 (-17\,-21)
DTSTART;TZID=Europe/Berlin:20240211T120000
DTEND;TZID=Europe/Berlin:20240211T140000
LOCATION:ZŠ Janáčkovo náměstí 17\, Janáčkovo náměstí 1970 Krnov - Pod Bezru
 čovým vrchem
SUMMARY:MS-U16Z-T5F: VO Sl. Orlice-VK Karviná 'A'
END:VEVENT
BEGIN:VEVENT
UID:34653031-3532-4734-b032-636233343630
DTSTAMP:20260422T202413Z
DESCRIPTION:1/2 VK Karviná 'A' - TJ Ostrava B 2:0 (11\,20)
DTSTART;TZID=Europe/Berlin:20240225T090000
DTEND;TZID=Europe/Berlin:20240225T110000
LOCATION:Sportovní hala Gymnázium Orlová\, Masarykova třída 1313 Orlová - L
 utyně
SUMMARY:MS-U16Z-T6F: VK Karviná 'A'-TJ Ostrava B
END:VEVENT
BEGIN:VEVENT
UID:64306239-3065-4163-a133-303933623436
DTSTAMP:20260422T202413Z
DESCRIPTION:2/4 VK Karviná 'A' - TJ Sokol F-M B 0:2 (-25\,-13)
DTSTART;TZID=Europe/Berlin:20240225T103000
DTEND;TZID=Europe/Berlin:20240225T123000
LOCATION:Sportovní hala Gymnázium Orlová\, Masarykova třída 1313 Orlová - L
 utyně
SUMMARY:MS-U16Z-T6F: VK Karviná 'A'-TJ Sokol F-M B
END:VEVENT
BEGIN:VEVENT
UID:63363036-3732-4264-a633-386364626536
DTSTAMP:20260422T202413Z
DESCRIPTION:3/5 SK Sl. Orlová 'A' - VK Karviná 'A' 2:0 (22\,23)
DTSTART;TZID=Europe/Berlin:20240225T120000
DTEND;TZID=Europe/Berlin:20240225T140000
LOCATION:Sportovní hala Gymnázium Orlová\, Masarykova třída 1313 Orlová - L
 utyně
SUMMARY:MS-U16Z-T6F: SK Sl. Orlová 'A'-VK Karviná 'A'
END:VEVENT
BEGIN:VEVENT
UID:33623463-3363-4362-b435-333662643837
DTSTAMP:20260422T202413Z
DESCRIPTION:3/6 VK Karviná 'A' - VS Ostrava 'B' 1:2 (11\,-15\,-13)
DTSTART;TZID=Europe/Berlin:20240324T120000
DTEND;TZID=Europe/Berlin:20240324T140000
LOCATION:ZŠ Janáčkovo náměstí 17\, Janáčkovo náměstí 1970 Krnov - Pod Bezru
 čovým vrchem
SUMMARY:MS-U16Z-T7F: VK Karviná 'A'-VS Ostrava 'B'
END:VEVENT
BEGIN:VEVENT
UID:36333862-6630-4733-b363-653432373864
DTSTAMP:20260422T202413Z
DESCRIPTION:1/2 TJ Sokol F-M B - VK Karviná 'A' 1:2 (23\,-23\,-8)
DTSTART;TZID=Europe/Berlin:20240324T090000
DTEND;TZID=Europe/Berlin:20240324T110000
LOCATION:ZŠ Janáčkovo náměstí 17\, Janáčkovo náměstí 1970 Krnov - Pod Bezru
 čovým vrchem
SUMMARY:MS-U16Z-T7F: TJ Sokol F-M B-VK Karviná 'A'
END:VEVENT
BEGIN:VEVENT
UID:30323031-6264-4865-b932-666137653234
DTSTAMP:20260422T202413Z
DESCRIPTION:2/3 VO Sl. Orlice - VK Karviná 'A' 0:2 (-21\,-15)
DTSTART;TZID=Europe/Berlin:20240324T103000
DTEND;TZID=Europe/Berlin:20240324T123000
LOCATION:ZŠ Janáčkovo náměstí 17\, Janáčkovo náměstí 1970 Krnov - Pod Bezru
 čovým vrchem
SUMMARY:MS-U16Z-T7F: VO Sl. Orlice-VK Karviná 'A'
END:VEVENT
END:VCALENDAR
