BEGIN:VCALENDAR
VERSION:2.0
PRODID:-//Tělocvičná jednota Sokol Geodézie Česká Třebová82645//NONSGML kigkonsult.se iCalcreator 2.41.80//
CALSCALE:GREGORIAN
UID:61306163-3362-4634-b430-346666376261
BEGIN:VEVENT
UID:36393735-3039-4236-b230-643230313464
DTSTAMP:20260422T170015Z
DESCRIPTION:1/2 Tělocvičná jednota Sokol Česká Třebová - Volejbalový oddíl 
 TJ Lanškroun\, z.s. 0:2 (-23\,-6)
DTSTART;TZID=Europe/Berlin:20230917T090000
DTEND;TZID=Europe/Berlin:20230917T110000
LOCATION:SOŠ a SOU Lanškroun\, Sokolská 288 Lanškroun - Ostrovské Předměstí
SUMMARY:PA-U16Z-KVAL-D: Tělocvičná jednota Sokol Česká Třebová-Volejbalový 
 oddíl TJ Lanškroun\, z.s.
END:VEVENT
BEGIN:VEVENT
UID:61366332-3064-4434-b237-343630356163
DTSTAMP:20260422T170015Z
DESCRIPTION:1/1 Svitavy - Tělocvičná jednota Sokol Česká Třebová 2:0 (6\,9)
DTSTART;TZID=Europe/Berlin:20230917T090000
DTEND;TZID=Europe/Berlin:20230917T110000
LOCATION:SOŠ a SOU Lanškroun\, Sokolská 288 Lanškroun - Ostrovské Předměstí
SUMMARY:PA-U16Z-KVAL-D: Svitavy-Tělocvičná jednota Sokol Česká Třebová
END:VEVENT
BEGIN:VEVENT
UID:35373934-6465-4032-a132-613130386132
DTSTAMP:20260422T170015Z
DESCRIPTION:1/6 Tělocvičná jednota Sokol Česká Třebová - TJ Slovan Moravská
  Třebová\, z.s. 0:2 (-17\,-14)
DTSTART;TZID=Europe/Berlin:20231008T110000
DTEND;TZID=Europe/Berlin:20231008T130000
LOCATION:Sportovní hala Na Střelnici\, Pražská 2162 Svitavy - Předměstí
SUMMARY:PA-U16Z-C-1KOLO: Tělocvičná jednota Sokol Česká Třebová-TJ Slovan M
 oravská Třebová\, z.s.
END:VEVENT
BEGIN:VEVENT
UID:31393239-3033-4532-a262-623630636332
DTSTAMP:20260422T170015Z
DESCRIPTION:1/10 Tělocvičná jednota Sokol Česká Třebová - TJ Žichlínek\, z.
 s. 1:1 (-20\,23)
DTSTART;TZID=Europe/Berlin:20231008T130000
DTEND;TZID=Europe/Berlin:20231008T150000
LOCATION:Sportovní hala Na Střelnici\, Pražská 2162 Svitavy - Předměstí
SUMMARY:PA-U16Z-C-1KOLO: Tělocvičná jednota Sokol Česká Třebová-TJ Žichlíne
 k\, z.s.
END:VEVENT
BEGIN:VEVENT
UID:30343261-3261-4035-b734-383136663637
DTSTAMP:20260422T170015Z
DESCRIPTION:1/2 Tělocvičná jednota Sokol Pardubice I. - Tělocvičná jednota 
 Sokol Česká Třebová 2:0 (24\,12)
DTSTART;TZID=Europe/Berlin:20231008T090000
DTEND;TZID=Europe/Berlin:20231008T110000
LOCATION:Sportovní hala Na Střelnici\, Pražská 2162 Svitavy - Předměstí
SUMMARY:PA-U16Z-C-1KOLO: Tělocvičná jednota Sokol Pardubice I.-Tělocvičná j
 ednota Sokol Česká Třebová
END:VEVENT
BEGIN:VEVENT
UID:33376234-6334-4434-a463-353630393662
DTSTAMP:20260422T170015Z
DESCRIPTION:1/7 TJ Svitavy B - Tělocvičná jednota Sokol Česká Třebová 2:0 (
 10\,25)
DTSTART;TZID=Europe/Berlin:20231008T120000
DTEND;TZID=Europe/Berlin:20231008T140000
LOCATION:Sportovní hala Na Střelnici\, Pražská 2162 Svitavy - Předměstí
SUMMARY:PA-U16Z-C-1KOLO: TJ Svitavy B-Tělocvičná jednota Sokol Česká Třebov
 á
END:VEVENT
BEGIN:VEVENT
UID:30316566-6436-4963-a161-653934326262
DTSTAMP:20260422T170015Z
DESCRIPTION:1/8 Tělocvičná jednota Sokol Česká Třebová - TJ Energetik Chval
 etice z.s. 0:2 (-9\,-14)
DTSTART;TZID=Europe/Berlin:20231022T124500
DTEND;TZID=Europe/Berlin:20231022T144500
LOCATION:VDA u Billy\, Habrmanova 2096 Česká Třebová
SUMMARY:PA-U16Z-C-2KOLO: Tělocvičná jednota Sokol Česká Třebová-TJ Energeti
 k Chvaletice z.s.
END:VEVENT
BEGIN:VEVENT
UID:30643962-3635-4134-b366-393633616434
DTSTAMP:20260422T170015Z
DESCRIPTION:1/2 Tělocvičná jednota Sokol Pardubice I. - Tělocvičná jednota 
 Sokol Česká Třebová 2:0 (14\,14)
DTSTART;TZID=Europe/Berlin:20231022T094500
DTEND;TZID=Europe/Berlin:20231022T114500
LOCATION:Sokolovna\, Jiráskova 29 Pardubice - Zelené Předměstí
SUMMARY:PA-U16Z-C-2KOLO: Tělocvičná jednota Sokol Pardubice I.-Tělocvičná j
 ednota Sokol Česká Třebová
END:VEVENT
BEGIN:VEVENT
UID:65333130-6537-4664-b634-626439313238
DTSTAMP:20260422T170015Z
DESCRIPTION:1/4 TJ Žichlínek\, z.s. - Tělocvičná jednota Sokol Česká Třebov
 á 2:0 (12\,19)
DTSTART;TZID=Europe/Berlin:20231022T111500
DTEND;TZID=Europe/Berlin:20231022T131500
LOCATION:Tělocvična Žichlínek\,  Žichlínek65
SUMMARY:PA-U16Z-C-2KOLO: TJ Žichlínek\, z.s.-Tělocvičná jednota Sokol Česká
  Třebová
END:VEVENT
BEGIN:VEVENT
UID:32353931-6465-4735-a135-653131323665
DTSTAMP:20260422T170015Z
DESCRIPTION:1/9 Volejbalový oddíl TJ Lanškroun\, z.s. - Tělocvičná jednota 
 Sokol Česká Třebová 2:0 (23\,13)
DTSTART;TZID=Europe/Berlin:20231022T133000
DTEND;TZID=Europe/Berlin:20231022T153000
LOCATION:SOŠ a SOU Lanškroun\, Sokolská 288 Lanškroun - Ostrovské Předměstí
SUMMARY:PA-U16Z-C-2KOLO: Volejbalový oddíl TJ Lanškroun\, z.s.-Tělocvičná j
 ednota Sokol Česká Třebová
END:VEVENT
BEGIN:VEVENT
UID:34653266-3235-4134-b632-393934613765
DTSTAMP:20260422T170015Z
DESCRIPTION:1/3 Tělocvičná jednota Sokol Česká Třebová - TJ Energetik Chval
 etice z.s. 0:2 (-15\,-8)
DTSTART;TZID=Europe/Berlin:20231105T100000
DTEND;TZID=Europe/Berlin:20231105T120000
LOCATION:Hala VDA\, Na Skále 573 Česká Třebová
SUMMARY:PA-U16Z-C-3KOLO: Tělocvičná jednota Sokol Česká Třebová-TJ Energeti
 k Chvaletice z.s.
END:VEVENT
BEGIN:VEVENT
UID:37333934-3139-4233-a534-616266373263
DTSTAMP:20260422T170015Z
DESCRIPTION:1/7 Tělocvičná jednota Sokol Česká Třebová - TJ Svitavy B 0:2 (
 -13\,-18)
DTSTART;TZID=Europe/Berlin:20231105T120000
DTEND;TZID=Europe/Berlin:20231105T140000
LOCATION:Hala VDA\, Na Skále 573 Česká Třebová
SUMMARY:PA-U16Z-C-3KOLO: Tělocvičná jednota Sokol Česká Třebová-TJ Svitavy 
 B
END:VEVENT
BEGIN:VEVENT
UID:30383333-6434-4463-b038-383332363262
DTSTAMP:20260422T170015Z
DESCRIPTION:1/1 TJ Slovan Moravská Třebová\, z.s. - Tělocvičná jednota Soko
 l Česká Třebová 2:0 (11\,20)
DTSTART;TZID=Europe/Berlin:20231105T090000
DTEND;TZID=Europe/Berlin:20231105T110000
LOCATION:Hala VDA\, Na Skále 573 Česká Třebová
SUMMARY:PA-U16Z-C-3KOLO: TJ Slovan Moravská Třebová\, z.s.-Tělocvičná jedno
 ta Sokol Česká Třebová
END:VEVENT
BEGIN:VEVENT
UID:63383863-3735-4966-b764-383830313265
DTSTAMP:20260422T170015Z
DESCRIPTION:1/9 TJ Žichlínek\, z.s. - Tělocvičná jednota Sokol Česká Třebov
 á 2:0 (20\,19)
DTSTART;TZID=Europe/Berlin:20231105T130000
DTEND;TZID=Europe/Berlin:20231105T150000
LOCATION:Hala VDA\, Na Skále 573 Česká Třebová
SUMMARY:PA-U16Z-C-3KOLO: TJ Žichlínek\, z.s.-Tělocvičná jednota Sokol Česká
  Třebová
END:VEVENT
BEGIN:VEVENT
UID:34653437-6331-4332-b531-666638613166
DTSTAMP:20260422T170015Z
DESCRIPTION:1/4 Tělocvičná jednota Sokol Česká Třebová - Tělocvičná jednota
  Sokol Pardubice I. 1:1 (22\,-18)\ntělocvična ZŠ Riegrova
DTSTART;TZID=Europe/Berlin:20231126T094500
DTEND;TZID=Europe/Berlin:20231126T114500
LOCATION:VDA u Billy\, Habrmanova 2096 Česká Třebová
SUMMARY:PA-U16Z-C-4KOLO: Tělocvičná jednota Sokol Česká Třebová-Tělocvičná 
 jednota Sokol Pardubice I.
END:VEVENT
BEGIN:VEVENT
UID:66396138-3638-4536-b435-323861376630
DTSTAMP:20260422T170015Z
DESCRIPTION:1/10 Tělocvičná jednota Sokol Česká Třebová - TJ Žichlínek\, z.
 s. 1:1 (-18\,23)\ntělocvična ZŠ Riegrova
DTSTART;TZID=Europe/Berlin:20231126T124500
DTEND;TZID=Europe/Berlin:20231126T144500
LOCATION:VDA u Billy\, Habrmanova 2096 Česká Třebová
SUMMARY:PA-U16Z-C-4KOLO: Tělocvičná jednota Sokol Česká Třebová-TJ Žichlíne
 k\, z.s.
END:VEVENT
BEGIN:VEVENT
UID:62366330-3536-4365-b630-363263396633
DTSTAMP:20260422T170015Z
DESCRIPTION:1/1 TJ Svitavy B - Tělocvičná jednota Sokol Česká Třebová 1:1 (
 11\,-23)\ntělocvična OA
DTSTART;TZID=Europe/Berlin:20231126T090000
DTEND;TZID=Europe/Berlin:20231126T110000
LOCATION:Sportovní hala Na Střelnici\, Pražská 2162 Svitavy - Předměstí
SUMMARY:PA-U16Z-C-4KOLO: TJ Svitavy B-Tělocvičná jednota Sokol Česká Třebov
 á
END:VEVENT
BEGIN:VEVENT
UID:34616431-3566-4566-a632-326261356337
DTSTAMP:20260422T170015Z
DESCRIPTION:1/6 TJ Spartak Polička\, z.s. - Tělocvičná jednota Sokol Česká 
 Třebová 2:0 (4\,15)\ntělocvična ZŠ Riegrova
DTSTART;TZID=Europe/Berlin:20231126T111500
DTEND;TZID=Europe/Berlin:20231126T131500
LOCATION:TJ Spartak Polička\, z.s. \, nábř. Svobody 447 Polička - Horní Pře
 dměstí
SUMMARY:PA-U16Z-C-4KOLO: TJ Spartak Polička\, z.s.-Tělocvičná jednota Sokol
  Česká Třebová
END:VEVENT
BEGIN:VEVENT
UID:35313436-3766-4631-b838-383061363436
DTSTAMP:20260422T170015Z
DESCRIPTION:1/3 Tělocvičná jednota Sokol Česká Třebová - TJ Svitavy B 0:2 (
 -18\,-20)
DTSTART;TZID=Europe/Berlin:20231210T090000
DTEND;TZID=Europe/Berlin:20231210T110000
LOCATION:VDA u Billy\, Habrmanova 2096 Česká Třebová
SUMMARY:PA-U16Z-C-5KOLO: Tělocvičná jednota Sokol Česká Třebová-TJ Svitavy 
 B
END:VEVENT
BEGIN:VEVENT
UID:66636137-6261-4463-b036-396436383636
DTSTAMP:20260422T170015Z
DESCRIPTION:1/10 Tělocvičná jednota Sokol Česká Třebová - TJ Slovan Moravsk
 á Třebová\, z.s. 0:2 (-12\,-19)
DTSTART;TZID=Europe/Berlin:20231210T090000
DTEND;TZID=Europe/Berlin:20231210T110000
LOCATION:VDA u Billy\, Habrmanova 2096 Česká Třebová
SUMMARY:PA-U16Z-C-5KOLO: Tělocvičná jednota Sokol Česká Třebová-TJ Slovan M
 oravská Třebová\, z.s.
END:VEVENT
BEGIN:VEVENT
UID:38386539-6539-4238-b034-393234363634
DTSTAMP:20260422T170015Z
DESCRIPTION:1/1 TJ Žichlínek\, z.s. - Tělocvičná jednota Sokol Česká Třebov
 á 1:1 (-23\,19)
DTSTART;TZID=Europe/Berlin:20231210T090000
DTEND;TZID=Europe/Berlin:20231210T110000
LOCATION:Tělocvična Žichlínek\,  Žichlínek65
SUMMARY:PA-U16Z-C-5KOLO: TJ Žichlínek\, z.s.-Tělocvičná jednota Sokol Česká
  Třebová
END:VEVENT
BEGIN:VEVENT
UID:61393961-6463-4134-a334-396432376564
DTSTAMP:20260422T170015Z
DESCRIPTION:1/6 TJ Energetik Chvaletice z.s. - Tělocvičná jednota Sokol Čes
 ká Třebová 1:1 (11\,-21)
DTSTART;TZID=Europe/Berlin:20231210T090000
DTEND;TZID=Europe/Berlin:20231210T110000
LOCATION:ZŠ Chvaletice\, Spojovací 431 Chvaletice
SUMMARY:PA-U16Z-C-5KOLO: TJ Energetik Chvaletice z.s.-Tělocvičná jednota So
 kol Česká Třebová
END:VEVENT
BEGIN:VEVENT
UID:62666265-3665-4566-a339-396436383731
DTSTAMP:20260422T170015Z
DESCRIPTION:1/3 Tělocvičná jednota Sokol Česká Třebová - TJ Energetik Chval
 etice z.s. 0:2 (-15\,-22)
DTSTART;TZID=Europe/Berlin:20240114T090000
DTEND;TZID=Europe/Berlin:20240114T110000
LOCATION:VDA u Billy\, Habrmanova 2096 Česká Třebová
SUMMARY:PA-U16Z-C-6KOLO: Tělocvičná jednota Sokol Česká Třebová-TJ Energeti
 k Chvaletice z.s.
END:VEVENT
BEGIN:VEVENT
UID:34356133-3039-4662-b332-396466633838
DTSTAMP:20260422T170015Z
DESCRIPTION:1/1 TJ Žichlínek\, z.s. - Tělocvičná jednota Sokol Česká Třebov
 á 0:2 (-20\,-23)
DTSTART;TZID=Europe/Berlin:20240114T090000
DTEND;TZID=Europe/Berlin:20240114T110000
LOCATION:Tělocvična Žichlínek\,  Žichlínek65
SUMMARY:PA-U16Z-C-6KOLO: TJ Žichlínek\, z.s.-Tělocvičná jednota Sokol Česká
  Třebová
END:VEVENT
BEGIN:VEVENT
UID:64383037-3638-4536-a430-376165386239
DTSTAMP:20260422T170015Z
DESCRIPTION:1/5 TJ Svitavy B - Tělocvičná jednota Sokol Česká Třebová 2:0 (
 20\,15)
DTSTART;TZID=Europe/Berlin:20240114T090000
DTEND;TZID=Europe/Berlin:20240114T110000
LOCATION:Sportovní hala Na Střelnici\, Pražská 2162 Svitavy - Předměstí
SUMMARY:PA-U16Z-C-6KOLO: TJ Svitavy B-Tělocvičná jednota Sokol Česká Třebov
 á
END:VEVENT
BEGIN:VEVENT
UID:38316436-3363-4337-a139-303563376639
DTSTAMP:20260422T170015Z
DESCRIPTION:1/1 Tělocvičná jednota Sokol Česká Třebová - Volejbalový oddíl 
 TJ Lanškroun\, z.s. 0:2 (-3\,-11)
DTSTART;TZID=Europe/Berlin:20240204T083000
DTEND;TZID=Europe/Berlin:20240204T103000
LOCATION:Tělocvična VDA\, Habrmanova 1540 Česká Třebová
SUMMARY:PA-U16Z-C-7KOLO: Tělocvičná jednota Sokol Česká Třebová-Volejbalový
  oddíl TJ Lanškroun\, z.s.
END:VEVENT
BEGIN:VEVENT
UID:37343530-6561-4334-b134-303864353538
DTSTAMP:20260422T170015Z
DESCRIPTION:1/4 Tělocvičná jednota Sokol Česká Třebová - Tělocvičná jednota
  Sokol Pardubice I. 0:2 (-12\,-22)
DTSTART;TZID=Europe/Berlin:20240204T113000
DTEND;TZID=Europe/Berlin:20240204T133000
LOCATION:Tělocvična VDA\, Habrmanova 1540 Česká Třebová
SUMMARY:PA-U16Z-C-7KOLO: Tělocvičná jednota Sokol Česká Třebová-Tělocvičná 
 jednota Sokol Pardubice I.
END:VEVENT
BEGIN:VEVENT
UID:36623633-6633-4936-b162-396633616333
DTSTAMP:20260422T170015Z
DESCRIPTION:1/6 TJ Žichlínek\, z.s. - Tělocvičná jednota Sokol Česká Třebov
 á 2:1 (17\,-17\,10)
DTSTART;TZID=Europe/Berlin:20240204T133000
DTEND;TZID=Europe/Berlin:20240204T153000
LOCATION:Tělocvična VDA\, Habrmanova 1540 Česká Třebová
SUMMARY:PA-U16Z-C-7KOLO: TJ Žichlínek\, z.s.-Tělocvičná jednota Sokol Česká
  Třebová
END:VEVENT
BEGIN:VEVENT
UID:63643930-6435-4134-b362-633734346634
DTSTAMP:20260422T170015Z
DESCRIPTION:1/1 Tělocvičná jednota Sokol Česká Třebová - TJ Žichlínek\, z.s
 . 3:1 (16\,-21\,18\,18)
DTSTART;TZID=Europe/Berlin:20240303T090000
DTEND;TZID=Europe/Berlin:20240303T110000
LOCATION:VDA u Billy\, Habrmanova 2096 Česká Třebová
SUMMARY:PA-U16Z-D-8KOLO: Tělocvičná jednota Sokol Česká Třebová-TJ Žichlíne
 k\, z.s.
END:VEVENT
BEGIN:VEVENT
UID:63316461-3965-4034-a532-623465333961
DTSTAMP:20260422T170015Z
DESCRIPTION:1/3 Tělocvičná jednota Sokol Pardubice I. - Tělocvičná jednota 
 Sokol Česká Třebová 3:1 (-28\,18\,13\,20)
DTSTART;TZID=Europe/Berlin:20240303T120000
DTEND;TZID=Europe/Berlin:20240303T140000
LOCATION:Sokolovna\, Jiráskova 29 Pardubice - Zelené Předměstí
SUMMARY:PA-U16Z-D-8KOLO: Tělocvičná jednota Sokol Pardubice I.-Tělocvičná j
 ednota Sokol Česká Třebová
END:VEVENT
BEGIN:VEVENT
UID:63386263-3361-4865-b039-643937613131
DTSTAMP:20260422T170015Z
DESCRIPTION:1/3 Tělocvičná jednota Sokol Česká Třebová - TJ Žichlínek\, z.s
 . 3:2 (17\,11\,-22\,-17\,12)
DTSTART;TZID=Europe/Berlin:20240317T090000
DTEND;TZID=Europe/Berlin:20240317T110000
LOCATION:VDA u Billy\, Habrmanova 2096 Česká Třebová
SUMMARY:PA-U16Z-D-9KOLO: Tělocvičná jednota Sokol Česká Třebová-TJ Žichlíne
 k\, z.s.
END:VEVENT
BEGIN:VEVENT
UID:62613763-6439-4439-b931-373765386363
DTSTAMP:20260422T170015Z
DESCRIPTION:1/2 TJ Energetik Chvaletice z.s. - Tělocvičná jednota Sokol Čes
 ká Třebová 3:0 (12\,23\,12)
DTSTART;TZID=Europe/Berlin:20240317T110000
DTEND;TZID=Europe/Berlin:20240317T130000
LOCATION:ZŠ Chvaletice\, Spojovací 431 Chvaletice
SUMMARY:PA-U16Z-D-9KOLO: TJ Energetik Chvaletice z.s.-Tělocvičná jednota So
 kol Česká Třebová
END:VEVENT
END:VCALENDAR
