BEGIN:VCALENDAR
VERSION:2.0
PRODID:-//TJ Svitavy, z.s.82658//NONSGML kigkonsult.se iCalcreator 2.41.80//
CALSCALE:GREGORIAN
UID:30663365-3134-4462-a565-643064303132
BEGIN:VEVENT
UID:35386332-3761-4335-b931-636665623430
DTSTAMP:20260421T134934Z
DESCRIPTION:1/3 TJ Svitavy B - Volejbalový klub Choceň\, z.s. 0:2 (-3\,-5)
DTSTART;TZID=Europe/Berlin:20230910T100000
DTEND;TZID=Europe/Berlin:20230910T120000
LOCATION:Sportovní hala Na Střelnici\, Pražská 2162 Svitavy - Předměstí
SUMMARY:PA-U16M-KV-II: TJ Svitavy B-Volejbalový klub Choceň\, z.s.
END:VEVENT
BEGIN:VEVENT
UID:63366237-6339-4834-b937-373433333439
DTSTAMP:20260421T134934Z
DESCRIPTION:1/10 TJ Svitavy B - Tělocvičná jednota Sokol Pardubice I. 0:2 (
 -17\,-20)
DTSTART;TZID=Europe/Berlin:20230910T130000
DTEND;TZID=Europe/Berlin:20230910T150000
LOCATION:Sportovní hala Na Střelnici\, Pražská 2162 Svitavy - Předměstí
SUMMARY:PA-U16M-KV-II: TJ Svitavy B-Tělocvičná jednota Sokol Pardubice I.
END:VEVENT
BEGIN:VEVENT
UID:30623732-6130-4662-b561-313439636462
DTSTAMP:20260421T134934Z
DESCRIPTION:1/1 Svitavy - TJ Svitavy B 2:0 (19\,14)
DTSTART;TZID=Europe/Berlin:20230910T090000
DTEND;TZID=Europe/Berlin:20230910T110000
LOCATION:Sportovní hala Na Střelnici\, Pražská 2162 Svitavy - Předměstí
SUMMARY:PA-U16M-KV-II: Svitavy-TJ Svitavy B
END:VEVENT
BEGIN:VEVENT
UID:30323032-6534-4331-a134-363635643730
DTSTAMP:20260421T134934Z
DESCRIPTION:1/6 Česká Třebová - TJ Svitavy B 2:0 (22\,19)
DTSTART;TZID=Europe/Berlin:20230910T110000
DTEND;TZID=Europe/Berlin:20230910T130000
LOCATION:VDA u Billy\, Habrmanova 2096 Česká Třebová
SUMMARY:PA-U16M-KV-II: Česká Třebová-TJ Svitavy B
END:VEVENT
BEGIN:VEVENT
UID:30316265-3266-4533-a236-343230313038
DTSTAMP:20260421T134934Z
DESCRIPTION:1/2 TJ Svitavy B - Tělovýchovná jednota Jiskra Havlíčkův Brod z
 .s. 0:2 (-13\,-21)
DTSTART;TZID=Europe/Berlin:20240204T100000
DTEND;TZID=Europe/Berlin:20240204T120000
LOCATION:Sportovní hala Na Střelnici\, Pražská 2162 Svitavy - Předměstí
SUMMARY:PA-U16M-5A: TJ Svitavy B-Tělovýchovná jednota Jiskra Havlíčkův Brod
  z.s.
END:VEVENT
BEGIN:VEVENT
UID:65376436-3033-4336-b737-393038633138
DTSTAMP:20260421T134934Z
DESCRIPTION:1/5 TJ Svitavy B - Hradec Králové 1:2 (16\,-20\,-14)
DTSTART;TZID=Europe/Berlin:20240204T130000
DTEND;TZID=Europe/Berlin:20240204T150000
LOCATION:Sportovní hala Na Střelnici\, Pražská 2162 Svitavy - Předměstí
SUMMARY:PA-U16M-5A: TJ Svitavy B-Hradec Králové
END:VEVENT
BEGIN:VEVENT
UID:32646539-3938-4662-b735-333034633862
DTSTAMP:20260421T134934Z
DESCRIPTION:1/4 Volejbalový klub Choceň\, z.s. - TJ Svitavy B 0:2 (-27\,-21
 )
DTSTART;TZID=Europe/Berlin:20240204T120000
DTEND;TZID=Europe/Berlin:20240204T140000
LOCATION:Volejbalová hala \, U Koupaliště 1734 Choceň
SUMMARY:PA-U16M-5A: Volejbalový klub Choceň\, z.s.-TJ Svitavy B
END:VEVENT
BEGIN:VEVENT
UID:37386364-3064-4934-b465-653165326431
DTSTAMP:20260421T134934Z
DESCRIPTION:1/2 TJ Svitavy B - Tělocvičná jednota Sokol Pardubice I. 1:3 (-
 9\,20\,-17\,-19)
DTSTART;TZID=Europe/Berlin:20230924T110000
DTEND;TZID=Europe/Berlin:20230924T130000
LOCATION:Sportovní hala Na Střelnici\, Pražská 2162 Svitavy - Předměstí
SUMMARY:PA-U16M-1D: TJ Svitavy B-Tělocvičná jednota Sokol Pardubice I.
END:VEVENT
BEGIN:VEVENT
UID:62653236-3330-4331-b836-333736356264
DTSTAMP:20260421T134934Z
DESCRIPTION:1/3 Volejbalový klub Dvůr Králové nad Labem\, z.s. - TJ Svitavy
  B 0:3 (-18\,-19\,-23)
DTSTART;TZID=Europe/Berlin:20230924T130000
DTEND;TZID=Europe/Berlin:20230924T150000
LOCATION:Hala ZŠ Strž\, Elišky Krásnohorské 2919 Dvůr Králové nad Labem
SUMMARY:PA-U16M-1D: Volejbalový klub Dvůr Králové nad Labem\, z.s.-TJ Svita
 vy B
END:VEVENT
BEGIN:VEVENT
UID:31633830-3530-4738-b130-393030643637
DTSTAMP:20260421T134934Z
DESCRIPTION:1/1 TJ Svitavy B - TJ Spartak Polička\, z.s. 3:0 (16\,13\,22)\n
 pořadatel Svitavy\, sportovní hala Na Střelnic
DTSTART;TZID=Europe/Berlin:20231029T090000
DTEND;TZID=Europe/Berlin:20231029T110000
LOCATION:Sportovní hala Na Střelnici\, Pražská 2162 Svitavy - Předměstí
SUMMARY:PA-U16M-2D: TJ Svitavy B-TJ Spartak Polička\, z.s.
END:VEVENT
BEGIN:VEVENT
UID:31336230-3437-4361-b835-366337386238
DTSTAMP:20260421T134934Z
DESCRIPTION:1/3 TJ Svitavy B - Volejbalový klub Dvůr Králové nad Labem\, z.
 s. 3:0 (20\,23\,14)
DTSTART;TZID=Europe/Berlin:20231029T130000
DTEND;TZID=Europe/Berlin:20231029T150000
LOCATION:Sportovní hala Na Střelnici\, Pražská 2162 Svitavy - Předměstí
SUMMARY:PA-U16M-2D: TJ Svitavy B-Volejbalový klub Dvůr Králové nad Labem\, 
 z.s.
END:VEVENT
BEGIN:VEVENT
UID:62393865-6131-4564-b131-303663613162
DTSTAMP:20260421T134934Z
DESCRIPTION:1/1 Tělocvičná jednota Sokol Pardubice I. - TJ Svitavy B 3:2 (-
 24\,12\,8\,-26\,10)\nhala: Kunětická 92\, PCE Polabiny
DTSTART;TZID=Europe/Berlin:20231126T090000
DTEND;TZID=Europe/Berlin:20231126T110000
LOCATION:Sokolovna\, Jiráskova 29 Pardubice - Zelené Předměstí
SUMMARY:PA-U16M-3C: Tělocvičná jednota Sokol Pardubice I.-TJ Svitavy B
END:VEVENT
BEGIN:VEVENT
UID:64366331-6630-4066-a637-646334323532
DTSTAMP:20260421T134934Z
DESCRIPTION:1/2 Volejbalový klub Hronov\, z.s. - TJ Svitavy B 3:0 (13\,9\,1
 2)
DTSTART;TZID=Europe/Berlin:20231126T110000
DTEND;TZID=Europe/Berlin:20231126T130000
LOCATION:ZŠ Hronov\, Palackého 162 Hronov
SUMMARY:PA-U16M-3C: Volejbalový klub Hronov\, z.s.-TJ Svitavy B
END:VEVENT
BEGIN:VEVENT
UID:31383330-3361-4037-b639-343536323834
DTSTAMP:20260421T134934Z
DESCRIPTION:1/1 TJ Svitavy B - TJ Spartak Polička\, z.s. 3:1 (23\,-23\,16\,
 23)
DTSTART;TZID=Europe/Berlin:20240107T090000
DTEND;TZID=Europe/Berlin:20240107T110000
LOCATION:Sportovní hala Na Střelnici\, Pražská 2162 Svitavy - Předměstí
SUMMARY:PA-U16M-4D: TJ Svitavy B-TJ Spartak Polička\, z.s.
END:VEVENT
BEGIN:VEVENT
UID:30636661-3734-4134-b136-616263356338
DTSTAMP:20260421T134934Z
DESCRIPTION:1/3 TJ Svitavy B - Volejbalový klub Dvůr Králové nad Labem\, z.
 s. 3:0 (25\,20\,22)
DTSTART;TZID=Europe/Berlin:20240107T123000
DTEND;TZID=Europe/Berlin:20240107T143000
LOCATION:Sportovní hala Na Střelnici\, Pražská 2162 Svitavy - Předměstí
SUMMARY:PA-U16M-4D: TJ Svitavy B-Volejbalový klub Dvůr Králové nad Labem\, 
 z.s.
END:VEVENT
BEGIN:VEVENT
UID:61333231-3833-4134-b034-383261383038
DTSTAMP:20260421T134934Z
DESCRIPTION:1/1 Volejbalový klub Hronov\, z.s. - TJ Svitavy B 3:0 (16\,11\,
 17)
DTSTART;TZID=Europe/Berlin:20240204T130000
DTEND;TZID=Europe/Berlin:20240204T150000
LOCATION:ZŠ Hronov\, Palackého 162 Hronov
SUMMARY:PA-U16M-5C: Volejbalový klub Hronov\, z.s.-TJ Svitavy B
END:VEVENT
BEGIN:VEVENT
UID:65356164-3834-4339-b734-636536633033
DTSTAMP:20260421T134934Z
DESCRIPTION:1/2 Tělocvičná jednota Sokol Hrotovice - TJ Svitavy BManych Old
 řich
DTSTART;TZID=Europe/Berlin:20240204T110000
DTEND;TZID=Europe/Berlin:20240204T130000
LOCATION:Sportovní hala ZŠ Hrotovice\, F. B. Zvěřiny 221 Hrotovice
SUMMARY:PA-U16M-5C: Tělocvičná jednota Sokol Hrotovice-TJ Svitavy B
END:VEVENT
BEGIN:VEVENT
UID:34363631-6337-4262-b763-613331363462
DTSTAMP:20260421T134934Z
DESCRIPTION:1/1 VK SPORT Rychnov nad Kněžnou\, z.s. - TJ Svitavy B 3:0 (17\
 ,15\,22)
DTSTART;TZID=Europe/Berlin:20240225T100000
DTEND;TZID=Europe/Berlin:20240225T120000
LOCATION:Hala VOŠ a SPŠS\, U Stadionu 1166 Rychnov nad Kněžnou
SUMMARY:PA-U16M-6C: VK SPORT Rychnov nad Kněžnou\, z.s.-TJ Svitavy B
END:VEVENT
BEGIN:VEVENT
UID:33306631-3137-4830-b261-636330343662
DTSTAMP:20260421T134934Z
DESCRIPTION:1/2 Tělocvičná jednota Sokol Pardubice I. - TJ Svitavy B 1:3 (-
 22\,22\,-23\,-16)
DTSTART;TZID=Europe/Berlin:20240225T113000
DTEND;TZID=Europe/Berlin:20240225T133000
LOCATION:Sokolovna\, Jiráskova 29 Pardubice - Zelené Předměstí
SUMMARY:PA-U16M-6C: Tělocvičná jednota Sokol Pardubice I.-TJ Svitavy B
END:VEVENT
BEGIN:VEVENT
UID:34386637-3262-4333-a334-373330323830
DTSTAMP:20260421T134934Z
DESCRIPTION:1/1 Volejbalový klub Hronov\, z.s. - TJ Svitavy B 3:0 (20\,19\,
 17)
DTSTART;TZID=Europe/Berlin:20240407T090000
DTEND;TZID=Europe/Berlin:20240407T110000
LOCATION:ZŠ Hronov\, Palackého 162 Hronov
SUMMARY:PA-U16M-7C: Volejbalový klub Hronov\, z.s.-TJ Svitavy B
END:VEVENT
BEGIN:VEVENT
UID:62613630-3436-4933-b031-646330373435
DTSTAMP:20260421T134934Z
DESCRIPTION:1/2 Tělocvičná jednota Sokol Hrotovice - TJ Svitavy B 3:1 (-12\
 ,8\,13\,17)
DTSTART;TZID=Europe/Berlin:20240407T110000
DTEND;TZID=Europe/Berlin:20240407T130000
LOCATION:Sportovní hala ZŠ Hrotovice\, F. B. Zvěřiny 221 Hrotovice
SUMMARY:PA-U16M-7C: Tělocvičná jednota Sokol Hrotovice-TJ Svitavy B
END:VEVENT
END:VCALENDAR
