BEGIN:VCALENDAR
VERSION:2.0
PRODID:-//TJ Svitavy82660//NONSGML kigkonsult.se iCalcreator 2.41.80//
CALSCALE:GREGORIAN
UID:33616162-6663-4030-b732-306139306138
BEGIN:VEVENT
UID:35623133-6531-4336-a464-643034346333
DTSTAMP:20260422T154737Z
DESCRIPTION:1/1 Svitavy - Pardubice 2:0 (14\,17)\npoř.: SVITAVY
DTSTART;TZID=Europe/Berlin:20240114T100000
DTEND;TZID=Europe/Berlin:20240114T120000
LOCATION:Sportovní hala Na Střelnici\, Pražská 2162 Svitavy - Předměstí
SUMMARY:HK-U16Z-FHP-B1: Svitavy-Pardubice
END:VEVENT
BEGIN:VEVENT
UID:64613131-6463-4162-b439-663639666234
DTSTAMP:20260422T154737Z
DESCRIPTION:6/6 Svitavy - Nová Paka B 2:0 (13\,18)
DTSTART;TZID=Europe/Berlin:20240114T130000
DTEND;TZID=Europe/Berlin:20240114T150000
LOCATION:Sportovní hala Na Střelnici\, Pražská 2162 Svitavy - Předměstí
SUMMARY:HK-U16Z-FHP-B1: Svitavy-Nová Paka B
END:VEVENT
BEGIN:VEVENT
UID:38303862-3638-4430-b062-333531653262
DTSTAMP:20260422T154737Z
DESCRIPTION:4/4 Jaroměř - Svitavy 0:2 (-15\,-19)
DTSTART;TZID=Europe/Berlin:20240114T113000
DTEND;TZID=Europe/Berlin:20240114T133000
LOCATION:Hala SŠŘ\, Na Karlově 798 Jaroměř - Pražské Předměstí
SUMMARY:HK-U16Z-FHP-B1: Jaroměř-Svitavy
END:VEVENT
BEGIN:VEVENT
UID:33626566-3638-4633-b330-383361353333
DTSTAMP:20260422T154737Z
DESCRIPTION:1/1 Svitavy - Tělocvičná jednota Sokol Česká Třebová 2:0 (6\,9)
DTSTART;TZID=Europe/Berlin:20230917T090000
DTEND;TZID=Europe/Berlin:20230917T110000
LOCATION:SOŠ a SOU Lanškroun\, Sokolská 288 Lanškroun - Ostrovské Předměstí
SUMMARY:PA-U16Z-KVAL-D: Svitavy-Tělocvičná jednota Sokol Česká Třebová
END:VEVENT
BEGIN:VEVENT
UID:63326338-3861-4761-a234-353434626331
DTSTAMP:20260422T154737Z
DESCRIPTION:1/3 Volejbalový oddíl TJ Lanškroun\, z.s. - Svitavy 0:2 (-21\,-
 15)
DTSTART;TZID=Europe/Berlin:20230917T090000
DTEND;TZID=Europe/Berlin:20230917T110000
LOCATION:SOŠ a SOU Lanškroun\, Sokolská 288 Lanškroun - Ostrovské Předměstí
SUMMARY:PA-U16Z-KVAL-D: Volejbalový oddíl TJ Lanškroun\, z.s.-Svitavy
END:VEVENT
BEGIN:VEVENT
UID:38373534-3534-4031-b939-636338333935
DTSTAMP:20260422T154737Z
DESCRIPTION:1/6 Svitavy - Pardubice 2:0 (20\,8)
DTSTART;TZID=Europe/Berlin:20231008T120000
DTEND;TZID=Europe/Berlin:20231008T140000
LOCATION:Sportovní hala Na Střelnici\, Pražská 2162 Svitavy - Předměstí
SUMMARY:PA-U16Z-A-1KOLO: Svitavy-Pardubice
END:VEVENT
BEGIN:VEVENT
UID:30366537-3238-4236-b035-313864656263
DTSTAMP:20260422T154737Z
DESCRIPTION:1/2 Lanškroun - Svitavy 2:0 (9\,20)
DTSTART;TZID=Europe/Berlin:20231008T000000
DTEND;TZID=Europe/Berlin:20231008T020000
LOCATION:SOŠ a SOU Lanškroun\, Sokolská 288 Lanškroun - Ostrovské Předměstí
SUMMARY:PA-U16Z-A-1KOLO: Lanškroun-Svitavy
END:VEVENT
BEGIN:VEVENT
UID:34363436-3234-4266-b131-663034626630
DTSTAMP:20260422T154737Z
DESCRIPTION:1/3 Letohrad - Svitavy 0:2 (-16\,-17)
DTSTART;TZID=Europe/Berlin:20231008T103000
DTEND;TZID=Europe/Berlin:20231008T123000
LOCATION:ZŠ U Dvora\, U Dvora 745 Letohrad
SUMMARY:PA-U16Z-A-1KOLO: Letohrad-Svitavy
END:VEVENT
BEGIN:VEVENT
UID:30313964-6239-4439-a133-303231616136
DTSTAMP:20260422T154737Z
DESCRIPTION:1/1 Svitavy - Lanškroun 0:2 (-15\,-23)\nSportovní hala Na Střel
 nici
DTSTART;TZID=Europe/Berlin:20231022T100000
DTEND;TZID=Europe/Berlin:20231022T120000
LOCATION:Sportovní hala Na Střelnici\, Pražská 2162 Svitavy - Předměstí
SUMMARY:PA-U16Z-A-2KOLO: Svitavy-Lanškroun
END:VEVENT
BEGIN:VEVENT
UID:64373533-6565-4939-b236-326330336231
DTSTAMP:20260422T154737Z
DESCRIPTION:1/5 Svitavy - Letohrad 2:0 (20\,23)\nSportovní hala Na Střelnic
 i
DTSTART;TZID=Europe/Berlin:20231022T140000
DTEND;TZID=Europe/Berlin:20231022T160000
LOCATION:Sportovní hala Na Střelnici\, Pražská 2162 Svitavy - Předměstí
SUMMARY:PA-U16Z-A-2KOLO: Svitavy-Letohrad
END:VEVENT
BEGIN:VEVENT
UID:62393233-6538-4836-a265-636665303564
DTSTAMP:20260422T154737Z
DESCRIPTION:1/3 Uničov - Svitavy 0:2 (-6\,-18)\nSportovní hala Na Střelnici
DTSTART;TZID=Europe/Berlin:20231022T123000
DTEND;TZID=Europe/Berlin:20231022T143000
LOCATION:tělocvična\, U Stadionu 849 Uničov
SUMMARY:PA-U16Z-A-2KOLO: Uničov-Svitavy
END:VEVENT
BEGIN:VEVENT
UID:37656163-3639-4938-a339-356363663439
DTSTAMP:20260422T154737Z
DESCRIPTION:1/2 Svitavy - Letohrad 2:0 (13\,19)\nKunětická 92\, Univerzita 
 Pardubice
DTSTART;TZID=Europe/Berlin:20231105T090000
DTEND;TZID=Europe/Berlin:20231105T110000
LOCATION:Sportovní areál Univerzity Pardubice\, Studentská 95 Pardubice - P
 olabiny
SUMMARY:PA-U16Z-A-3KOLO: Svitavy-Letohrad
END:VEVENT
BEGIN:VEVENT
UID:33343233-6463-4534-b230-623730303139
DTSTAMP:20260422T154737Z
DESCRIPTION:1/5 Svitavy - Pardubice 0:2 (-15\,-17)\nKunětická 92\, Univerzi
 ta Pardubice
DTSTART;TZID=Europe/Berlin:20231105T110000
DTEND;TZID=Europe/Berlin:20231105T130000
LOCATION:Sportovní areál Univerzity Pardubice\, Studentská 95 Pardubice - P
 olabiny
SUMMARY:PA-U16Z-A-3KOLO: Svitavy-Pardubice
END:VEVENT
BEGIN:VEVENT
UID:35656134-6632-4035-b736-656335326162
DTSTAMP:20260422T154737Z
DESCRIPTION:1/4 Lanškroun - Svitavy 2:1 (7\,-17\,8)\nKunětická 92\, Univerz
 ita Pardubice
DTSTART;TZID=Europe/Berlin:20231105T100000
DTEND;TZID=Europe/Berlin:20231105T120000
LOCATION:Sportovní areál Univerzity Pardubice\, Studentská 95 Pardubice - P
 olabiny
SUMMARY:PA-U16Z-A-3KOLO: Lanškroun-Svitavy
END:VEVENT
BEGIN:VEVENT
UID:32353562-3135-4332-b138-626565333439
DTSTAMP:20260422T154737Z
DESCRIPTION:1/2 Svitavy - Uničov 2:0 (11\,15)\nPražská 2162 Svitavy-předměs
 tí
DTSTART;TZID=Europe/Berlin:20231126T090000
DTEND;TZID=Europe/Berlin:20231126T110000
LOCATION:Sportovní hala Na Střelnici\, Pražská 2162 Svitavy - Předměstí
SUMMARY:PA-U16Z-A-4KOLO: Svitavy-Uničov
END:VEVENT
BEGIN:VEVENT
UID:61343539-6632-4238-b731-383134616436
DTSTAMP:20260422T154737Z
DESCRIPTION:1/6 Svitavy - Lanškroun 0:2 (-20\,-15)\nPražská 2162 Svitavy-př
 edměstí
DTSTART;TZID=Europe/Berlin:20231126T110000
DTEND;TZID=Europe/Berlin:20231126T130000
LOCATION:Sportovní hala Na Střelnici\, Pražská 2162 Svitavy - Předměstí
SUMMARY:PA-U16Z-A-4KOLO: Svitavy-Lanškroun
END:VEVENT
BEGIN:VEVENT
UID:33323336-6132-4532-a135-313464333330
DTSTAMP:20260422T154737Z
DESCRIPTION:1/4 Pardubice - Svitavy 0:2 (-16\,-13)
DTSTART;TZID=Europe/Berlin:20231126T100000
DTEND;TZID=Europe/Berlin:20231126T120000
LOCATION:Sportovní hala Na Střelnici\, Pražská 2162 Svitavy - Předměstí
SUMMARY:PA-U16Z-A-4KOLO: Pardubice-Svitavy
END:VEVENT
BEGIN:VEVENT
UID:35373530-3736-4736-b433-653630656437
DTSTAMP:20260422T154737Z
DESCRIPTION:1/2 Svitavy - Letohrad 2:0 (20\,19)\nKunětická 92\, Pardubice
DTSTART;TZID=Europe/Berlin:20231210T090000
DTEND;TZID=Europe/Berlin:20231210T110000
LOCATION:Sportovní hala Na Střelnici\, Pražská 2162 Svitavy - Předměstí
SUMMARY:PA-U16Z-A-5KOLO: Svitavy-Letohrad
END:VEVENT
BEGIN:VEVENT
UID:35386465-3139-4035-a138-613638393365
DTSTAMP:20260422T154737Z
DESCRIPTION:1/5 Svitavy - Pardubice 2:1 (18\,-20\,13)\nKunětická 92\, Pardu
 bice
DTSTART;TZID=Europe/Berlin:20231210T110000
DTEND;TZID=Europe/Berlin:20231210T130000
LOCATION:Sportovní hala Na Střelnici\, Pražská 2162 Svitavy - Předměstí
SUMMARY:PA-U16Z-A-5KOLO: Svitavy-Pardubice
END:VEVENT
BEGIN:VEVENT
UID:33653936-3839-4532-b564-393964306437
DTSTAMP:20260422T154737Z
DESCRIPTION:1/4 Lanškroun - Svitavy 2:0 (12\,11)\nKunětická 92\, Pardubice
DTSTART;TZID=Europe/Berlin:20231210T100000
DTEND;TZID=Europe/Berlin:20231210T120000
LOCATION:SOŠ a SOU Lanškroun\, Sokolská 288 Lanškroun - Ostrovské Předměstí
SUMMARY:PA-U16Z-A-5KOLO: Lanškroun-Svitavy
END:VEVENT
BEGIN:VEVENT
UID:30373738-3662-4162-b337-646537383064
DTSTAMP:20260422T154737Z
DESCRIPTION:2/2 Svitavy - Lanškroun 1:2 (-19\,25\,-11)
DTSTART;TZID=Europe/Berlin:20240211T100000
DTEND;TZID=Europe/Berlin:20240211T120000
LOCATION:Sportovní hala Na Střelnici\, Pražská 2162 Svitavy - Předměstí
SUMMARY:HK-U16Z-FHP-A2: Svitavy-Lanškroun
END:VEVENT
BEGIN:VEVENT
UID:62343638-3731-4232-b963-623366653562
DTSTAMP:20260422T154737Z
DESCRIPTION:3/3 VC nad Metují - Svitavy 2:1 (-18\,23\,13)
DTSTART;TZID=Europe/Berlin:20240211T110000
DTEND;TZID=Europe/Berlin:20240211T130000
LOCATION:Tělocvična ZŠ Černčice\,  Černčice68
SUMMARY:HK-U16Z-FHP-A2: VC nad Metují-Svitavy
END:VEVENT
BEGIN:VEVENT
UID:37613436-6561-4732-b730-313735373432
DTSTAMP:20260422T154737Z
DESCRIPTION:6/6 Hradec Králové - Svitavy 2:0 (16\,8)
DTSTART;TZID=Europe/Berlin:20240211T150000
DTEND;TZID=Europe/Berlin:20240211T170000
LOCATION:TJ Slavia Hradec Králové\, Víta Nejedlého 1216 Hradec Králové
SUMMARY:HK-U16Z-FHP-A2: Hradec Králové-Svitavy
END:VEVENT
BEGIN:VEVENT
UID:62656338-3765-4930-a565-633931306664
DTSTAMP:20260422T154737Z
DESCRIPTION:3/3 Svitavy - RÉMA Rychnov A 2:0 (9\,15)
DTSTART;TZID=Europe/Berlin:20240222T170000
DTEND;TZID=Europe/Berlin:20240222T190000
LOCATION:Sportovní hala Na Střelnici\, Pražská 2162 Svitavy - Předměstí
SUMMARY:HK-U16Z-FHK-B3: Svitavy-RÉMA Rychnov A
END:VEVENT
BEGIN:VEVENT
UID:34313833-6534-4663-b631-633536373832
DTSTAMP:20260422T154737Z
DESCRIPTION:1/1 Jaroměř - Svitavy 0:2 (-22\,-16)\npoř:PARDUBICE
DTSTART;TZID=Europe/Berlin:20240303T101500
DTEND;TZID=Europe/Berlin:20240303T121500
LOCATION:Hala SŠŘ\, Na Karlově 798 Jaroměř - Pražské Předměstí
SUMMARY:HK-U16Z-FHK-B3: Jaroměř-Svitavy
END:VEVENT
BEGIN:VEVENT
UID:31353534-3837-4637-a130-346561316165
DTSTAMP:20260422T154737Z
DESCRIPTION:5/5 Pardubice - Svitavy 2:0 (30\,27)
DTSTART;TZID=Europe/Berlin:20240303T113000
DTEND;TZID=Europe/Berlin:20240303T133000
LOCATION:Sokolovna\, Jiráskova 29 Pardubice - Zelené Předměstí
SUMMARY:HK-U16Z-FHK-B3: Pardubice-Svitavy
END:VEVENT
BEGIN:VEVENT
UID:66356362-6662-4262-a634-323463343164
DTSTAMP:20260422T154737Z
DESCRIPTION:2/2 Svitavy - VC nad Metují 0:2 (-26\,-16)
DTSTART;TZID=Europe/Berlin:20240324T100000
DTEND;TZID=Europe/Berlin:20240324T120000
LOCATION:Sportovní hala Na Střelnici\, Pražská 2162 Svitavy - Předměstí
SUMMARY:HK-U16Z-FHK-B4: Svitavy-VC nad Metují
END:VEVENT
BEGIN:VEVENT
UID:66613330-3462-4830-b332-346436306164
DTSTAMP:20260422T154737Z
DESCRIPTION:3/3 Ruchadlo Zájezd - Svitavy 0:2 (-17\,-16)
DTSTART;TZID=Europe/Berlin:20240324T110000
DTEND;TZID=Europe/Berlin:20240324T130000
LOCATION:Sportovní hala\, Sportovní 38 Česká Skalice
SUMMARY:HK-U16Z-FHK-B4: Ruchadlo Zájezd-Svitavy
END:VEVENT
BEGIN:VEVENT
UID:30623766-3734-4265-b466-653433353333
DTSTAMP:20260422T154737Z
DESCRIPTION:6/6 Jaroměř - Svitavy 1:2 (-22\,14\,-13)
DTSTART;TZID=Europe/Berlin:20240324T150000
DTEND;TZID=Europe/Berlin:20240324T170000
LOCATION:Hala SŠŘ\, Na Karlově 798 Jaroměř - Pražské Předměstí
SUMMARY:HK-U16Z-FHK-B4: Jaroměř-Svitavy
END:VEVENT
BEGIN:VEVENT
UID:39363663-6466-4736-b364-396639613036
DTSTAMP:20260422T154737Z
DESCRIPTION:1/1 Svitavy - Frýdek - Místek 0:2 (-18\,-18)
DTSTART;TZID=Europe/Berlin:20240420T100000
DTEND;TZID=Europe/Berlin:20240420T120000
LOCATION:Sportovní hala Na Střelnici\, Pražská 2162 Svitavy - Předměstí
SUMMARY:MCR-U16Z-D: Svitavy-Frýdek - Místek
END:VEVENT
BEGIN:VEVENT
UID:32323163-6431-4338-a236-366530366562
DTSTAMP:20260422T154737Z
DESCRIPTION:2/4 Svitavy - Nový Bor 2:0 (14\,18)
DTSTART;TZID=Europe/Berlin:20240420T113000
DTEND;TZID=Europe/Berlin:20240420T133000
LOCATION:Sportovní hala Na Střelnici\, Pražská 2162 Svitavy - Předměstí
SUMMARY:MCR-U16Z-D: Svitavy-Nový Bor
END:VEVENT
BEGIN:VEVENT
UID:64656537-6131-4164-a631-643031646631
DTSTAMP:20260422T154737Z
DESCRIPTION:4/9 Svitavy - Sokolov 2:0 (11\,20)
DTSTART;TZID=Europe/Berlin:20240420T143000
DTEND;TZID=Europe/Berlin:20240420T163000
LOCATION:Sportovní hala Na Střelnici\, Pražská 2162 Svitavy - Předměstí
SUMMARY:MCR-U16Z-D: Svitavy-Sokolov
END:VEVENT
BEGIN:VEVENT
UID:35633434-6232-4263-b864-323037366433
DTSTAMP:20260422T154737Z
DESCRIPTION:6/14 Svitavy - Olymp Praha 0:2 (-22\,-12)
DTSTART;TZID=Europe/Berlin:20240420T173000
DTEND;TZID=Europe/Berlin:20240420T193000
LOCATION:Sportovní hala Na Střelnici\, Pražská 2162 Svitavy - Předměstí
SUMMARY:MCR-U16Z-D: Svitavy-Olymp Praha
END:VEVENT
BEGIN:VEVENT
UID:30306535-6561-4763-a365-366335386365
DTSTAMP:20260422T154737Z
DESCRIPTION:7/17 Svitavy - UP Olomouc 2:1 (21\,-22\,11)
DTSTART;TZID=Europe/Berlin:20240421T090000
DTEND;TZID=Europe/Berlin:20240421T110000
LOCATION:Sportovní hala Na Střelnici\, Pražská 2162 Svitavy - Předměstí
SUMMARY:MCR-U16Z-D: Svitavy-UP Olomouc
END:VEVENT
BEGIN:VEVENT
UID:34376539-3366-4965-b837-616234366430
DTSTAMP:20260422T154737Z
DESCRIPTION:8/20 Svitavy - Zlín 2:0 (16\,12)
DTSTART;TZID=Europe/Berlin:20240421T103000
DTEND;TZID=Europe/Berlin:20240421T123000
LOCATION:Sportovní hala Na Střelnici\, Pražská 2162 Svitavy - Předměstí
SUMMARY:MCR-U16Z-D: Svitavy-Zlín
END:VEVENT
BEGIN:VEVENT
UID:62353930-6131-4438-a230-303037636638
DTSTAMP:20260422T154737Z
DESCRIPTION:10/26 Svitavy - Nymburk 1:2 (22\,-16\,-8)
DTSTART;TZID=Europe/Berlin:20240421T133000
DTEND;TZID=Europe/Berlin:20240421T153000
LOCATION:Sportovní hala Na Střelnici\, Pražská 2162 Svitavy - Předměstí
SUMMARY:MCR-U16Z-D: Svitavy-Nymburk
END:VEVENT
BEGIN:VEVENT
UID:34663435-6232-4431-a562-373462323132
DTSTAMP:20260422T154737Z
DESCRIPTION:2/3 Svitavy - Jihlava 1:2 (23\,-10\,-8)
DTSTART;TZID=Europe/Berlin:20240503T144500
DTEND;TZID=Europe/Berlin:20240503T164500
LOCATION:Městská sportovní hala\, Petřivalského 2884 Přerov - Přerov I-Měst
 o
SUMMARY:MCR-U16Z-FB: Svitavy-Jihlava
END:VEVENT
BEGIN:VEVENT
UID:32643231-3266-4330-b332-363063373566
DTSTAMP:20260422T154737Z
DESCRIPTION:1/1 Liberec - Svitavy 2:0 (7\,20)
DTSTART;TZID=Europe/Berlin:20240503T121500
DTEND;TZID=Europe/Berlin:20240503T141500
LOCATION:Městská sportovní hala\, Petřivalského 2884 Přerov - Přerov I-Měst
 o
SUMMARY:MCR-U16Z-FB: Liberec-Svitavy
END:VEVENT
BEGIN:VEVENT
UID:35623962-3432-4532-b564-663338313033
DTSTAMP:20260422T154737Z
DESCRIPTION:3/5 Rudolfov - Svitavy 2:0 (12\,12)
DTSTART;TZID=Europe/Berlin:20240503T171500
DTEND;TZID=Europe/Berlin:20240503T191500
LOCATION:Městská sportovní hala\, Petřivalského 2884 Přerov - Přerov I-Měst
 o
SUMMARY:MCR-U16Z-FB: Rudolfov-Svitavy
END:VEVENT
BEGIN:VEVENT
UID:66336338-3436-4236-a664-663034636332
DTSTAMP:20260422T154737Z
DESCRIPTION:1/2 Svitavy - Hradec Králové 0:2 (-14\,-20)
DTSTART;TZID=Europe/Berlin:20240504T124500
DTEND;TZID=Europe/Berlin:20240504T144500
LOCATION:Sportovní hala\, Kouřílkova 1028 Přerov - Přerov I-Město
SUMMARY:MCR-U16Z-FG: Svitavy-Hradec Králové
END:VEVENT
BEGIN:VEVENT
UID:31343730-3139-4733-a461-373562646637
DTSTAMP:20260422T154737Z
DESCRIPTION:3/5 Svitavy - Jirkov 2:1 (-21\,12\,12)
DTSTART;TZID=Europe/Berlin:20240504T163000
DTEND;TZID=Europe/Berlin:20240504T183000
LOCATION:Sportovní hala\, Kouřílkova 1028 Přerov - Přerov I-Město
SUMMARY:MCR-U16Z-FG: Svitavy-Jirkov
END:VEVENT
BEGIN:VEVENT
UID:32663532-6238-4065-b261-393131393264
DTSTAMP:20260422T154737Z
DESCRIPTION:2/4 Kralupy - Svitavy 2:0 (18\,15)
DTSTART;TZID=Europe/Berlin:20240504T151500
DTEND;TZID=Europe/Berlin:20240504T171500
LOCATION:Sportovní hala\, Kouřílkova 1028 Přerov - Přerov I-Město
SUMMARY:MCR-U16Z-FG: Kralupy-Svitavy
END:VEVENT
END:VCALENDAR
