BEGIN:VCALENDAR
VERSION:2.0
PRODID:-//Volejbalový spolek Ostrava "B"82754//NONSGML kigkonsult.se iCalcreator 2.41.80//
CALSCALE:GREGORIAN
UID:64626666-6138-4331-b765-313838333630
BEGIN:VEVENT
UID:61356532-6162-4665-a561-366465663530
DTSTAMP:20260423T064154Z
DESCRIPTION:7/8 VS Ostrava 'B' - TJ S. Vratimov 2:0 (9\,17)\no 7.místo
DTSTART;TZID=Europe/Berlin:20231008T180000
DTEND;TZID=Europe/Berlin:20231008T200000
LOCATION:Víceúčelová sportovní hala\,  Raškovice18
SUMMARY:MS-U16Z-KVC: VS Ostrava 'B'-TJ S. Vratimov
END:VEVENT
BEGIN:VEVENT
UID:37653837-6338-4339-a537-366363333866
DTSTAMP:20260423T064154Z
DESCRIPTION:6/4 VkB Frýdlant n.O. - VS Ostrava 'B' 2:0 (9\,10)
DTSTART;TZID=Europe/Berlin:20231008T163000
DTEND;TZID=Europe/Berlin:20231008T183000
LOCATION:Víceúčelová sportovní hala\,  Raškovice18
SUMMARY:MS-U16Z-KVC: VkB Frýdlant n.O.-VS Ostrava 'B'
END:VEVENT
BEGIN:VEVENT
UID:39383236-3932-4439-b638-396131366261
DTSTAMP:20260423T064154Z
DESCRIPTION:1/1 Ostrava - VS Ostrava 'B' 2:0 (5\,7)
DTSTART;TZID=Europe/Berlin:20231008T090000
DTEND;TZID=Europe/Berlin:20231008T110000
LOCATION:Víceúčelová sportovní hala\,  Raškovice18
SUMMARY:MS-U16Z-KVC1: Ostrava-VS Ostrava 'B'
END:VEVENT
BEGIN:VEVENT
UID:36383634-3139-4631-b933-663066306661
DTSTAMP:20260423T064154Z
DESCRIPTION:3/3 VK Karviná 'A' - VS Ostrava 'B' 2:0 (8\,13)
DTSTART;TZID=Europe/Berlin:20231008T120000
DTEND;TZID=Europe/Berlin:20231008T140000
LOCATION:Víceúčelová sportovní hala\,  Raškovice18
SUMMARY:MS-U16Z-KVC1: VK Karviná 'A'-VS Ostrava 'B'
END:VEVENT
BEGIN:VEVENT
UID:38303966-3761-4434-b939-343734666234
DTSTAMP:20260423T064154Z
DESCRIPTION:4/6 TJ Sokol F-M C - VS Ostrava 'B' 2:1 (12\,-18\,10)
DTSTART;TZID=Europe/Berlin:20231008T133000
DTEND;TZID=Europe/Berlin:20231008T153000
LOCATION:Víceúčelová sportovní hala\,  Raškovice18
SUMMARY:MS-U16Z-KVC1: TJ Sokol F-M C-VS Ostrava 'B'
END:VEVENT
BEGIN:VEVENT
UID:36333237-3862-4262-a536-333735386631
DTSTAMP:20260423T064154Z
DESCRIPTION:3/5 VS Ostrava 'B' - TJ Hlučín\, 'B' 2:0 (20\,19)
DTSTART;TZID=Europe/Berlin:20231105T113000
DTEND;TZID=Europe/Berlin:20231105T133000
LOCATION:Sportovní hala Žákovská\, Komunardů 1548 Havířov - Město
SUMMARY:MS-U16Z-T1G: VS Ostrava 'B'-TJ Hlučín\, 'B'
END:VEVENT
BEGIN:VEVENT
UID:30316366-3566-4161-b131-646461366564
DTSTAMP:20260423T064154Z
DESCRIPTION:1/2 VAM Havířov 'B' - VS Ostrava 'B' 1:2 (23\,-11\,-10)
DTSTART;TZID=Europe/Berlin:20231105T083000
DTEND;TZID=Europe/Berlin:20231105T103000
LOCATION:Sportovní hala Žákovská\, Komunardů 1548 Havířov - Město
SUMMARY:MS-U16Z-T1G: VAM Havířov 'B'-VS Ostrava 'B'
END:VEVENT
BEGIN:VEVENT
UID:38623962-3733-4463-a132-396365346534
DTSTAMP:20260423T064154Z
DESCRIPTION:2/4 SVK NJ B - VS Ostrava 'B' 2:0 (22\,11)
DTSTART;TZID=Europe/Berlin:20231105T100000
DTEND;TZID=Europe/Berlin:20231105T120000
LOCATION:Sportovní hala Žákovská\, Komunardů 1548 Havířov - Město
SUMMARY:MS-U16Z-T1G: SVK NJ B-VS Ostrava 'B'
END:VEVENT
BEGIN:VEVENT
UID:38366132-3436-4065-a234-353662336437
DTSTAMP:20260423T064154Z
DESCRIPTION:1/2 VS Ostrava 'B' - TJ S. St.Bělá 2:0 (13\,24)
DTSTART;TZID=Europe/Berlin:20231126T090000
DTEND;TZID=Europe/Berlin:20231126T110000
LOCATION:Sportovní hala\, Tyršova 1668 Hlučín
SUMMARY:MS-U16Z-T2H: VS Ostrava 'B'-TJ S. St.Bělá
END:VEVENT
BEGIN:VEVENT
UID:62646463-3064-4065-b538-646366333565
DTSTAMP:20260423T064154Z
DESCRIPTION:2/4 VS Ostrava 'B' - TJ S. Vratimov 2:0 (18\,16)
DTSTART;TZID=Europe/Berlin:20231126T103000
DTEND;TZID=Europe/Berlin:20231126T123000
LOCATION:Sportovní hala\, Tyršova 1668 Hlučín
SUMMARY:MS-U16Z-T2H: VS Ostrava 'B'-TJ S. Vratimov
END:VEVENT
BEGIN:VEVENT
UID:37613837-6665-4039-b831-383039613361
DTSTAMP:20260423T064154Z
DESCRIPTION:3/6 VS Ostrava 'B' - TJ Hlučín\, 'B' 2:1 (19\,-24\,9)
DTSTART;TZID=Europe/Berlin:20231126T120000
DTEND;TZID=Europe/Berlin:20231126T140000
LOCATION:Sportovní hala\, Tyršova 1668 Hlučín
SUMMARY:MS-U16Z-T2H: VS Ostrava 'B'-TJ Hlučín\, 'B'
END:VEVENT
BEGIN:VEVENT
UID:66356334-3466-4136-b133-393162633561
DTSTAMP:20260423T064154Z
DESCRIPTION:4/6 VS Ostrava 'B' - TJ Hlučín\, 'B' 1:2 (10\,-20\,-8)
DTSTART;TZID=Europe/Berlin:20231217T133000
DTEND;TZID=Europe/Berlin:20231217T153000
LOCATION:Sportovní hala Žákovská\, Komunardů 1548 Havířov - Město
SUMMARY:MS-U16Z-T3G: VS Ostrava 'B'-TJ Hlučín\, 'B'
END:VEVENT
BEGIN:VEVENT
UID:63393734-3132-4239-a630-393238616564
DTSTAMP:20260423T064154Z
DESCRIPTION:1/2 VAM Havířov 'B' - VS Ostrava 'B' 2:1 (24\,-20\,9)
DTSTART;TZID=Europe/Berlin:20231217T090000
DTEND;TZID=Europe/Berlin:20231217T110000
LOCATION:Sportovní hala Žákovská\, Komunardů 1548 Havířov - Město
SUMMARY:MS-U16Z-T3G: VAM Havířov 'B'-VS Ostrava 'B'
END:VEVENT
BEGIN:VEVENT
UID:35383734-6538-4634-a634-316638386466
DTSTAMP:20260423T064155Z
DESCRIPTION:2/3 VS Ostrava 'A' - VS Ostrava 'B' 2:1 (-17\,17\,10)
DTSTART;TZID=Europe/Berlin:20231217T103000
DTEND;TZID=Europe/Berlin:20231217T123000
LOCATION:Sportovní hala Žákovská\, Komunardů 1548 Havířov - Město
SUMMARY:MS-U16Z-T3G: VS Ostrava 'A'-VS Ostrava 'B'
END:VEVENT
BEGIN:VEVENT
UID:31313939-6364-4164-b038-613234313766
DTSTAMP:20260423T064155Z
DESCRIPTION:1/2 VS Ostrava 'B' - TJ Sokol F-M C 2:1 (26\,-22\,16)
DTSTART;TZID=Europe/Berlin:20240114T090000
DTEND;TZID=Europe/Berlin:20240114T110000
LOCATION:Sportovní hala Nová Bělá\, Krmelínská 750 Ostrava - Nová Bělá
SUMMARY:MS-U16Z-T4H: VS Ostrava 'B'-TJ Sokol F-M C
END:VEVENT
BEGIN:VEVENT
UID:64366565-3264-4761-b765-626462323030
DTSTAMP:20260423T064155Z
DESCRIPTION:2/4 VS Ostrava 'B' - TJ S. St.Bělá 2:0 (15\,9)
DTSTART;TZID=Europe/Berlin:20240114T103000
DTEND;TZID=Europe/Berlin:20240114T123000
LOCATION:Sportovní hala Nová Bělá\, Krmelínská 750 Ostrava - Nová Bělá
SUMMARY:MS-U16Z-T4H: VS Ostrava 'B'-TJ S. St.Bělá
END:VEVENT
BEGIN:VEVENT
UID:65366665-3734-4131-a338-643862656635
DTSTAMP:20260423T064155Z
DESCRIPTION:3/5 TJ Hlučín\, 'B' - VS Ostrava 'B' 0:2 (-10\,-10)
DTSTART;TZID=Europe/Berlin:20240114T120000
DTEND;TZID=Europe/Berlin:20240114T140000
LOCATION:Sportovní hala Nová Bělá\, Krmelínská 750 Ostrava - Nová Bělá
SUMMARY:MS-U16Z-T4H: TJ Hlučín\, 'B'-VS Ostrava 'B'
END:VEVENT
BEGIN:VEVENT
UID:63303064-6463-4831-b666-666233373434
DTSTAMP:20260423T064155Z
DESCRIPTION:2/2 TJ Sokol F-M B - VS Ostrava 'B' 2:0 (18\,22)
DTSTART;TZID=Europe/Berlin:20240211T103000
DTEND;TZID=Europe/Berlin:20240211T123000
LOCATION:Sokolovna\, K Sokolovně 135 Vratimov
SUMMARY:MS-U16Z-T5G: TJ Sokol F-M B-VS Ostrava 'B'
END:VEVENT
BEGIN:VEVENT
UID:66376563-3834-4138-a532-343833636365
DTSTAMP:20260423T064155Z
DESCRIPTION:3/3 SK Sl.Orlová 'B' - VS Ostrava 'B' 2:1 (22\,-18\,15)
DTSTART;TZID=Europe/Berlin:20240211T120000
DTEND;TZID=Europe/Berlin:20240211T140000
LOCATION:Sokolovna\, K Sokolovně 135 Vratimov
SUMMARY:MS-U16Z-T5G: SK Sl.Orlová 'B'-VS Ostrava 'B'
END:VEVENT
BEGIN:VEVENT
UID:38353532-3937-4234-a666-646365393037
DTSTAMP:20260423T064155Z
DESCRIPTION:6/6 TJ S. Vratimov - VS Ostrava 'B' 0:2 (-16\,-11)
DTSTART;TZID=Europe/Berlin:20240211T163000
DTEND;TZID=Europe/Berlin:20240211T183000
LOCATION:Sokolovna\, K Sokolovně 135 Vratimov
SUMMARY:MS-U16Z-T5G: TJ S. Vratimov-VS Ostrava 'B'
END:VEVENT
BEGIN:VEVENT
UID:31666338-3135-4431-a535-656335316666
DTSTAMP:20260423T064155Z
DESCRIPTION:1/1 VS Ostrava 'B' - TJ Sokol F-M C 2:0 (10\,11)
DTSTART;TZID=Europe/Berlin:20240225T083000
DTEND;TZID=Europe/Berlin:20240225T103000
LOCATION:SŠSS Krakovská \, Krakovská 1095 Ostrava - Hrabůvka
SUMMARY:MS-U16Z-T6G: VS Ostrava 'B'-TJ Sokol F-M C
END:VEVENT
BEGIN:VEVENT
UID:36353766-3465-4533-b532-366338623736
DTSTAMP:20260423T064155Z
DESCRIPTION:4/4 VS Ostrava 'B' - TJ S. Vratimov 2:0 (20\,17)
DTSTART;TZID=Europe/Berlin:20240225T130000
DTEND;TZID=Europe/Berlin:20240225T150000
LOCATION:SŠSS Krakovská \, Krakovská 1095 Ostrava - Hrabůvka
SUMMARY:MS-U16Z-T6G: VS Ostrava 'B'-TJ S. Vratimov
END:VEVENT
BEGIN:VEVENT
UID:64626338-3064-4636-a335-363361393336
DTSTAMP:20260423T064155Z
DESCRIPTION:6/6 VAM Havířov 'B' - VS Ostrava 'B' 0:2 (-17\,-20)
DTSTART;TZID=Europe/Berlin:20240225T160000
DTEND;TZID=Europe/Berlin:20240225T180000
LOCATION:SŠSS Krakovská \, Krakovská 1095 Ostrava - Hrabůvka
SUMMARY:MS-U16Z-T6G: VAM Havířov 'B'-VS Ostrava 'B'
END:VEVENT
BEGIN:VEVENT
UID:35316239-6637-4263-a133-393336326365
DTSTAMP:20260423T064155Z
DESCRIPTION:1/1 VO Sl. Orlice - VS Ostrava 'B' 0:2 (-22\,-23)
DTSTART;TZID=Europe/Berlin:20240324T090000
DTEND;TZID=Europe/Berlin:20240324T110000
LOCATION:ZŠ Janáčkovo náměstí 17\, Janáčkovo náměstí 1970 Krnov - Pod Bezru
 čovým vrchem
SUMMARY:MS-U16Z-T7F: VO Sl. Orlice-VS Ostrava 'B'
END:VEVENT
BEGIN:VEVENT
UID:36323666-3834-4833-b335-396165346664
DTSTAMP:20260423T064155Z
DESCRIPTION:2/4 TJ Sokol F-M B - VS Ostrava 'B' 0:2 (-17\,-25)
DTSTART;TZID=Europe/Berlin:20240324T103000
DTEND;TZID=Europe/Berlin:20240324T123000
LOCATION:ZŠ Janáčkovo náměstí 17\, Janáčkovo náměstí 1970 Krnov - Pod Bezru
 čovým vrchem
SUMMARY:MS-U16Z-T7F: TJ Sokol F-M B-VS Ostrava 'B'
END:VEVENT
BEGIN:VEVENT
UID:61626634-3864-4134-a634-623230663635
DTSTAMP:20260423T064155Z
DESCRIPTION:3/6 VK Karviná 'A' - VS Ostrava 'B' 1:2 (11\,-15\,-13)
DTSTART;TZID=Europe/Berlin:20240324T120000
DTEND;TZID=Europe/Berlin:20240324T140000
LOCATION:ZŠ Janáčkovo náměstí 17\, Janáčkovo náměstí 1970 Krnov - Pod Bezru
 čovým vrchem
SUMMARY:MS-U16Z-T7F: VK Karviná 'A'-VS Ostrava 'B'
END:VEVENT
END:VCALENDAR
