BEGIN:VCALENDAR
VERSION:2.0
PRODID:-//T.J. Sokol Mnichovo Hradiště82759//NONSGML kigkonsult.se iCalcreator 2.41.80//
CALSCALE:GREGORIAN
UID:30303231-3235-4361-a165-643037613934
BEGIN:VEVENT
UID:33376236-3238-4764-b061-643836303361
DTSTAMP:20260423T022336Z
DESCRIPTION:1/1 Sokol Mn. Hradiště - SK PROSEK B 2:0 (12\,13)
DTSTART;TZID=Europe/Berlin:20231014T113000
DTEND;TZID=Europe/Berlin:20231014T133000
LOCATION:Sportovní hala BIOS\, Sokolovská 254 Mnichovo Hradiště
SUMMARY:CP-U16M-Z1C: Sokol Mn. Hradiště-SK PROSEK B
END:VEVENT
BEGIN:VEVENT
UID:34653839-3264-4233-b935-616630636364
DTSTAMP:20260423T022336Z
DESCRIPTION:4/4 Sokol Mn. Hradiště - VK Lvi Praha A 0:2 (-19\,-21)
DTSTART;TZID=Europe/Berlin:20231014T143000
DTEND;TZID=Europe/Berlin:20231014T163000
LOCATION:Sportovní hala BIOS\, Sokolovská 254 Mnichovo Hradiště
SUMMARY:CP-U16M-Z1C: Sokol Mn. Hradiště-VK Lvi Praha A
END:VEVENT
BEGIN:VEVENT
UID:61636534-6330-4437-b464-633031313565
DTSTAMP:20260423T022336Z
DESCRIPTION:6/6 SK Meteor Praha - Sokol Mn. Hradiště 0:2 (-19\,-10)
DTSTART;TZID=Europe/Berlin:20231014T163000
DTEND;TZID=Europe/Berlin:20231014T183000
LOCATION:ZŠ Žernosecká\, Žernosecká 1597 Praha - Kobylisy
SUMMARY:CP-U16M-Z1C: SK Meteor Praha-Sokol Mn. Hradiště
END:VEVENT
BEGIN:VEVENT
UID:64333733-6435-4839-a531-323136643138
DTSTAMP:20260423T022336Z
DESCRIPTION:1/3 Sokol Mn. Hradiště - Tělovýchovná jednota Jiskra Nový Bor\,
  z.s. 2:0 (18\,13)\n2C - 3D
DTSTART;TZID=Europe/Berlin:20231014T173000
DTEND;TZID=Europe/Berlin:20231014T193000
LOCATION:Sportovní hala BIOS\, Sokolovská 254 Mnichovo Hradiště
SUMMARY:CP-U16M-Z1I: Sokol Mn. Hradiště-Tělovýchovná jednota Jiskra Nový Bo
 r\, z.s.
END:VEVENT
BEGIN:VEVENT
UID:38313133-3338-4537-b131-366562343964
DTSTAMP:20260423T022336Z
DESCRIPTION:1/1 Sokol Mn. Hradiště - TJ Slavia HK 2:0 (19\,23)
DTSTART;TZID=Europe/Berlin:20231015T090000
DTEND;TZID=Europe/Berlin:20231015T110000
LOCATION:Sportovní hala BIOS\, Sokolovská 254 Mnichovo Hradiště
SUMMARY:CP-U16M-Z1J: Sokol Mn. Hradiště-TJ Slavia HK
END:VEVENT
BEGIN:VEVENT
UID:34666337-3466-4234-b737-353463396433
DTSTAMP:20260423T022336Z
DESCRIPTION:2/2 Volejbal Sokolov\, z.s. - Sokol Mn. Hradiště 0:2 (-29\,-22)
DTSTART;TZID=Europe/Berlin:20231015T100000
DTEND;TZID=Europe/Berlin:20231015T120000
LOCATION:Jiskra\, Maxima Gorkého 280 Sokolov
SUMMARY:CP-U16M-Z1J: Volejbal Sokolov\, z.s.-Sokol Mn. Hradiště
END:VEVENT
BEGIN:VEVENT
UID:37393639-3432-4561-b236-636165666438
DTSTAMP:20260423T022336Z
DESCRIPTION:1/4 Sokol Mn. Hradiště - SK Volejbal Kolín\, z.s. 2:0 (23\,22)
 \nJ1-K1
DTSTART;TZID=Europe/Berlin:20231015T130000
DTEND;TZID=Europe/Berlin:20231015T150000
LOCATION:Sportovní hala BIOS\, Sokolovská 254 Mnichovo Hradiště
SUMMARY:CP-U16M-Z1UMIS: Sokol Mn. Hradiště-SK Volejbal Kolín\, z.s.
END:VEVENT
BEGIN:VEVENT
UID:39303139-3036-4265-b034-623664663431
DTSTAMP:20260423T022336Z
DESCRIPTION:3/5 Sokol Mn. Hradiště - VK České Budějovice A 1:2 (18\,-17\,-1
 3)
DTSTART;TZID=Europe/Berlin:20231118T120000
DTEND;TZID=Europe/Berlin:20231118T140000
LOCATION:Sportovní hala BIOS\, Sokolovská 254 Mnichovo Hradiště
SUMMARY:CP-U16M-Z2A: Sokol Mn. Hradiště-VK České Budějovice A
END:VEVENT
BEGIN:VEVENT
UID:34306539-3438-4663-a131-373438653966
DTSTAMP:20260423T022336Z
DESCRIPTION:7/13 Sokol Mn. Hradiště - VK Lvi Praha A 0:2 (-21\,-20)
DTSTART;TZID=Europe/Berlin:20231118T160000
DTEND;TZID=Europe/Berlin:20231118T180000
LOCATION:Sportovní hala BIOS\, Sokolovská 254 Mnichovo Hradiště
SUMMARY:CP-U16M-Z2A: Sokol Mn. Hradiště-VK Lvi Praha A
END:VEVENT
BEGIN:VEVENT
UID:39613665-6161-4662-b861-346362373661
DTSTAMP:20260423T022336Z
DESCRIPTION:11/21 Sokol Mn. Hradiště - SK PROSEK A 0:2 (-17\,-15)
DTSTART;TZID=Europe/Berlin:20231119T110000
DTEND;TZID=Europe/Berlin:20231119T130000
LOCATION:Sportovní hala BIOS\, Sokolovská 254 Mnichovo Hradiště
SUMMARY:CP-U16M-Z2A: Sokol Mn. Hradiště-SK PROSEK A
END:VEVENT
BEGIN:VEVENT
UID:61303862-3939-4464-a436-633037653061
DTSTAMP:20260423T022336Z
DESCRIPTION:1/2 VK Jirkov - Sokol Mn. Hradiště 2:0 (13\,19)
DTSTART;TZID=Europe/Berlin:20231118T100000
DTEND;TZID=Europe/Berlin:20231118T120000
LOCATION:Sportovní hala MG a ZŠ Jirkov\, Krušnohorská 1675 Jirkov
SUMMARY:CP-U16M-Z2A: VK Jirkov-Sokol Mn. Hradiště
END:VEVENT
BEGIN:VEVENT
UID:33373562-3639-4266-b539-303438383539
DTSTAMP:20260423T022336Z
DESCRIPTION:5/9 VK Trox Příbram A - Sokol Mn. Hradiště 2:0 (19\,23)
DTSTART;TZID=Europe/Berlin:20231118T140000
DTEND;TZID=Europe/Berlin:20231118T160000
LOCATION:Tělocvična ZŠ Balbínova\, Balbínova 328 Příbram - Příbram II
SUMMARY:CP-U16M-Z2A: VK Trox Příbram A-Sokol Mn. Hradiště
END:VEVENT
BEGIN:VEVENT
UID:66393734-6366-4832-b836-393934346239
DTSTAMP:20260423T022336Z
DESCRIPTION:10/19 Orion Praha - Sokol Mn. Hradiště 0:2 (-21\,-21)
DTSTART;TZID=Europe/Berlin:20231119T100000
DTEND;TZID=Europe/Berlin:20231119T120000
LOCATION:ZŠ prof. Švejcara\, Mráčkova\, Mráčkova 3090 Praha - Modřany
SUMMARY:CP-U16M-Z2A: Orion Praha-Sokol Mn. Hradiště
END:VEVENT
BEGIN:VEVENT
UID:33663933-6361-4837-b337-303239373731
DTSTAMP:20260423T022336Z
DESCRIPTION:14/28 SK Volejbal Kolín\, z.s. - Sokol Mn. Hradiště 2:1 (17\,-2
 2\,9)
DTSTART;TZID=Europe/Berlin:20231119T140000
DTEND;TZID=Europe/Berlin:20231119T160000
LOCATION:hala STAV\, SOŠ Kolín\, Brankovická 1417 Kolín - Kolín V
SUMMARY:CP-U16M-Z2A: SK Volejbal Kolín\, z.s.-Sokol Mn. Hradiště
END:VEVENT
BEGIN:VEVENT
UID:63363036-3637-4363-b332-643138303264
DTSTAMP:20260423T022336Z
DESCRIPTION:4/7 Sokol Mn. Hradiště - SKV Ústí n. L. 2:0 (10\,17)
DTSTART;TZID=Europe/Berlin:20231202T130000
DTEND;TZID=Europe/Berlin:20231202T150000
LOCATION:Sportovní hala BIOS\, Sokolovská 254 Mnichovo Hradiště
SUMMARY:CP-U16M-Z3B: Sokol Mn. Hradiště-SKV Ústí n. L.
END:VEVENT
BEGIN:VEVENT
UID:61316236-6262-4563-a437-383136653534
DTSTAMP:20260423T022336Z
DESCRIPTION:8/16 Sokol Mn. Hradiště - VK Dukla Liberec 0:2 (-23\,-22)
DTSTART;TZID=Europe/Berlin:20231202T180000
DTEND;TZID=Europe/Berlin:20231202T200000
LOCATION:Sportovní hala BIOS\, Sokolovská 254 Mnichovo Hradiště
SUMMARY:CP-U16M-Z3B: Sokol Mn. Hradiště-VK Dukla Liberec
END:VEVENT
BEGIN:VEVENT
UID:64646437-3664-4039-b436-386666653935
DTSTAMP:20260423T022336Z
DESCRIPTION:9/17 Sokol Mn. Hradiště - VK Trox Příbram B 2:0 (19\,11)
DTSTART;TZID=Europe/Berlin:20231203T090000
DTEND;TZID=Europe/Berlin:20231203T110000
LOCATION:Sportovní hala BIOS\, Sokolovská 254 Mnichovo Hradiště
SUMMARY:CP-U16M-Z3B: Sokol Mn. Hradiště-VK Trox Příbram B
END:VEVENT
BEGIN:VEVENT
UID:66653230-6331-4632-b131-323130346437
DTSTAMP:20260423T022336Z
DESCRIPTION:12/23 Sokol Mn. Hradiště - Volejbal Sokolov\, z.s. 2:0 (18\,15)
DTSTART;TZID=Europe/Berlin:20231203T120000
DTEND;TZID=Europe/Berlin:20231203T140000
LOCATION:Sportovní hala BIOS\, Sokolovská 254 Mnichovo Hradiště
SUMMARY:CP-U16M-Z3B: Sokol Mn. Hradiště-Volejbal Sokolov\, z.s.
END:VEVENT
BEGIN:VEVENT
UID:32393862-3332-4834-b366-616330393137
DTSTAMP:20260423T022336Z
DESCRIPTION:1/1 SK Meteor Praha - Sokol Mn. Hradiště 0:2 (-19\,-20)
DTSTART;TZID=Europe/Berlin:20231202T093000
DTEND;TZID=Europe/Berlin:20231202T113000
LOCATION:ZŠ Žernosecká\, Žernosecká 1597 Praha - Kobylisy
SUMMARY:CP-U16M-Z3B: SK Meteor Praha-Sokol Mn. Hradiště
END:VEVENT
BEGIN:VEVENT
UID:33626466-6239-4461-b433-383335336334
DTSTAMP:20260423T022336Z
DESCRIPTION:7/13 TJ Lokomotiva Česká Lípa\, z.s. - Sokol Mn. Hradiště 0:2 (
 -15\,-19)
DTSTART;TZID=Europe/Berlin:20231202T160000
DTEND;TZID=Europe/Berlin:20231202T180000
LOCATION:ZŠ Lada\, Šluknovská 2904 Česká Lípa
SUMMARY:CP-U16M-Z3B: TJ Lokomotiva Česká Lípa\, z.s.-Sokol Mn. Hradiště
END:VEVENT
BEGIN:VEVENT
UID:36656135-3531-4133-b765-303363643132
DTSTAMP:20260423T022336Z
DESCRIPTION:14/27 Orion Praha - Sokol Mn. Hradiště 2:0 (23\,21)
DTSTART;TZID=Europe/Berlin:20231203T140000
DTEND;TZID=Europe/Berlin:20231203T160000
LOCATION:ZŠ prof. Švejcara\, Mráčkova\, Mráčkova 3090 Praha - Modřany
SUMMARY:CP-U16M-Z3B: Orion Praha-Sokol Mn. Hradiště
END:VEVENT
BEGIN:VEVENT
UID:65383164-6361-4530-b439-653764316639
DTSTAMP:20260423T022336Z
DESCRIPTION:3/3 Sokol Mn. Hradiště - VK Trox Příbram A 0:2 (-18\,-26)
DTSTART;TZID=Europe/Berlin:20240120T110000
DTEND;TZID=Europe/Berlin:20240120T130000
LOCATION:Sportovní hala BIOS\, Sokolovská 254 Mnichovo Hradiště
SUMMARY:CP-U16M-4B: Sokol Mn. Hradiště-VK Trox Příbram A
END:VEVENT
BEGIN:VEVENT
UID:66383330-3364-4333-b638-323134313564
DTSTAMP:20260423T022336Z
DESCRIPTION:6/7 Sokol Mn. Hradiště - Sportovní volejbalový klub Nový Jičín\
 , z.s. 2:0 (17\,16)
DTSTART;TZID=Europe/Berlin:20240120T140000
DTEND;TZID=Europe/Berlin:20240120T160000
LOCATION:Sportovní hala BIOS\, Sokolovská 254 Mnichovo Hradiště
SUMMARY:CP-U16M-4B: Sokol Mn. Hradiště-Sportovní volejbalový klub Nový Jičí
 n\, z.s.
END:VEVENT
BEGIN:VEVENT
UID:61306235-3762-4539-a133-366435633461
DTSTAMP:20260423T022336Z
DESCRIPTION:8/12 SK Volejbal Kolín\, z.s. - Sokol Mn. Hradiště 2:0 (25\,14)
DTSTART;TZID=Europe/Berlin:20240120T160000
DTEND;TZID=Europe/Berlin:20240120T180000
LOCATION:hala STAV\, SOŠ Kolín\, Brankovická 1417 Kolín - Kolín V
SUMMARY:CP-U16M-4B: SK Volejbal Kolín\, z.s.-Sokol Mn. Hradiště
END:VEVENT
BEGIN:VEVENT
UID:33303933-3032-4830-b430-663439666664
DTSTAMP:20260423T022336Z
DESCRIPTION:9/16 Zlín - Sokol Mn. Hradiště 0:2 (-21\,-16)
DTSTART;TZID=Europe/Berlin:20240120T170000
DTEND;TZID=Europe/Berlin:20240120T190000
LOCATION:ZŠ Okružní Zlín\, Okružní 4685 Zlín
SUMMARY:CP-U16M-4B: Zlín-Sokol Mn. Hradiště
END:VEVENT
BEGIN:VEVENT
UID:39366432-6433-4434-b564-656465303664
DTSTAMP:20260423T022336Z
DESCRIPTION:11/20 TJ Svitavy\, z.s. - Sokol Mn. Hradiště 2:1 (21\,-16\,10)
DTSTART;TZID=Europe/Berlin:20240121T100000
DTEND;TZID=Europe/Berlin:20240121T120000
LOCATION:Sportovní hala Na Střelnici\, Pražská 2162 Svitavy - Předměstí
SUMMARY:CP-U16M-4B: TJ Svitavy\, z.s.-Sokol Mn. Hradiště
END:VEVENT
BEGIN:VEVENT
UID:63326561-6530-4438-b435-636230303630
DTSTAMP:20260423T022336Z
DESCRIPTION:13/24 Orion Praha - Sokol Mn. Hradiště 1:2 (18\,-17\,-13)
DTSTART;TZID=Europe/Berlin:20240121T120000
DTEND;TZID=Europe/Berlin:20240121T140000
LOCATION:ZŠ prof. Švejcara\, Mráčkova\, Mráčkova 3090 Praha - Modřany
SUMMARY:CP-U16M-4B: Orion Praha-Sokol Mn. Hradiště
END:VEVENT
BEGIN:VEVENT
UID:66616366-3837-4733-a232-333138313737
DTSTAMP:20260423T022336Z
DESCRIPTION:15/28 TJ Slavia HK - Sokol Mn. Hradiště 1:2 (-17\,27\,-4)
DTSTART;TZID=Europe/Berlin:20240121T140000
DTEND;TZID=Europe/Berlin:20240121T160000
LOCATION:TJ Slavia Hradec Králové\, Víta Nejedlého 1216 Hradec Králové
SUMMARY:CP-U16M-4B: TJ Slavia HK-Sokol Mn. Hradiště
END:VEVENT
BEGIN:VEVENT
UID:63373163-3038-4333-a239-376638636430
DTSTAMP:20260423T022336Z
DESCRIPTION:1/2 Sokol Mn. Hradiště - Kladno volejbal cz 2:1 (-21\,21\,13)
DTSTART;TZID=Europe/Berlin:20240210T100000
DTEND;TZID=Europe/Berlin:20240210T120000
LOCATION:Sportovní hala BIOS\, Sokolovská 254 Mnichovo Hradiště
SUMMARY:CP-U16M-5B: Sokol Mn. Hradiště-Kladno volejbal cz
END:VEVENT
BEGIN:VEVENT
UID:31613839-3633-4562-b738-353532386439
DTSTAMP:20260423T022336Z
DESCRIPTION:3/6 Sokol Mn. Hradiště - Orion Praha 2:0 (16\,16)
DTSTART;TZID=Europe/Berlin:20240210T120000
DTEND;TZID=Europe/Berlin:20240210T140000
LOCATION:Sportovní hala BIOS\, Sokolovská 254 Mnichovo Hradiště
SUMMARY:CP-U16M-5B: Sokol Mn. Hradiště-Orion Praha
END:VEVENT
BEGIN:VEVENT
UID:30393961-6332-4766-b865-633162313063
DTSTAMP:20260423T022336Z
DESCRIPTION:5/9 TJ Svitavy\, z.s. - Sokol Mn. Hradiště 2:1 (17\,-19\,12)
DTSTART;TZID=Europe/Berlin:20240210T140000
DTEND;TZID=Europe/Berlin:20240210T160000
LOCATION:Sportovní hala Na Střelnici\, Pražská 2162 Svitavy - Předměstí
SUMMARY:CP-U16M-5B: TJ Svitavy\, z.s.-Sokol Mn. Hradiště
END:VEVENT
BEGIN:VEVENT
UID:31626235-3337-4634-b633-306265346230
DTSTAMP:20260423T022336Z
DESCRIPTION:6/11 TJ SOKOL LETOVICE\, z.s. - Sokol Mn. Hradiště 1:2 (17\,-20
 \,-14)
DTSTART;TZID=Europe/Berlin:20240210T150000
DTEND;TZID=Europe/Berlin:20240210T170000
LOCATION:Sportovní hala Letovice\, V zahradách 831 Letovice
SUMMARY:CP-U16M-5B: TJ SOKOL LETOVICE\, z.s.-Sokol Mn. Hradiště
END:VEVENT
BEGIN:VEVENT
UID:63373466-6536-4131-b361-326136393934
DTSTAMP:20260423T022336Z
DESCRIPTION:10/20 Zlín - Sokol Mn. Hradiště 1:2 (-21\,16\,-4)
DTSTART;TZID=Europe/Berlin:20240211T100000
DTEND;TZID=Europe/Berlin:20240211T120000
LOCATION:ZŠ Okružní Zlín\, Okružní 4685 Zlín
SUMMARY:CP-U16M-5B: Zlín-Sokol Mn. Hradiště
END:VEVENT
BEGIN:VEVENT
UID:39663938-3432-4337-a638-353462313162
DTSTAMP:20260423T022336Z
DESCRIPTION:11/21 Green F-M - Sokol Mn. Hradiště 2:0 (20\,15)
DTSTART;TZID=Europe/Berlin:20240211T110000
DTEND;TZID=Europe/Berlin:20240211T130000
LOCATION:Hala SPŠ\, 28. října 1639 Frýdek-Místek - Místek
SUMMARY:CP-U16M-5B: Green F-M-Sokol Mn. Hradiště
END:VEVENT
BEGIN:VEVENT
UID:62373735-6665-4339-b162-306433643932
DTSTAMP:20260423T022336Z
DESCRIPTION:13/26 VK Brno\, z.s. - Sokol Mn. Hradiště 2:0 (16\,15)
DTSTART;TZID=Europe/Berlin:20240211T130000
DTEND;TZID=Europe/Berlin:20240211T150000
LOCATION:Sportovní gymnázium Ludvíka Daňka\, Botanická 63 Brno - Ponava
SUMMARY:CP-U16M-5B: VK Brno\, z.s.-Sokol Mn. Hradiště
END:VEVENT
BEGIN:VEVENT
UID:66623661-3736-4533-a462-333937626435
DTSTAMP:20260423T022336Z
DESCRIPTION:2/2 Sokol Mn. Hradiště - VSC Zlín 0:2 (-16\,-16)
DTSTART;TZID=Europe/Berlin:20240315T163500
DTEND;TZID=Europe/Berlin:20240315T183500
LOCATION:Sportovní hala BIOS\, Sokolovská 254 Mnichovo Hradiště
SUMMARY:CP-U16M-6C: Sokol Mn. Hradiště-VSC Zlín
END:VEVENT
BEGIN:VEVENT
UID:62386536-3634-4264-b233-666265336462
DTSTAMP:20260423T022336Z
DESCRIPTION:4/4 Sokol Mn. Hradiště - Sportovní volejbalový klub Nový Jičín\
 , z.s. 0:2 (-16\,-23)
DTSTART;TZID=Europe/Berlin:20240316T104500
DTEND;TZID=Europe/Berlin:20240316T124500
LOCATION:Sportovní hala BIOS\, Sokolovská 254 Mnichovo Hradiště
SUMMARY:CP-U16M-6C: Sokol Mn. Hradiště-Sportovní volejbalový klub Nový Jičí
 n\, z.s.
END:VEVENT
BEGIN:VEVENT
UID:61656130-6537-4366-b135-363930383437
DTSTAMP:20260423T022336Z
DESCRIPTION:5/5 VK Lvi Praha A - Sokol Mn. Hradiště 2:0 (15\,14)
DTSTART;TZID=Europe/Berlin:20240316T120000
DTEND;TZID=Europe/Berlin:20240316T140000
LOCATION:FZŠ Brdičkova\, Brdičkova 1878 Praha - Stodůlky
SUMMARY:CP-U16M-6C: VK Lvi Praha A-Sokol Mn. Hradiště
END:VEVENT
BEGIN:VEVENT
UID:34363237-3861-4430-b165-653332353731
DTSTAMP:20260423T022336Z
DESCRIPTION:1/1 Sokol Mn. Hradiště - Kladno volejbal cz 0:2 (-14\,-23)\nC4-
 D1
DTSTART;TZID=Europe/Berlin:20240316T144500
DTEND;TZID=Europe/Berlin:20240316T164500
LOCATION:Sportovní hala BIOS\, Sokolovská 254 Mnichovo Hradiště
SUMMARY:CP-U16M-P2: Sokol Mn. Hradiště-Kladno volejbal cz
END:VEVENT
BEGIN:VEVENT
UID:63326163-3931-4530-b865-626138336631
DTSTAMP:20260423T022336Z
DESCRIPTION:2/6 Sokol Mn. Hradiště - Zlín 0:2 (-14\,-16)\nsemifinále 3 (2.o
 s.)
DTSTART;TZID=Europe/Berlin:20240316T171500
DTEND;TZID=Europe/Berlin:20240316T191500
LOCATION:Sportovní hala BIOS\, Sokolovská 254 Mnichovo Hradiště
SUMMARY:CP-U16M-P2: Sokol Mn. Hradiště-Zlín
END:VEVENT
BEGIN:VEVENT
UID:61323834-6463-4065-b138-326537653438
DTSTAMP:20260423T022336Z
DESCRIPTION:3/9 Sokol Mn. Hradiště - TJ Slavia HK 0:2 (-20\,-19)\nFinále 15
 -16
DTSTART;TZID=Europe/Berlin:20240317T103000
DTEND;TZID=Europe/Berlin:20240317T123000
LOCATION:Sportovní hala BIOS\, Sokolovská 254 Mnichovo Hradiště
SUMMARY:CP-U16M-P2: Sokol Mn. Hradiště-TJ Slavia HK
END:VEVENT
END:VCALENDAR
