BEGIN:VCALENDAR
VERSION:2.0
PRODID:-//TJ Frenštát pod Radhoštěm, spolek82783//NONSGML kigkonsult.se iCalcreator 2.41.80//
CALSCALE:GREGORIAN
UID:38366431-3137-4665-b234-386431666539
BEGIN:VEVENT
UID:37353466-3231-4963-a438-303335643762
DTSTAMP:20260423T000334Z
DESCRIPTION:5/1 TJ Frenštát p.R. - SVK NJ C 2:1 (19\,-21\,7)
DTSTART;TZID=Europe/Berlin:20231008T150000
DTEND;TZID=Europe/Berlin:20231008T170000
LOCATION:Hala ZŠ Komenského\, Komenského 701 Bílovec
SUMMARY:MS-U16Z-KVB: TJ Frenštát p.R.-SVK NJ C
END:VEVENT
BEGIN:VEVENT
UID:33616432-3633-4931-b434-303462393530
DTSTAMP:20260423T000334Z
DESCRIPTION:6/5 ŠSK Bílovec A - TJ Frenštát p.R. 2:0 (5\,6)\no 1.místo
DTSTART;TZID=Europe/Berlin:20231008T163000
DTEND;TZID=Europe/Berlin:20231008T183000
LOCATION:Hala ZŠ Komenského\, Komenského 701 Bílovec
SUMMARY:MS-U16Z-KVB: ŠSK Bílovec A-TJ Frenštát p.R.
END:VEVENT
BEGIN:VEVENT
UID:63376563-3530-4334-b465-356235383730
DTSTAMP:20260423T000334Z
DESCRIPTION:1/2 TJ Frenštát p.R. - ŠSK Bílovec B 2:0 (16\,23)
DTSTART;TZID=Europe/Berlin:20231008T090000
DTEND;TZID=Europe/Berlin:20231008T110000
LOCATION:Hala ZŠ Komenského\, Komenského 701 Bílovec
SUMMARY:MS-U16Z-KVB2: TJ Frenštát p.R.-ŠSK Bílovec B
END:VEVENT
BEGIN:VEVENT
UID:65303363-6162-4632-b063-303262353732
DTSTAMP:20260423T000334Z
DESCRIPTION:2/3 TJ Frenštát p.R. - TJ S. St.Bělá 2:0 (14\,17)
DTSTART;TZID=Europe/Berlin:20231008T103000
DTEND;TZID=Europe/Berlin:20231008T123000
LOCATION:Hala ZŠ Komenského\, Komenského 701 Bílovec
SUMMARY:MS-U16Z-KVB2: TJ Frenštát p.R.-TJ S. St.Bělá
END:VEVENT
BEGIN:VEVENT
UID:66333961-6134-4232-a262-313239656438
DTSTAMP:20260423T000334Z
DESCRIPTION:3/5 TJ Sokol F-M B - TJ Frenštát p.R. 1:2 (23\,-11\,-10)
DTSTART;TZID=Europe/Berlin:20231008T120000
DTEND;TZID=Europe/Berlin:20231008T140000
LOCATION:Hala ZŠ Komenského\, Komenského 701 Bílovec
SUMMARY:MS-U16Z-KVB2: TJ Sokol F-M B-TJ Frenštát p.R.
END:VEVENT
BEGIN:VEVENT
UID:37303936-3432-4136-b037-653664343566
DTSTAMP:20260423T000334Z
DESCRIPTION:1/2 TJ Frenštát p.R. - VK Raškovice 0:2 (-10\,-8)
DTSTART;TZID=Europe/Berlin:20231105T090000
DTEND;TZID=Europe/Berlin:20231105T110000
LOCATION:Tělocvičny ZŠ Komenského 66\, Komenského 571 Nový Jičín
SUMMARY:MS-U16Z-T1B: TJ Frenštát p.R.-VK Raškovice
END:VEVENT
BEGIN:VEVENT
UID:65303130-3239-4937-a664-626232393830
DTSTAMP:20260423T000334Z
DESCRIPTION:2/3 TJ Frenštát p.R. - SVK NJ A 0:2 (-23\,-9)
DTSTART;TZID=Europe/Berlin:20231105T103000
DTEND;TZID=Europe/Berlin:20231105T123000
LOCATION:Tělocvičny ZŠ Komenského 66\, Komenského 571 Nový Jičín
SUMMARY:MS-U16Z-T1B: TJ Frenštát p.R.-SVK NJ A
END:VEVENT
BEGIN:VEVENT
UID:32393039-3966-4535-b231-303036313763
DTSTAMP:20260423T000334Z
DESCRIPTION:3/6 TJ Hlučín\, 'A' - TJ Frenštát p.R. 2:0 (15\,9)
DTSTART;TZID=Europe/Berlin:20231105T120000
DTEND;TZID=Europe/Berlin:20231105T140000
LOCATION:Tělocvičny ZŠ Komenského 66\, Komenského 571 Nový Jičín
SUMMARY:MS-U16Z-T1B: TJ Hlučín\, 'A'-TJ Frenštát p.R.
END:VEVENT
BEGIN:VEVENT
UID:37623061-6138-4837-b735-366232613561
DTSTAMP:20260423T000334Z
DESCRIPTION:1/1 TJ Frenštát p.R. - VK Polanka n.O. 0:2 (-18\,-6)
DTSTART;TZID=Europe/Berlin:20231126T090000
DTEND;TZID=Europe/Berlin:20231126T110000
LOCATION:Víceúčelová sportovní hala\,  Raškovice18
SUMMARY:MS-U16Z-T2C: TJ Frenštát p.R.-VK Polanka n.O.
END:VEVENT
BEGIN:VEVENT
UID:38393764-3535-4466-b665-643931373466
DTSTAMP:20260423T000334Z
DESCRIPTION:2/3 TJ Frenštát p.R. - TJ Sokol F-M D 0:2 (-13\,-11)
DTSTART;TZID=Europe/Berlin:20231126T103000
DTEND;TZID=Europe/Berlin:20231126T123000
LOCATION:Víceúčelová sportovní hala\,  Raškovice18
SUMMARY:MS-U16Z-T2C: TJ Frenštát p.R.-TJ Sokol F-M D
END:VEVENT
BEGIN:VEVENT
UID:64656266-3130-4563-b332-383163396638
DTSTAMP:20260423T000334Z
DESCRIPTION:3/6 VK Raškovice - TJ Frenštát p.R. 2:0 (15\,16)
DTSTART;TZID=Europe/Berlin:20231126T120000
DTEND;TZID=Europe/Berlin:20231126T140000
LOCATION:Víceúčelová sportovní hala\,  Raškovice18
SUMMARY:MS-U16Z-T2C: VK Raškovice-TJ Frenštát p.R.
END:VEVENT
BEGIN:VEVENT
UID:63633535-3039-4664-a566-356335356166
DTSTAMP:20260423T000334Z
DESCRIPTION:1/2 TJ Frenštát p.R. - SK Sl. Orlová 'A' 2:0 (11\,19)
DTSTART;TZID=Europe/Berlin:20231217T090000
DTEND;TZID=Europe/Berlin:20231217T110000
LOCATION:Sportovní hala\, Heleny Salichové 1275 Ostrava - Polanka nad Odrou
SUMMARY:MS-U16Z-T3D: TJ Frenštát p.R.-SK Sl. Orlová 'A'
END:VEVENT
BEGIN:VEVENT
UID:63333736-3239-4432-b439-343964383931
DTSTAMP:20260423T000334Z
DESCRIPTION:2/4 TJ Frenštát p.R. - VK Karviná 'B' 2:1 (-21\,27\,12)
DTSTART;TZID=Europe/Berlin:20231217T103000
DTEND;TZID=Europe/Berlin:20231217T123000
LOCATION:Sportovní hala\, Heleny Salichové 1275 Ostrava - Polanka nad Odrou
SUMMARY:MS-U16Z-T3D: TJ Frenštát p.R.-VK Karviná 'B'
END:VEVENT
BEGIN:VEVENT
UID:31326638-3365-4731-b233-653761306530
DTSTAMP:20260423T000334Z
DESCRIPTION:3/6 VK Polanka n.O. - TJ Frenštát p.R. 2:0 (13\,15)
DTSTART;TZID=Europe/Berlin:20231217T120000
DTEND;TZID=Europe/Berlin:20231217T140000
LOCATION:Sportovní hala\, Heleny Salichové 1275 Ostrava - Polanka nad Odrou
SUMMARY:MS-U16Z-T3D: VK Polanka n.O.-TJ Frenštát p.R.
END:VEVENT
BEGIN:VEVENT
UID:35316330-3030-4238-a266-313237316164
DTSTAMP:20260423T000334Z
DESCRIPTION:1/1 TJ Sokol F-M D - TJ Frenštát p.R. 2:1 (7\,-23\,4)
DTSTART;TZID=Europe/Berlin:20240114T090000
DTEND;TZID=Europe/Berlin:20240114T110000
LOCATION:Víceúčelová sportovní hala\,  Raškovice18
SUMMARY:MS-U16Z-T4C: TJ Sokol F-M D-TJ Frenštát p.R.
END:VEVENT
BEGIN:VEVENT
UID:32346338-3038-4437-b035-663336363530
DTSTAMP:20260423T000334Z
DESCRIPTION:2/4 VK Raškovice - TJ Frenštát p.R. 2:0 (13\,17)
DTSTART;TZID=Europe/Berlin:20240114T103000
DTEND;TZID=Europe/Berlin:20240114T123000
LOCATION:Víceúčelová sportovní hala\,  Raškovice18
SUMMARY:MS-U16Z-T4C: VK Raškovice-TJ Frenštát p.R.
END:VEVENT
BEGIN:VEVENT
UID:33373764-3034-4933-b262-356236613237
DTSTAMP:20260423T000334Z
DESCRIPTION:3/6 VK Polanka n.O. - TJ Frenštát p.R. 2:0 (12\,13)
DTSTART;TZID=Europe/Berlin:20240114T120000
DTEND;TZID=Europe/Berlin:20240114T140000
LOCATION:Víceúčelová sportovní hala\,  Raškovice18
SUMMARY:MS-U16Z-T4C: VK Polanka n.O.-TJ Frenštát p.R.
END:VEVENT
BEGIN:VEVENT
UID:33323164-3363-4663-b631-333931393531
DTSTAMP:20260423T000334Z
DESCRIPTION:2/2 TJ Frenštát p.R. - VK Karviná 'B' 2:1 (22\,-20\,9)
DTSTART;TZID=Europe/Berlin:20240211T103000
DTEND;TZID=Europe/Berlin:20240211T123000
LOCATION:Hala ZŠ Komenského\, Komenského 701 Bílovec
SUMMARY:MS-U16Z-T5D: TJ Frenštát p.R.-VK Karviná 'B'
END:VEVENT
BEGIN:VEVENT
UID:38636434-6131-4137-a537-643461366235
DTSTAMP:20260423T000334Z
DESCRIPTION:3/3 TJ Frenštát p.R. - ŠSK Bílovec B 0:2 (-21\,-16)
DTSTART;TZID=Europe/Berlin:20240211T120000
DTEND;TZID=Europe/Berlin:20240211T140000
LOCATION:Hala ZŠ Komenského\, Komenského 701 Bílovec
SUMMARY:MS-U16Z-T5D: TJ Frenštát p.R.-ŠSK Bílovec B
END:VEVENT
BEGIN:VEVENT
UID:63336466-3030-4563-b831-663061366233
DTSTAMP:20260423T000334Z
DESCRIPTION:4/6 TJ Frenštát p.R. - VkB Frýdlant n.O. 0:2 (-15\,-12)
DTSTART;TZID=Europe/Berlin:20240211T133000
DTEND;TZID=Europe/Berlin:20240211T153000
LOCATION:Hala ZŠ Komenského\, Komenského 701 Bílovec
SUMMARY:MS-U16Z-T5D: TJ Frenštát p.R.-VkB Frýdlant n.O.
END:VEVENT
BEGIN:VEVENT
UID:66626438-6632-4336-b830-313237326537
DTSTAMP:20260423T000334Z
DESCRIPTION:3/6 TJ Frenštát p.R. - SVK NJ C 1:2 (25\,-24\,-11)
DTSTART;TZID=Europe/Berlin:20240225T120000
DTEND;TZID=Europe/Berlin:20240225T140000
LOCATION:Hala ABC\, Purkyňova 116 Nový Jičín
SUMMARY:MS-U16Z-T6D: TJ Frenštát p.R.-SVK NJ C
END:VEVENT
BEGIN:VEVENT
UID:64326136-3065-4136-b530-316334336263
DTSTAMP:20260423T000334Z
DESCRIPTION:1/2 ŠSK Bílovec B - TJ Frenštát p.R. 1:2 (14\,-20\,-7)
DTSTART;TZID=Europe/Berlin:20240225T090000
DTEND;TZID=Europe/Berlin:20240225T110000
LOCATION:Hala ABC\, Purkyňova 116 Nový Jičín
SUMMARY:MS-U16Z-T6D: ŠSK Bílovec B-TJ Frenštát p.R.
END:VEVENT
BEGIN:VEVENT
UID:36616566-3765-4561-b266-323830663062
DTSTAMP:20260423T000334Z
DESCRIPTION:2/3 TJ Sokol F-M D - TJ Frenštát p.R. 2:0 (14\,15)
DTSTART;TZID=Europe/Berlin:20240225T103000
DTEND;TZID=Europe/Berlin:20240225T123000
LOCATION:Hala ABC\, Purkyňova 116 Nový Jičín
SUMMARY:MS-U16Z-T6D: TJ Sokol F-M D-TJ Frenštát p.R.
END:VEVENT
BEGIN:VEVENT
UID:37313362-3037-4238-b638-343739633165
DTSTAMP:20260423T000334Z
DESCRIPTION:3/6 TJ Frenštát p.R. - VK Karviná 'B' 0:2 (-22\,-13)
DTSTART;TZID=Europe/Berlin:20240407T120000
DTEND;TZID=Europe/Berlin:20240407T140000
LOCATION:Tělocvična ZŠ Záhuní\, Frenštát\, Záhuní 408 Frenštát pod Radhoště
 m
SUMMARY:MS-U16Z-T7D: TJ Frenštát p.R.-VK Karviná 'B'
END:VEVENT
BEGIN:VEVENT
UID:64303162-3161-4463-b163-633565616535
DTSTAMP:20260423T000334Z
DESCRIPTION:1/2 SVK NJ C - TJ Frenštát p.R. 2:0 (15\,20)
DTSTART;TZID=Europe/Berlin:20240407T090000
DTEND;TZID=Europe/Berlin:20240407T110000
LOCATION:Tělocvična ZŠ Záhuní\, Frenštát\, Záhuní 408 Frenštát pod Radhoště
 m
SUMMARY:MS-U16Z-T7D: SVK NJ C-TJ Frenštát p.R.
END:VEVENT
BEGIN:VEVENT
UID:30333638-6665-4463-b764-613465656366
DTSTAMP:20260423T000334Z
DESCRIPTION:2/3 VK Kylešovice - TJ Frenštát p.R. 1:2 (-24\,20\,-6)
DTSTART;TZID=Europe/Berlin:20240407T103000
DTEND;TZID=Europe/Berlin:20240407T123000
LOCATION:Tělocvična ZŠ Záhuní\, Frenštát\, Záhuní 408 Frenštát pod Radhoště
 m
SUMMARY:MS-U16Z-T7D: VK Kylešovice-TJ Frenštát p.R.
END:VEVENT
END:VCALENDAR
