BEGIN:VCALENDAR
VERSION:2.0
PRODID:-//TJ Energetik Chvaletice z.s._PA82882//NONSGML kigkonsult.se iCalcreator 2.41.80//
CALSCALE:GREGORIAN
UID:65633439-3839-4463-a333-313863333035
BEGIN:VEVENT
UID:35653637-6663-4532-b534-363164376233
DTSTAMP:20260425T154917Z
DESCRIPTION:1/2 Chvaletice PA - Pouchov 3:0 (9\,10\,11)
DTSTART;TZID=Europe/Berlin:20231119T100000
DTEND;TZID=Europe/Berlin:20231119T120000
LOCATION:ZŠ Chvaletice\, Spojovací 431 Chvaletice
SUMMARY:HK-U22Z: Chvaletice PA-Pouchov
END:VEVENT
BEGIN:VEVENT
UID:31316439-3239-4539-b134-336563346163
DTSTAMP:20260425T154917Z
DESCRIPTION:2/4 Chvaletice PA - Pouchov 3:0 (14\,9\,16)
DTSTART;TZID=Europe/Berlin:20231119T130000
DTEND;TZID=Europe/Berlin:20231119T150000
LOCATION:ZŠ Chvaletice\, Spojovací 431 Chvaletice
SUMMARY:HK-U22Z: Chvaletice PA-Pouchov
END:VEVENT
BEGIN:VEVENT
UID:39343932-3833-4436-a131-363933383436
DTSTAMP:20260425T154917Z
DESCRIPTION:7/13 Chvaletice PA - Červený Kostelec 0:3 (-22\,-22\,-12)
DTSTART;TZID=Europe/Berlin:20231105T100000
DTEND;TZID=Europe/Berlin:20231105T120000
LOCATION:ZŠ Chvaletice\, Spojovací 431 Chvaletice
SUMMARY:HK-U22Z: Chvaletice PA-Červený Kostelec
END:VEVENT
BEGIN:VEVENT
UID:63666263-6364-4166-a266-303236373061
DTSTAMP:20260425T154917Z
DESCRIPTION:8/15 Chvaletice PA - Červený Kostelec 0:3 (-21\,-19\,-15)
DTSTART;TZID=Europe/Berlin:20231105T130000
DTEND;TZID=Europe/Berlin:20231105T150000
LOCATION:ZŠ Chvaletice\, Spojovací 431 Chvaletice
SUMMARY:HK-U22Z: Chvaletice PA-Červený Kostelec
END:VEVENT
BEGIN:VEVENT
UID:65313330-3433-4661-b364-323266626563
DTSTAMP:20260425T154917Z
DESCRIPTION:15/30 Chvaletice PA - Letohrad 3:2 (-25\,-20\,19\,27\,9)
DTSTART;TZID=Europe/Berlin:20231203T100000
DTEND;TZID=Europe/Berlin:20231203T120000
LOCATION:ZŠ Chvaletice\, Spojovací 431 Chvaletice
SUMMARY:HK-U22Z: Chvaletice PA-Letohrad
END:VEVENT
BEGIN:VEVENT
UID:64633630-3431-4338-b730-643438393935
DTSTAMP:20260425T154917Z
DESCRIPTION:16/32 Chvaletice PA - Letohrad 3:1 (24\,22\,-19\,9)
DTSTART;TZID=Europe/Berlin:20231203T130000
DTEND;TZID=Europe/Berlin:20231203T150000
LOCATION:ZŠ Chvaletice\, Spojovací 431 Chvaletice
SUMMARY:HK-U22Z: Chvaletice PA-Letohrad
END:VEVENT
BEGIN:VEVENT
UID:33363264-3935-4765-b831-666361356134
DTSTAMP:20260425T154917Z
DESCRIPTION:19/37 Chvaletice PA - Nová Paka_U20 3:1 (-22\,12\,24\,19)
DTSTART;TZID=Europe/Berlin:20231111T090000
DTEND;TZID=Europe/Berlin:20231111T110000
LOCATION:ZŠ Chvaletice\, Spojovací 431 Chvaletice
SUMMARY:HK-U22Z: Chvaletice PA-Nová Paka_U20
END:VEVENT
BEGIN:VEVENT
UID:32633032-3033-4832-b662-633331313036
DTSTAMP:20260425T154917Z
DESCRIPTION:20/39 Chvaletice PA - Nová Paka_U20 3:2 (14\,16\,-23\,-20\,3)
DTSTART;TZID=Europe/Berlin:20231111T130000
DTEND;TZID=Europe/Berlin:20231111T150000
LOCATION:ZŠ Chvaletice\, Spojovací 431 Chvaletice
SUMMARY:HK-U22Z: Chvaletice PA-Nová Paka_U20
END:VEVENT
BEGIN:VEVENT
UID:35383534-6339-4834-a532-373539633937
DTSTAMP:20260425T154917Z
DESCRIPTION:21/42 Chvaletice PA - Pouchov 3:0 (18\,16\,17)
DTSTART;TZID=Europe/Berlin:20240114T100000
DTEND;TZID=Europe/Berlin:20240114T120000
LOCATION:ZŠ Chvaletice\, Spojovací 431 Chvaletice
SUMMARY:HK-U22Z: Chvaletice PA-Pouchov
END:VEVENT
BEGIN:VEVENT
UID:31666438-6463-4366-b162-366137303734
DTSTAMP:20260425T154917Z
DESCRIPTION:22/44 Chvaletice PA - Pouchov 3:0 (14\,20\,7)
DTSTART;TZID=Europe/Berlin:20240114T130000
DTEND;TZID=Europe/Berlin:20240114T150000
LOCATION:ZŠ Chvaletice\, Spojovací 431 Chvaletice
SUMMARY:HK-U22Z: Chvaletice PA-Pouchov
END:VEVENT
BEGIN:VEVENT
UID:64326630-3661-4633-a562-633033336632
DTSTAMP:20260425T154917Z
DESCRIPTION:27/53 Chvaletice PA - Červený Kostelec 2:3 (19\,-24\,24\,-18\,-
 13)
DTSTART;TZID=Europe/Berlin:20240204T100000
DTEND;TZID=Europe/Berlin:20240204T120000
LOCATION:ZŠ Chvaletice\, Spojovací 431 Chvaletice
SUMMARY:HK-U22Z: Chvaletice PA-Červený Kostelec
END:VEVENT
BEGIN:VEVENT
UID:38386163-3764-4638-b131-363066643435
DTSTAMP:20260425T154917Z
DESCRIPTION:28/55 Chvaletice PA - Červený Kostelec 0:3 (-19\,-14\,-9)
DTSTART;TZID=Europe/Berlin:20240204T130000
DTEND;TZID=Europe/Berlin:20240204T150000
LOCATION:ZŠ Chvaletice\, Spojovací 431 Chvaletice
SUMMARY:HK-U22Z: Chvaletice PA-Červený Kostelec
END:VEVENT
BEGIN:VEVENT
UID:33653538-6164-4239-a637-633639326237
DTSTAMP:20260425T154917Z
DESCRIPTION:35/70 Chvaletice PA - Letohrad 3:1 (19\,20\,-14\,17)
DTSTART;TZID=Europe/Berlin:20240310T100000
DTEND;TZID=Europe/Berlin:20240310T120000
LOCATION:ZŠ Chvaletice\, Spojovací 431 Chvaletice
SUMMARY:HK-U22Z: Chvaletice PA-Letohrad
END:VEVENT
BEGIN:VEVENT
UID:61626532-3332-4639-b466-343566376632
DTSTAMP:20260425T154917Z
DESCRIPTION:36/72 Chvaletice PA - Letohrad 3:1 (-22\,18\,12\,13)
DTSTART;TZID=Europe/Berlin:20240310T130000
DTEND;TZID=Europe/Berlin:20240310T150000
LOCATION:ZŠ Chvaletice\, Spojovací 431 Chvaletice
SUMMARY:HK-U22Z: Chvaletice PA-Letohrad
END:VEVENT
BEGIN:VEVENT
UID:30333238-6138-4037-a537-336336336665
DTSTAMP:20260425T154917Z
DESCRIPTION:39/77 Chvaletice PA - Nová Paka_U20 3:0 (16\,13\,20)
DTSTART;TZID=Europe/Berlin:20240407T100000
DTEND;TZID=Europe/Berlin:20240407T120000
LOCATION:ZŠ Chvaletice\, Spojovací 431 Chvaletice
SUMMARY:HK-U22Z: Chvaletice PA-Nová Paka_U20
END:VEVENT
BEGIN:VEVENT
UID:66613662-3932-4237-b466-383337326162
DTSTAMP:20260425T154917Z
DESCRIPTION:40/79 Chvaletice PA - Nová Paka_U20 3:2 (13\,-22\,16\,-22\,0)
DTSTART;TZID=Europe/Berlin:20240407T130000
DTEND;TZID=Europe/Berlin:20240407T150000
LOCATION:ZŠ Chvaletice\, Spojovací 431 Chvaletice
SUMMARY:HK-U22Z: Chvaletice PA-Nová Paka_U20
END:VEVENT
BEGIN:VEVENT
UID:38356538-6565-4836-a362-616434386339
DTSTAMP:20260425T154917Z
DESCRIPTION:5/10 Letohrad - Chvaletice PA 3:2 (17\,-17\,-11\,21\,9)
DTSTART;TZID=Europe/Berlin:20231021T100000
DTEND;TZID=Europe/Berlin:20231021T120000
LOCATION:ZŠ U Dvora\, U Dvora 745 Letohrad
SUMMARY:HK-U22Z: Letohrad-Chvaletice PA
END:VEVENT
BEGIN:VEVENT
UID:64383132-3931-4665-b231-636163633434
DTSTAMP:20260425T154917Z
DESCRIPTION:6/12 Letohrad - Chvaletice PA 3:1 (-9\,15\,15\,17)
DTSTART;TZID=Europe/Berlin:20231021T130000
DTEND;TZID=Europe/Berlin:20231021T150000
LOCATION:ZŠ U Dvora\, U Dvora 745 Letohrad
SUMMARY:HK-U22Z: Letohrad-Chvaletice PA
END:VEVENT
BEGIN:VEVENT
UID:61623131-6563-4432-b838-613763363730
DTSTAMP:20260425T154917Z
DESCRIPTION:9/17 Nová Paka_U20 - Chvaletice PA 0:3 (-24\,-9\,-14)
DTSTART;TZID=Europe/Berlin:20240107T100000
DTEND;TZID=Europe/Berlin:20240107T120000
LOCATION:hala ZŠ Husitská Nová Paka\, Husitská 1695 Nová Paka
SUMMARY:HK-U22Z: Nová Paka_U20-Chvaletice PA
END:VEVENT
BEGIN:VEVENT
UID:32373039-3537-4362-b131-653337646239
DTSTAMP:20260425T154917Z
DESCRIPTION:10/19 Nová Paka_U20 - Chvaletice PA 0:3 (-16\,-18\,-17)
DTSTART;TZID=Europe/Berlin:20240107T130000
DTEND;TZID=Europe/Berlin:20240107T150000
LOCATION:hala ZŠ Husitská Nová Paka\, Husitská 1695 Nová Paka
SUMMARY:HK-U22Z: Nová Paka_U20-Chvaletice PA
END:VEVENT
BEGIN:VEVENT
UID:64633763-3730-4237-b864-373462303930
DTSTAMP:20260425T154917Z
DESCRIPTION:11/22 Pouchov - Chvaletice PA 0:3 (-16\,-13\,-14)
DTSTART;TZID=Europe/Berlin:20230930T100000
DTEND;TZID=Europe/Berlin:20230930T120000
LOCATION:Hala Pouchov\, K Sokolovně 544 Hradec Králové - Pouchov
SUMMARY:HK-U22Z: Pouchov-Chvaletice PA
END:VEVENT
BEGIN:VEVENT
UID:63613765-6333-4862-b338-333061613261
DTSTAMP:20260425T154917Z
DESCRIPTION:12/24 Pouchov - Chvaletice PA 0:3 (-15\,-18\,-10)
DTSTART;TZID=Europe/Berlin:20230930T130000
DTEND;TZID=Europe/Berlin:20230930T150000
LOCATION:Hala Pouchov\, K Sokolovně 544 Hradec Králové - Pouchov
SUMMARY:HK-U22Z: Pouchov-Chvaletice PA
END:VEVENT
BEGIN:VEVENT
UID:30656134-6437-4664-a438-626361306261
DTSTAMP:20260425T154917Z
DESCRIPTION:17/33 Červený Kostelec - Chvaletice PA 3:0 (7\,25\,17)
DTSTART;TZID=Europe/Berlin:20231217T100000
DTEND;TZID=Europe/Berlin:20231217T120000
LOCATION:Sportovní hala\, Palackého 1234 Červený Kostelec
SUMMARY:HK-U22Z: Červený Kostelec-Chvaletice PA
END:VEVENT
BEGIN:VEVENT
UID:64623638-6439-4037-a563-363864346633
DTSTAMP:20260425T154917Z
DESCRIPTION:18/35 Červený Kostelec - Chvaletice PA 3:0 (16\,25\,17)
DTSTART;TZID=Europe/Berlin:20231217T130000
DTEND;TZID=Europe/Berlin:20231217T150000
LOCATION:Sportovní hala\, Palackého 1234 Červený Kostelec
SUMMARY:HK-U22Z: Červený Kostelec-Chvaletice PA
END:VEVENT
BEGIN:VEVENT
UID:38623431-3432-4162-b565-646637623866
DTSTAMP:20260425T154917Z
DESCRIPTION:25/50 Letohrad - Chvaletice PA 1:3 (-17\,15\,-20\,-18)
DTSTART;TZID=Europe/Berlin:20240128T100000
DTEND;TZID=Europe/Berlin:20240128T120000
LOCATION:ZŠ U Dvora\, U Dvora 745 Letohrad
SUMMARY:HK-U22Z: Letohrad-Chvaletice PA
END:VEVENT
BEGIN:VEVENT
UID:32343833-6266-4365-b438-626565356262
DTSTAMP:20260425T154917Z
DESCRIPTION:26/52 Letohrad - Chvaletice PA 1:3 (-12\,-22\,21\,-19)
DTSTART;TZID=Europe/Berlin:20240128T130000
DTEND;TZID=Europe/Berlin:20240128T150000
LOCATION:ZŠ U Dvora\, U Dvora 745 Letohrad
SUMMARY:HK-U22Z: Letohrad-Chvaletice PA
END:VEVENT
BEGIN:VEVENT
UID:39653836-6365-4266-b132-356338636237
DTSTAMP:20260425T154917Z
DESCRIPTION:29/57 Nová Paka_U20 - Chvaletice PA 0:3 (-19\,-9\,-11)
DTSTART;TZID=Europe/Berlin:20240211T100000
DTEND;TZID=Europe/Berlin:20240211T120000
LOCATION:hala ZŠ Husitská Nová Paka\, Husitská 1695 Nová Paka
SUMMARY:HK-U22Z: Nová Paka_U20-Chvaletice PA
END:VEVENT
BEGIN:VEVENT
UID:36633635-3431-4232-a562-663663666666
DTSTAMP:20260425T154917Z
DESCRIPTION:30/59 Nová Paka_U20 - Chvaletice PA 1:3 (-26\,17\,-19\,-16)
DTSTART;TZID=Europe/Berlin:20240211T130000
DTEND;TZID=Europe/Berlin:20240211T150000
LOCATION:hala ZŠ Husitská Nová Paka\, Husitská 1695 Nová Paka
SUMMARY:HK-U22Z: Nová Paka_U20-Chvaletice PA
END:VEVENT
BEGIN:VEVENT
UID:33326163-3763-4330-a437-306334616137
DTSTAMP:20260425T154917Z
DESCRIPTION:31/62 Pouchov - Chvaletice PA 0:3 (-13\,-24\,-19)
DTSTART;TZID=Europe/Berlin:20240225T100000
DTEND;TZID=Europe/Berlin:20240225T120000
LOCATION:Hala Pouchov\, K Sokolovně 544 Hradec Králové - Pouchov
SUMMARY:HK-U22Z: Pouchov-Chvaletice PA
END:VEVENT
BEGIN:VEVENT
UID:64363761-3962-4234-a635-323162336330
DTSTAMP:20260425T154917Z
DESCRIPTION:32/64 Pouchov - Chvaletice PA 0:3 (-21\,-23\,-15)
DTSTART;TZID=Europe/Berlin:20240225T130000
DTEND;TZID=Europe/Berlin:20240225T150000
LOCATION:Hala Pouchov\, K Sokolovně 544 Hradec Králové - Pouchov
SUMMARY:HK-U22Z: Pouchov-Chvaletice PA
END:VEVENT
BEGIN:VEVENT
UID:32643335-3365-4238-b332-653964636531
DTSTAMP:20260425T154917Z
DESCRIPTION:37/73 Červený Kostelec - Chvaletice PA 3:0 (17\,24\,12)
DTSTART;TZID=Europe/Berlin:20240317T100000
DTEND;TZID=Europe/Berlin:20240317T120000
LOCATION:Sportovní hala\, Palackého 1234 Červený Kostelec
SUMMARY:HK-U22Z: Červený Kostelec-Chvaletice PA
END:VEVENT
BEGIN:VEVENT
UID:32633336-6434-4262-a664-613965306266
DTSTAMP:20260425T154917Z
DESCRIPTION:38/75 Červený Kostelec - Chvaletice PA 3:0 (28\,10\,16)
DTSTART;TZID=Europe/Berlin:20240317T130000
DTEND;TZID=Europe/Berlin:20240317T150000
LOCATION:Sportovní hala\, Palackého 1234 Červený Kostelec
SUMMARY:HK-U22Z: Červený Kostelec-Chvaletice PA
END:VEVENT
END:VCALENDAR
