BEGIN:VCALENDAR
VERSION:2.0
PRODID:-//Sportovní klub Slezan Orlová, spolek "B"82914//NONSGML kigkonsult.se iCalcreator 2.41.80//
CALSCALE:GREGORIAN
UID:64353966-3966-4163-a332-363631356161
BEGIN:VEVENT
UID:64663164-6231-4163-b732-333565336363
DTSTAMP:20260423T004414Z
DESCRIPTION:5/3 SK Sl.Orlová 'B' - VS Ostrava 'A' 0:2 (-12\,-5)
DTSTART;TZID=Europe/Berlin:20231008T150000
DTEND;TZID=Europe/Berlin:20231008T170000
LOCATION:ZŠ Janáčkovo náměstí 17\, Janáčkovo náměstí 1970 Krnov - Pod Bezru
 čovým vrchem
SUMMARY:MS-U16Z-KVD: SK Sl.Orlová 'B'-VS Ostrava 'A'
END:VEVENT
BEGIN:VEVENT
UID:65633732-6265-4461-b135-623134656135
DTSTAMP:20260423T004414Z
DESCRIPTION:6/6 SK Sl.Orlová 'B' - TJ Hlučín\, 'B' 0:2 (-19\,-20)
DTSTART;TZID=Europe/Berlin:20231008T163000
DTEND;TZID=Europe/Berlin:20231008T183000
LOCATION:ZŠ Janáčkovo náměstí 17\, Janáčkovo náměstí 1970 Krnov - Pod Bezru
 čovým vrchem
SUMMARY:MS-U16Z-KVD: SK Sl.Orlová 'B'-TJ Hlučín\, 'B'
END:VEVENT
BEGIN:VEVENT
UID:64316630-6666-4163-b631-343464373064
DTSTAMP:20260423T004414Z
DESCRIPTION:2/2 VK Polanka n.O. - SK Sl.Orlová 'B' 2:0 (2\,9)
DTSTART;TZID=Europe/Berlin:20231008T103000
DTEND;TZID=Europe/Berlin:20231008T123000
LOCATION:ZŠ Janáčkovo náměstí 17\, Janáčkovo náměstí 1970 Krnov - Pod Bezru
 čovým vrchem
SUMMARY:MS-U16Z-KVD1: VK Polanka n.O.-SK Sl.Orlová 'B'
END:VEVENT
BEGIN:VEVENT
UID:65656566-3131-4139-b761-636436306263
DTSTAMP:20260423T004414Z
DESCRIPTION:3/4 VK Kylešovice - SK Sl.Orlová 'B' 2:0 (10\,6)
DTSTART;TZID=Europe/Berlin:20231008T120000
DTEND;TZID=Europe/Berlin:20231008T140000
LOCATION:ZŠ Janáčkovo náměstí 17\, Janáčkovo náměstí 1970 Krnov - Pod Bezru
 čovým vrchem
SUMMARY:MS-U16Z-KVD1: VK Kylešovice-SK Sl.Orlová 'B'
END:VEVENT
BEGIN:VEVENT
UID:66393365-3265-4638-a561-303663656230
DTSTAMP:20260423T004414Z
DESCRIPTION:4/6 VO Sl. Orlice - SK Sl.Orlová 'B' 2:0 (11\,8)
DTSTART;TZID=Europe/Berlin:20231008T133000
DTEND;TZID=Europe/Berlin:20231008T153000
LOCATION:ZŠ Janáčkovo náměstí 17\, Janáčkovo náměstí 1970 Krnov - Pod Bezru
 čovým vrchem
SUMMARY:MS-U16Z-KVD1: VO Sl. Orlice-SK Sl.Orlová 'B'
END:VEVENT
BEGIN:VEVENT
UID:62323838-6534-4436-b766-363766306264
DTSTAMP:20260423T004414Z
DESCRIPTION:2/2 Sokol Poruba - SK Sl.Orlová 'B' 2:0 (12\,4)
DTSTART;TZID=Europe/Berlin:20231105T103000
DTEND;TZID=Europe/Berlin:20231105T123000
LOCATION:Sokolovna\, K Sokolovně 135 Vratimov
SUMMARY:MS-U16Z-T1H: Sokol Poruba-SK Sl.Orlová 'B'
END:VEVENT
BEGIN:VEVENT
UID:30376466-3031-4631-b038-366363333136
DTSTAMP:20260423T004414Z
DESCRIPTION:3/3 TJ S. St.Bělá - SK Sl.Orlová 'B' 1:2 (19\,-18\,-7)
DTSTART;TZID=Europe/Berlin:20231105T120000
DTEND;TZID=Europe/Berlin:20231105T140000
LOCATION:Sokolovna\, K Sokolovně 135 Vratimov
SUMMARY:MS-U16Z-T1H: TJ S. St.Bělá-SK Sl.Orlová 'B'
END:VEVENT
BEGIN:VEVENT
UID:66666133-6661-4632-b638-646266326133
DTSTAMP:20260423T004414Z
DESCRIPTION:6/6 TJ S. Vratimov - SK Sl.Orlová 'B' 0:2 (-25\,-10)
DTSTART;TZID=Europe/Berlin:20231105T163000
DTEND;TZID=Europe/Berlin:20231105T183000
LOCATION:Sokolovna\, K Sokolovně 135 Vratimov
SUMMARY:MS-U16Z-T1H: TJ S. Vratimov-SK Sl.Orlová 'B'
END:VEVENT
BEGIN:VEVENT
UID:66323531-3431-4430-b236-316333333563
DTSTAMP:20260423T004414Z
DESCRIPTION:1/2 VO Sl. Orlice - SK Sl.Orlová 'B' 2:1 (-16\,20\,6)
DTSTART;TZID=Europe/Berlin:20231126T090000
DTEND;TZID=Europe/Berlin:20231126T110000
LOCATION:ZŠ Jiřího z Poděbrad Frýdek-Místek\, Jiřího z Poděbrad 3109 Frýdek
 -Místek - Frýdek
SUMMARY:MS-U16Z-T2G: VO Sl. Orlice-SK Sl.Orlová 'B'
END:VEVENT
BEGIN:VEVENT
UID:38343961-3265-4465-a665-626537333265
DTSTAMP:20260423T004414Z
DESCRIPTION:2/3 TJ Sokol F-M C - SK Sl.Orlová 'B' 0:2 (-18\,-17)
DTSTART;TZID=Europe/Berlin:20231126T103000
DTEND;TZID=Europe/Berlin:20231126T123000
LOCATION:ZŠ Jiřího z Poděbrad Frýdek-Místek\, Jiřího z Poděbrad 3109 Frýdek
 -Místek - Frýdek
SUMMARY:MS-U16Z-T2G: TJ Sokol F-M C-SK Sl.Orlová 'B'
END:VEVENT
BEGIN:VEVENT
UID:62333137-3334-4566-b836-316238323664
DTSTAMP:20260423T004414Z
DESCRIPTION:3/5 Sokol Poruba - SK Sl.Orlová 'B' 2:0 (4\,15)
DTSTART;TZID=Europe/Berlin:20231126T120000
DTEND;TZID=Europe/Berlin:20231126T140000
LOCATION:ZŠ Jiřího z Poděbrad Frýdek-Místek\, Jiřího z Poděbrad 3109 Frýdek
 -Místek - Frýdek
SUMMARY:MS-U16Z-T2G: Sokol Poruba-SK Sl.Orlová 'B'
END:VEVENT
BEGIN:VEVENT
UID:37626565-3438-4137-a363-323761383437
DTSTAMP:20260423T004414Z
DESCRIPTION:1/1 SK Sl.Orlová 'B' - TJ S. St.Bělá 2:0 (22\,13)
DTSTART;TZID=Europe/Berlin:20231217T090000
DTEND;TZID=Europe/Berlin:20231217T110000
LOCATION:Sportovní hala Gymnázium Orlová\, Masarykova třída 1313 Orlová - L
 utyně
SUMMARY:MS-U16Z-T3H: SK Sl.Orlová 'B'-TJ S. St.Bělá
END:VEVENT
BEGIN:VEVENT
UID:37623836-3831-4361-b265-356130623935
DTSTAMP:20260423T004414Z
DESCRIPTION:2/3 SK Sl.Orlová 'B' - TJ S. Vratimov 1:2 (18\,-13\,-11)
DTSTART;TZID=Europe/Berlin:20231217T103000
DTEND;TZID=Europe/Berlin:20231217T123000
LOCATION:Sportovní hala Gymnázium Orlová\, Masarykova třída 1313 Orlová - L
 utyně
SUMMARY:MS-U16Z-T3H: SK Sl.Orlová 'B'-TJ S. Vratimov
END:VEVENT
BEGIN:VEVENT
UID:33613936-3536-4230-b337-323133643637
DTSTAMP:20260423T004414Z
DESCRIPTION:3/5 SK Sl.Orlová 'B' - TJ Sokol F-M C 2:1 (-22\,22\,7)
DTSTART;TZID=Europe/Berlin:20231217T120000
DTEND;TZID=Europe/Berlin:20231217T140000
LOCATION:Sportovní hala Gymnázium Orlová\, Masarykova třída 1313 Orlová - L
 utyně
SUMMARY:MS-U16Z-T3H: SK Sl.Orlová 'B'-TJ Sokol F-M C
END:VEVENT
BEGIN:VEVENT
UID:37663963-3630-4134-b861-323765373562
DTSTAMP:20260423T004414Z
DESCRIPTION:1/1 TJ Ostrava B - SK Sl.Orlová 'B' 2:1 (-22\,19\,10)
DTSTART;TZID=Europe/Berlin:20240114T090000
DTEND;TZID=Europe/Berlin:20240114T110000
LOCATION:Hala míčových sportů\, Varenská 3098 Ostrava - Moravská Ostrava
SUMMARY:MS-U16Z-T4G: TJ Ostrava B-SK Sl.Orlová 'B'
END:VEVENT
BEGIN:VEVENT
UID:63666137-3132-4666-a135-303136386561
DTSTAMP:20260423T004414Z
DESCRIPTION:3/4 Sokol Poruba - SK Sl.Orlová 'B'Ruszová Anna
DTSTART;TZID=Europe/Berlin:20240114T120000
DTEND;TZID=Europe/Berlin:20240114T140000
LOCATION:Hala míčových sportů\, Varenská 3098 Ostrava - Moravská Ostrava
SUMMARY:MS-U16Z-T4G: Sokol Poruba-SK Sl.Orlová 'B'
END:VEVENT
BEGIN:VEVENT
UID:37656564-6666-4361-a133-336332373435
DTSTAMP:20260423T004414Z
DESCRIPTION:4/5 TJ S. Vratimov - SK Sl.Orlová 'B' 1:2 (26\,-21\,-5)
DTSTART;TZID=Europe/Berlin:20240114T133000
DTEND;TZID=Europe/Berlin:20240114T153000
LOCATION:Hala míčových sportů\, Varenská 3098 Ostrava - Moravská Ostrava
SUMMARY:MS-U16Z-T4G: TJ S. Vratimov-SK Sl.Orlová 'B'
END:VEVENT
BEGIN:VEVENT
UID:66343738-3763-4262-b831-386562313266
DTSTAMP:20260423T004414Z
DESCRIPTION:1/1 SK Sl.Orlová 'B' - TJ S. Vratimov 0:2 (-11\,-20)
DTSTART;TZID=Europe/Berlin:20240211T090000
DTEND;TZID=Europe/Berlin:20240211T110000
LOCATION:Sokolovna\, K Sokolovně 135 Vratimov
SUMMARY:MS-U16Z-T5G: SK Sl.Orlová 'B'-TJ S. Vratimov
END:VEVENT
BEGIN:VEVENT
UID:39336664-3461-4163-a564-356362633438
DTSTAMP:20260423T004414Z
DESCRIPTION:3/3 SK Sl.Orlová 'B' - VS Ostrava 'B' 2:1 (22\,-18\,15)
DTSTART;TZID=Europe/Berlin:20240211T120000
DTEND;TZID=Europe/Berlin:20240211T140000
LOCATION:Sokolovna\, K Sokolovně 135 Vratimov
SUMMARY:MS-U16Z-T5G: SK Sl.Orlová 'B'-VS Ostrava 'B'
END:VEVENT
BEGIN:VEVENT
UID:65313261-3538-4663-a264-313730356639
DTSTAMP:20260423T004414Z
DESCRIPTION:5/5 TJ Sokol F-M B - SK Sl.Orlová 'B' 2:0 (16\,14)
DTSTART;TZID=Europe/Berlin:20240211T150000
DTEND;TZID=Europe/Berlin:20240211T170000
LOCATION:Sokolovna\, K Sokolovně 135 Vratimov
SUMMARY:MS-U16Z-T5G: TJ Sokol F-M B-SK Sl.Orlová 'B'
END:VEVENT
BEGIN:VEVENT
UID:38303366-3936-4332-b265-346139613138
DTSTAMP:20260423T004414Z
DESCRIPTION:1/1 SK Sl.Orlová 'B' - TJ S. St.Bělá 1:2 (6\,-24\,-9)
DTSTART;TZID=Europe/Berlin:20240225T090000
DTEND;TZID=Europe/Berlin:20240225T110000
LOCATION:Sportovní hala Gymnázium Orlová\, Masarykova třída 1313 Orlová - L
 utyně
SUMMARY:MS-U16Z-T6H: SK Sl.Orlová 'B'-TJ S. St.Bělá
END:VEVENT
BEGIN:VEVENT
UID:65353539-3332-4165-a330-656133323964
DTSTAMP:20260423T004414Z
DESCRIPTION:2/3 SK Sl.Orlová 'B' - TJ Hlučín\, 'B' 0:2 (-13\,-16)
DTSTART;TZID=Europe/Berlin:20240225T103000
DTEND;TZID=Europe/Berlin:20240225T123000
LOCATION:Sportovní hala Gymnázium Orlová\, Masarykova třída 1313 Orlová - L
 utyně
SUMMARY:MS-U16Z-T6H: SK Sl.Orlová 'B'-TJ Hlučín\, 'B'
END:VEVENT
BEGIN:VEVENT
UID:65666236-3864-4634-a330-646636326432
DTSTAMP:20260423T004414Z
DESCRIPTION:3/5 SK Sl.Orlová 'B' - Sokol Poruba 0:2 (-9\,-17)
DTSTART;TZID=Europe/Berlin:20240225T120000
DTEND;TZID=Europe/Berlin:20240225T140000
LOCATION:Sportovní hala Gymnázium Orlová\, Masarykova třída 1313 Orlová - L
 utyně
SUMMARY:MS-U16Z-T6H: SK Sl.Orlová 'B'-Sokol Poruba
END:VEVENT
BEGIN:VEVENT
UID:36653235-3161-4535-a563-316333343264
DTSTAMP:20260423T004414Z
DESCRIPTION:1/1 TJ Sokol F-M C - SK Sl.Orlová 'B' 2:1 (20\,-22\,7)
DTSTART;TZID=Europe/Berlin:20240317T090000
DTEND;TZID=Europe/Berlin:20240317T110000
LOCATION:Sportovní hala Nová Bělá\, Krmelínská 750 Ostrava - Nová Bělá
SUMMARY:MS-U16Z-T7H: TJ Sokol F-M C-SK Sl.Orlová 'B'
END:VEVENT
BEGIN:VEVENT
UID:66666666-3562-4534-a430-353030353463
DTSTAMP:20260423T004414Z
DESCRIPTION:2/4 TJ Hlučín\, 'B' - SK Sl.Orlová 'B' 1:2 (-25\,17\,-13)
DTSTART;TZID=Europe/Berlin:20240317T103000
DTEND;TZID=Europe/Berlin:20240317T123000
LOCATION:Sportovní hala Nová Bělá\, Krmelínská 750 Ostrava - Nová Bělá
SUMMARY:MS-U16Z-T7H: TJ Hlučín\, 'B'-SK Sl.Orlová 'B'
END:VEVENT
BEGIN:VEVENT
UID:61663234-3439-4232-b638-613764303639
DTSTAMP:20260423T004414Z
DESCRIPTION:3/6 TJ S. St.Bělá - SK Sl.Orlová 'B' 0:2 (-18\,-18)
DTSTART;TZID=Europe/Berlin:20240317T120000
DTEND;TZID=Europe/Berlin:20240317T140000
LOCATION:Sportovní hala Nová Bělá\, Krmelínská 750 Ostrava - Nová Bělá
SUMMARY:MS-U16Z-T7H: TJ S. St.Bělá-SK Sl.Orlová 'B'
END:VEVENT
END:VCALENDAR
