BEGIN:VCALENDAR
VERSION:2.0
PRODID:-//VK Ostrava, s.r.o. "B"83001//NONSGML kigkonsult.se iCalcreator 2.41.80//
CALSCALE:GREGORIAN
UID:36626638-6162-4033-a131-633635623035
BEGIN:VEVENT
UID:63633263-3737-4434-b961-663535303464
DTSTAMP:20260425T155134Z
DESCRIPTION:1/3 VK Ostrava 'B' - TU Ostrava 3:1 (-22\,20\,17\,24)
DTSTART;TZID=Europe/Berlin:20230923T100000
DTEND;TZID=Europe/Berlin:20230923T120000
LOCATION:Hala mládeže\, Gajdošova 1893 Ostrava - Moravská Ostrava
SUMMARY:MS-M: VK Ostrava 'B'-TU Ostrava
END:VEVENT
BEGIN:VEVENT
UID:36393237-3833-4361-a335-353035343239
DTSTAMP:20260425T155134Z
DESCRIPTION:2/7 VK Ostrava 'B' - TU Ostrava 2:3 (-22\,21\,21\,-17\,-12)
DTSTART;TZID=Europe/Berlin:20230923T140000
DTEND;TZID=Europe/Berlin:20230923T160000
LOCATION:Hala mládeže\, Gajdošova 1893 Ostrava - Moravská Ostrava
SUMMARY:MS-M: VK Ostrava 'B'-TU Ostrava
END:VEVENT
BEGIN:VEVENT
UID:37316637-3833-4062-b265-613131306334
DTSTAMP:20260425T155134Z
DESCRIPTION:5/18 VK Ostrava 'B' - TJ Kotouč Štramberk 1:3 (-20\,-23\,26\,-1
 4)
DTSTART;TZID=Europe/Berlin:20231014T090000
DTEND;TZID=Europe/Berlin:20231014T110000
LOCATION:Hala mládeže\, Gajdošova 1893 Ostrava - Moravská Ostrava
SUMMARY:MS-M: VK Ostrava 'B'-TJ Kotouč Štramberk
END:VEVENT
BEGIN:VEVENT
UID:32633434-3537-4939-a631-633230306437
DTSTAMP:20260425T155134Z
DESCRIPTION:6/22 VK Ostrava 'B' - TJ Kotouč Štramberk 3:1 (-22\,16\,17\,11)
DTSTART;TZID=Europe/Berlin:20231014T130000
DTEND;TZID=Europe/Berlin:20231014T150000
LOCATION:Hala mládeže\, Gajdošova 1893 Ostrava - Moravská Ostrava
SUMMARY:MS-M: VK Ostrava 'B'-TJ Kotouč Štramberk
END:VEVENT
BEGIN:VEVENT
UID:32313730-6463-4262-a638-623562383234
DTSTAMP:20260425T155134Z
DESCRIPTION:9/33 VK Ostrava 'B' - Green F-M 'B' 3:0 (15\,17\,14)\nZměnil ŘS
  na žádost obou týmů
DTSTART;TZID=Europe/Berlin:20231101T183000
DTEND;TZID=Europe/Berlin:20231101T203000
LOCATION:Hala mládeže\, Gajdošova 1893 Ostrava - Moravská Ostrava
SUMMARY:MS-M: VK Ostrava 'B'-Green F-M 'B'
END:VEVENT
BEGIN:VEVENT
UID:61306262-3561-4236-b135-633366363063
DTSTAMP:20260425T155134Z
DESCRIPTION:10/37 VK Ostrava 'B' - Green F-M 'B' 3:0 (17\,20\,21)\nZměnil Ř
 S na žádost obou týmů
DTSTART;TZID=Europe/Berlin:20231108T183000
DTEND;TZID=Europe/Berlin:20231108T203000
LOCATION:Hala mládeže\, Gajdošova 1893 Ostrava - Moravská Ostrava
SUMMARY:MS-M: VK Ostrava 'B'-Green F-M 'B'
END:VEVENT
BEGIN:VEVENT
UID:61366665-3137-4438-a436-393161646232
DTSTAMP:20260425T155134Z
DESCRIPTION:11/44 VK Ostrava 'B' - TJ ODRY 3:2 (-23\,21\,-18\,19\,8)
DTSTART;TZID=Europe/Berlin:20231111T100000
DTEND;TZID=Europe/Berlin:20231111T120000
LOCATION:Hala mládeže\, Gajdošova 1893 Ostrava - Moravská Ostrava
SUMMARY:MS-M: VK Ostrava 'B'-TJ ODRY
END:VEVENT
BEGIN:VEVENT
UID:33383539-6338-4831-a532-316235343832
DTSTAMP:20260425T155134Z
DESCRIPTION:12/48 VK Ostrava 'B' - TJ ODRY 3:1 (14\,14\,-17\,22)
DTSTART;TZID=Europe/Berlin:20231111T140000
DTEND;TZID=Europe/Berlin:20231111T160000
LOCATION:Hala mládeže\, Gajdošova 1893 Ostrava - Moravská Ostrava
SUMMARY:MS-M: VK Ostrava 'B'-TJ ODRY
END:VEVENT
BEGIN:VEVENT
UID:35626533-6235-4461-b737-336138646338
DTSTAMP:20260425T155134Z
DESCRIPTION:17/67 VK Ostrava 'B' - SK AZ Kylešovice 3:1 (16\,-22\,17\,15)
DTSTART;TZID=Europe/Berlin:20231209T090000
DTEND;TZID=Europe/Berlin:20231209T110000
LOCATION:Hala mládeže\, Gajdošova 1893 Ostrava - Moravská Ostrava
SUMMARY:MS-M: VK Ostrava 'B'-SK AZ Kylešovice
END:VEVENT
BEGIN:VEVENT
UID:37333234-3732-4532-b436-346266386638
DTSTAMP:20260425T155134Z
DESCRIPTION:18/71 VK Ostrava 'B' - SK AZ Kylešovice 1:3 (-25\,11\,-21\,-23)
DTSTART;TZID=Europe/Berlin:20231209T130000
DTEND;TZID=Europe/Berlin:20231209T150000
LOCATION:Hala mládeže\, Gajdošova 1893 Ostrava - Moravská Ostrava
SUMMARY:MS-M: VK Ostrava 'B'-SK AZ Kylešovice
END:VEVENT
BEGIN:VEVENT
UID:37363363-6336-4562-b965-366263623766
DTSTAMP:20260425T155134Z
DESCRIPTION:21/84 VK Ostrava 'B' - TJ Hlučín 3:0 (26\,16\,19)\nZměnil ŘS na
  žádost obou týmů
DTSTART;TZID=Europe/Berlin:20240201T183000
DTEND;TZID=Europe/Berlin:20240201T203000
LOCATION:Hala mládeže\, Gajdošova 1893 Ostrava - Moravská Ostrava
SUMMARY:MS-M: VK Ostrava 'B'-TJ Hlučín
END:VEVENT
BEGIN:VEVENT
UID:62326461-3236-4264-b835-663034613663
DTSTAMP:20260425T155134Z
DESCRIPTION:22/88 VK Ostrava 'B' - TJ Hlučín 3:0 (21\,7\,16)\nZměnil ŘS na 
 žádost obou týmů
DTSTART;TZID=Europe/Berlin:20240201T203000
DTEND;TZID=Europe/Berlin:20240201T223000
LOCATION:Hala mládeže\, Gajdošova 1893 Ostrava - Moravská Ostrava
SUMMARY:MS-M: VK Ostrava 'B'-TJ Hlučín
END:VEVENT
BEGIN:VEVENT
UID:65373434-6334-4731-a339-646364623065
DTSTAMP:20260425T155134Z
DESCRIPTION:27/106 VK Ostrava 'B' - Vlci Nový Jičín 'B' 3:0 (24\,20\,19)\nD
 ohoda obou klubů
DTSTART;TZID=Europe/Berlin:20240307T180000
DTEND;TZID=Europe/Berlin:20240307T200000
LOCATION:Hala mládeže\, Gajdošova 1893 Ostrava - Moravská Ostrava
SUMMARY:MS-M: VK Ostrava 'B'-Vlci Nový Jičín 'B'
END:VEVENT
BEGIN:VEVENT
UID:33343365-3135-4263-a231-386630393664
DTSTAMP:20260425T155134Z
DESCRIPTION:28/110 VK Ostrava 'B' - Vlci Nový Jičín 'B' 3:0 (20\,17\,22)\nD
 ohoda obou klubů
DTSTART;TZID=Europe/Berlin:20240307T203000
DTEND;TZID=Europe/Berlin:20240307T223000
LOCATION:Hala mládeže\, Gajdošova 1893 Ostrava - Moravská Ostrava
SUMMARY:MS-M: VK Ostrava 'B'-Vlci Nový Jičín 'B'
END:VEVENT
BEGIN:VEVENT
UID:66643263-3035-4530-b434-316238393537
DTSTAMP:20260425T155134Z
DESCRIPTION:3/11 SK AZ Kylešovice - VK Ostrava 'B' 0:3 (-23\,-9\,-16)
DTSTART;TZID=Europe/Berlin:20231007T100000
DTEND;TZID=Europe/Berlin:20231007T120000
LOCATION:Sportovní hala Obchodní akademie\, Hany Kvapilové 1656 Opava - Pře
 dměstí
SUMMARY:MS-M: SK AZ Kylešovice-VK Ostrava 'B'
END:VEVENT
BEGIN:VEVENT
UID:65373630-6139-4934-b464-326165613363
DTSTAMP:20260425T155134Z
DESCRIPTION:4/15 SK AZ Kylešovice - VK Ostrava 'B' 1:3 (21\,-21\,-22\,-17)
DTSTART;TZID=Europe/Berlin:20231007T140000
DTEND;TZID=Europe/Berlin:20231007T160000
LOCATION:Sportovní hala Obchodní akademie\, Hany Kvapilové 1656 Opava - Pře
 dměstí
SUMMARY:MS-M: SK AZ Kylešovice-VK Ostrava 'B'
END:VEVENT
BEGIN:VEVENT
UID:62613961-6665-4736-a334-323931623231
DTSTAMP:20260425T155134Z
DESCRIPTION:7/28 TJ Hlučín - VK Ostrava 'B' 3:2 (-20\,-16\,22\,24\,13)
DTSTART;TZID=Europe/Berlin:20231021T110000
DTEND;TZID=Europe/Berlin:20231021T130000
LOCATION:Hala Hlučín - Darkovičky\, Nový svět 402 Hlučín - Darkovičky
SUMMARY:MS-M: TJ Hlučín-VK Ostrava 'B'
END:VEVENT
BEGIN:VEVENT
UID:36663366-3366-4362-b934-383964373038
DTSTAMP:20260425T155134Z
DESCRIPTION:8/32 TJ Hlučín - VK Ostrava 'B' 0:3 (-17\,-16\,-16)
DTSTART;TZID=Europe/Berlin:20231021T150000
DTEND;TZID=Europe/Berlin:20231021T170000
LOCATION:Hala Hlučín - Darkovičky\, Nový svět 402 Hlučín - Darkovičky
SUMMARY:MS-M: TJ Hlučín-VK Ostrava 'B'
END:VEVENT
BEGIN:VEVENT
UID:31353132-3334-4562-b066-306436663236
DTSTAMP:20260425T155134Z
DESCRIPTION:13/50 Vlci Nový Jičín 'B' - VK Ostrava 'B' 3:2 (22\,-21\,21\,-2
 3\,15)
DTSTART;TZID=Europe/Berlin:20231125T100000
DTEND;TZID=Europe/Berlin:20231125T120000
LOCATION:Hala ABC\, Purkyňova 116 Nový Jičín
SUMMARY:MS-M: Vlci Nový Jičín 'B'-VK Ostrava 'B'
END:VEVENT
BEGIN:VEVENT
UID:63363835-3230-4334-b062-343166633261
DTSTAMP:20260425T155134Z
DESCRIPTION:14/54 Vlci Nový Jičín 'B' - VK Ostrava 'B' 0:3 (-19\,-19\,-22)
DTSTART;TZID=Europe/Berlin:20231125T140000
DTEND;TZID=Europe/Berlin:20231125T160000
LOCATION:Hala ABC\, Purkyňova 116 Nový Jičín
SUMMARY:MS-M: Vlci Nový Jičín 'B'-VK Ostrava 'B'
END:VEVENT
BEGIN:VEVENT
UID:37663833-3161-4139-b664-373233653137
DTSTAMP:20260425T155134Z
DESCRIPTION:15/59 TU Ostrava - VK Ostrava 'B' 3:0 (21\,15\,22)
DTSTART;TZID=Europe/Berlin:20231202T100000
DTEND;TZID=Europe/Berlin:20231202T120000
LOCATION:Sportovní hala VŠB-TUO\, Studentská 6175 Ostrava - Poruba
SUMMARY:MS-M: TU Ostrava-VK Ostrava 'B'
END:VEVENT
BEGIN:VEVENT
UID:31613832-3965-4139-b532-316433366666
DTSTAMP:20260425T155134Z
DESCRIPTION:16/63 TU Ostrava - VK Ostrava 'B' 3:0 (20\,17\,16)
DTSTART;TZID=Europe/Berlin:20231202T140000
DTEND;TZID=Europe/Berlin:20231202T160000
LOCATION:Sportovní hala VŠB-TUO\, Studentská 6175 Ostrava - Poruba
SUMMARY:MS-M: TU Ostrava-VK Ostrava 'B'
END:VEVENT
BEGIN:VEVENT
UID:38386436-3338-4464-b535-323833346338
DTSTAMP:20260425T155134Z
DESCRIPTION:19/74 TJ Kotouč Štramberk - VK Ostrava 'B' 2:3 (21\,16\,-17\,-2
 1\,-17)
DTSTART;TZID=Europe/Berlin:20231216T090000
DTEND;TZID=Europe/Berlin:20231216T110000
LOCATION:Hala Štramberk\, Zauličí 620 Štramberk
SUMMARY:MS-M: TJ Kotouč Štramberk-VK Ostrava 'B'
END:VEVENT
BEGIN:VEVENT
UID:37613738-3961-4263-b362-303834613832
DTSTAMP:20260425T155134Z
DESCRIPTION:20/78 TJ Kotouč Štramberk - VK Ostrava 'B' 0:3 (-18\,-21\,-17)
DTSTART;TZID=Europe/Berlin:20231216T130000
DTEND;TZID=Europe/Berlin:20231216T150000
LOCATION:Hala Štramberk\, Zauličí 620 Štramberk
SUMMARY:MS-M: TJ Kotouč Štramberk-VK Ostrava 'B'
END:VEVENT
BEGIN:VEVENT
UID:37613034-3463-4563-a531-343338313430
DTSTAMP:20260425T155134Z
DESCRIPTION:23/89 Green F-M 'B' - VK Ostrava 'B' 3:0 (21\,23\,20)\nZměnil Ř
 S na žádost obou týmů
DTSTART;TZID=Europe/Berlin:20240118T180000
DTEND;TZID=Europe/Berlin:20240118T200000
LOCATION:Hala SPŠ\, 28. října 1639 Frýdek-Místek - Místek
SUMMARY:MS-M: Green F-M 'B'-VK Ostrava 'B'
END:VEVENT
BEGIN:VEVENT
UID:31383737-3938-4635-b964-616435376465
DTSTAMP:20260425T155134Z
DESCRIPTION:24/93 Green F-M 'B' - VK Ostrava 'B' 2:3 (-25\,23\,-17\,19\,-11
 )\nZměnil ŘS na žádost obou týmů
DTSTART;TZID=Europe/Berlin:20240125T180000
DTEND;TZID=Europe/Berlin:20240125T200000
LOCATION:Hala SPŠ\, 28. října 1639 Frýdek-Místek - Místek
SUMMARY:MS-M: Green F-M 'B'-VK Ostrava 'B'
END:VEVENT
BEGIN:VEVENT
UID:32353031-6335-4562-b566-663836386163
DTSTAMP:20260425T155134Z
DESCRIPTION:25/100 TJ ODRY - VK Ostrava 'B' 0:3 (-20\,-20\,-21)
DTSTART;TZID=Europe/Berlin:20240127T100000
DTEND;TZID=Europe/Berlin:20240127T120000
LOCATION:Tělocvična\, Pohořská 1010 Odry
SUMMARY:MS-M: TJ ODRY-VK Ostrava 'B'
END:VEVENT
BEGIN:VEVENT
UID:63396564-6265-4861-b531-383533356365
DTSTAMP:20260425T155134Z
DESCRIPTION:26/104 TJ ODRY - VK Ostrava 'B' 0:3 (-26\,-20\,-22)
DTSTART;TZID=Europe/Berlin:20240127T140000
DTEND;TZID=Europe/Berlin:20240127T160000
LOCATION:Tělocvična\, Pohořská 1010 Odry
SUMMARY:MS-M: TJ ODRY-VK Ostrava 'B'
END:VEVENT
END:VCALENDAR
