BEGIN:VCALENDAR
VERSION:2.0
PRODID:-//SK Kometa Praha83006//NONSGML kigkonsult.se iCalcreator 2.41.80//
CALSCALE:GREGORIAN
UID:66623266-3335-4537-a232-303035613631
BEGIN:VEVENT
UID:30613162-3630-4538-a465-653564356537
DTSTAMP:20260422T053815Z
DESCRIPTION:7/12 SK Kometa Praha - TJ Lokomotiva Česká Lípa 2:0 (9\,8)
DTSTART;TZID=Europe/Berlin:20230924T103000
DTEND;TZID=Europe/Berlin:20230924T123000
LOCATION:Tělocvična ZŠ Na Šutce\, Na Šutce 440 Praha - Troja
SUMMARY:CP-U16Z-Z1E: SK Kometa Praha-TJ Lokomotiva Česká Lípa
END:VEVENT
BEGIN:VEVENT
UID:32326133-3730-4039-b632-373636643264
DTSTAMP:20260422T053815Z
DESCRIPTION:1/2 VK Slavia Plzeň - SK Kometa Praha 0:2 (-22\,-20)
DTSTART;TZID=Europe/Berlin:20230923T100000
DTEND;TZID=Europe/Berlin:20230923T120000
LOCATION:Tělocvična 15.ZŠ\, Terezie Brzkové 863 Plzeň - Skvrňany
SUMMARY:CP-U16Z-Z1E: VK Slavia Plzeň-SK Kometa Praha
END:VEVENT
BEGIN:VEVENT
UID:61333830-6462-4764-b834-666432646631
DTSTAMP:20260422T053815Z
DESCRIPTION:3/6 Volejbal Ústí n. L. - SK Kometa Praha 0:2 (-22\,-16)
DTSTART;TZID=Europe/Berlin:20230923T130000
DTEND;TZID=Europe/Berlin:20230923T150000
LOCATION:Tělocvična Gymnázia a Střední odborné školy dr. Václava Šmejkala\,
  Stará 3299 Ústí nad Labem - Severní Terasa
SUMMARY:CP-U16Z-Z1E: Volejbal Ústí n. L.-SK Kometa Praha
END:VEVENT
BEGIN:VEVENT
UID:32663862-3064-4432-a338-333831386266
DTSTAMP:20260422T053815Z
DESCRIPTION:5/9 Loko Plzeň   .A - SK Kometa Praha 2:1 (-23\,22\,11)
DTSTART;TZID=Europe/Berlin:20230923T170000
DTEND;TZID=Europe/Berlin:20230923T190000
LOCATION:Městská sportovní hala  -  hala 2\, Úslavská 2357 Plzeň - Východní
  Předměstí
SUMMARY:CP-U16Z-Z1E: Loko Plzeň   .A-SK Kometa Praha
END:VEVENT
BEGIN:VEVENT
UID:38633830-3338-4332-b435-336433343764
DTSTAMP:20260422T053815Z
DESCRIPTION:8/15 Žatec - SK Kometa Praha 0:2 (-15\,-9)
DTSTART;TZID=Europe/Berlin:20230924T120000
DTEND;TZID=Europe/Berlin:20230924T140000
LOCATION:Sportovní hala TJ Sever Žatec\, Plzeňská 2787 Žatec
SUMMARY:CP-U16Z-Z1E: Žatec-SK Kometa Praha
END:VEVENT
BEGIN:VEVENT
UID:31313032-6366-4336-b762-333534346532
DTSTAMP:20260422T053815Z
DESCRIPTION:3/5 SK Kometa Praha - TJ Orion Praha 1:2 (-17\,20\,-13)
DTSTART;TZID=Europe/Berlin:20231014T114000
DTEND;TZID=Europe/Berlin:20231014T134000
LOCATION:Tělocvična ZŠ Na Šutce\, Na Šutce 440 Praha - Troja
SUMMARY:CP-U16Z-Z2A: SK Kometa Praha-TJ Orion Praha
END:VEVENT
BEGIN:VEVENT
UID:61356130-6232-4934-b635-623365386461
DTSTAMP:20260422T053815Z
DESCRIPTION:7/14 SK Kometa Praha - VK Dukla Liberec 0:2 (-22\,-20)
DTSTART;TZID=Europe/Berlin:20231014T170000
DTEND;TZID=Europe/Berlin:20231014T190000
LOCATION:Tělocvična ZŠ Na Šutce\, Na Šutce 440 Praha - Troja
SUMMARY:CP-U16Z-Z2A: SK Kometa Praha-VK Dukla Liberec
END:VEVENT
BEGIN:VEVENT
UID:66373561-6362-4461-a163-616333646164
DTSTAMP:20260422T053815Z
DESCRIPTION:11/21 SK Kometa Praha - Volleyball Nymburk 0:2 (-9\,-20)
DTSTART;TZID=Europe/Berlin:20231015T123000
DTEND;TZID=Europe/Berlin:20231015T143000
LOCATION:Tělocvična ZŠ Na Šutce\, Na Šutce 440 Praha - Troja
SUMMARY:CP-U16Z-Z2A: SK Kometa Praha-Volleyball Nymburk
END:VEVENT
BEGIN:VEVENT
UID:37353161-3035-4931-b166-636666613930
DTSTAMP:20260422T053815Z
DESCRIPTION:1/2 Mikulova A - SK Kometa Praha 1:2 (15\,-18\,-13)
DTSTART;TZID=Europe/Berlin:20231014T090000
DTEND;TZID=Europe/Berlin:20231014T110000
LOCATION:tělocvičny ZŠ Mikulova\, Mikulova 1594 Praha - Chodov
SUMMARY:CP-U16Z-Z2A: Mikulova A-SK Kometa Praha
END:VEVENT
BEGIN:VEVENT
UID:37643233-6537-4465-a662-356134613362
DTSTAMP:20260422T053815Z
DESCRIPTION:5/10 Mikulova B - SK Kometa Praha 2:0 (16\,21)
DTSTART;TZID=Europe/Berlin:20231014T142000
DTEND;TZID=Europe/Berlin:20231014T162000
LOCATION:tělocvičny ZŠ Mikulova\, Mikulova 1594 Praha - Chodov
SUMMARY:CP-U16Z-Z2A: Mikulova B-SK Kometa Praha
END:VEVENT
BEGIN:VEVENT
UID:36326438-3762-4561-b139-656232313435
DTSTAMP:20260422T053815Z
DESCRIPTION:10/19 VK Karlovy Vary A - SK Kometa Praha 2:0 (14\,18)
DTSTART;TZID=Europe/Berlin:20231015T111000
DTEND;TZID=Europe/Berlin:20231015T131000
LOCATION:Mattoni Arena Hala míčových sportů\, Západní 1812 Karlovy Vary
SUMMARY:CP-U16Z-Z2A: VK Karlovy Vary A-SK Kometa Praha
END:VEVENT
BEGIN:VEVENT
UID:61636131-6461-4237-a566-376165396538
DTSTAMP:20260422T053815Z
DESCRIPTION:2/4 SK Kometa Praha - Kladno volejbal 2:0 (21\,23)
DTSTART;TZID=Europe/Berlin:20231118T103000
DTEND;TZID=Europe/Berlin:20231118T123000
LOCATION:Tělocvična ZŠ Na Šutce\, Na Šutce 440 Praha - Troja
SUMMARY:CP-U16Z-Z3B: SK Kometa Praha-Kladno volejbal
END:VEVENT
BEGIN:VEVENT
UID:33663938-3033-4538-b563-363735343062
DTSTAMP:20260422T053815Z
DESCRIPTION:4/8 SK Kometa Praha - Mikulova A 2:1 (-14\,12\,12)
DTSTART;TZID=Europe/Berlin:20231118T133000
DTEND;TZID=Europe/Berlin:20231118T153000
LOCATION:Tělocvična ZŠ Na Šutce\, Na Šutce 440 Praha - Troja
SUMMARY:CP-U16Z-Z3B: SK Kometa Praha-Mikulova A
END:VEVENT
BEGIN:VEVENT
UID:30363934-3135-4032-b665-353764626334
DTSTAMP:20260422T053815Z
DESCRIPTION:10/18 SK Kometa Praha - Nymburské BOMBY 2:1 (13\,-27\,12)
DTSTART;TZID=Europe/Berlin:20231119T100000
DTEND;TZID=Europe/Berlin:20231119T120000
LOCATION:Tělocvična ZŠ Na Šutce\, Na Šutce 440 Praha - Troja
SUMMARY:CP-U16Z-Z3B: SK Kometa Praha-Nymburské BOMBY
END:VEVENT
BEGIN:VEVENT
UID:31626361-3535-4635-b430-333639646466
DTSTAMP:20260422T053815Z
DESCRIPTION:1/1 SK Volejbal Ústí n.L. - SK Kometa Praha 2:0 (25\,17)
DTSTART;TZID=Europe/Berlin:20231118T090000
DTEND;TZID=Europe/Berlin:20231118T110000
LOCATION:Základní škola Stříbrnická\, Stříbrnická 3031 Ústí nad Labem - Sev
 erní Terasa
SUMMARY:CP-U16Z-Z3B: SK Volejbal Ústí n.L.-SK Kometa Praha
END:VEVENT
BEGIN:VEVENT
UID:63663734-3339-4834-b164-326437633666
DTSTAMP:20260422T053815Z
DESCRIPTION:7/12 BVC Chodov - SK Kometa Praha 2:0 (24\,12)
DTSTART;TZID=Europe/Berlin:20231118T174500
DTEND;TZID=Europe/Berlin:20231118T194500
LOCATION:Městská sportovní hala Chodov\, Tyršova 1201 Chodov
SUMMARY:CP-U16Z-Z3B: BVC Chodov-SK Kometa Praha
END:VEVENT
BEGIN:VEVENT
UID:39653061-6330-4437-a239-613836363834
DTSTAMP:20260422T053815Z
DESCRIPTION:12/21 TJ Kralupy - SK Kometa Praha 2:0 (21\,20)
DTSTART;TZID=Europe/Berlin:20231119T130000
DTEND;TZID=Europe/Berlin:20231119T150000
LOCATION:TJ KRALUPY\, z.s.\, Gen. Klapálka 1029 Kralupy nad Vltavou
SUMMARY:CP-U16Z-Z3B: TJ Kralupy-SK Kometa Praha
END:VEVENT
BEGIN:VEVENT
UID:66613765-3132-4663-b034-653165353931
DTSTAMP:20260422T053815Z
DESCRIPTION:2/5 SK Kometa Praha - SK Volejbal Kolín 0:2 (-16\,-16)
DTSTART;TZID=Europe/Berlin:20240127T110000
DTEND;TZID=Europe/Berlin:20240127T130000
LOCATION:Tělocvična ZŠ Na Šutce\, Na Šutce 440 Praha - Troja
SUMMARY:CP-U16Z-F1B: SK Kometa Praha-SK Volejbal Kolín
END:VEVENT
BEGIN:VEVENT
UID:31623361-6462-4163-a431-356536656339
DTSTAMP:20260422T053815Z
DESCRIPTION:5/13 SK Kometa Praha - PVK Olymp Praha 0:2 (-19\,-8)
DTSTART;TZID=Europe/Berlin:20240127T153000
DTEND;TZID=Europe/Berlin:20240127T173000
LOCATION:Tělocvična ZŠ Na Šutce\, Na Šutce 440 Praha - Troja
SUMMARY:CP-U16Z-F1B: SK Kometa Praha-PVK Olymp Praha
END:VEVENT
BEGIN:VEVENT
UID:62353337-3831-4539-b664-613339366435
DTSTAMP:20260422T053815Z
DESCRIPTION:9/23 SK Kometa Praha - ŠSK Bílovec 0:2 (-21\,-12)
DTSTART;TZID=Europe/Berlin:20240128T111500
DTEND;TZID=Europe/Berlin:20240128T131500
LOCATION:Tělocvična ZŠ Na Šutce\, Na Šutce 440 Praha - Troja
SUMMARY:CP-U16Z-F1B: SK Kometa Praha-ŠSK Bílovec
END:VEVENT
BEGIN:VEVENT
UID:33316138-6535-4238-a637-343166303463
DTSTAMP:20260422T053815Z
DESCRIPTION:10/28 SK Kometa Praha - VK UP Olomouc 0:2 (-22\,-17)
DTSTART;TZID=Europe/Berlin:20240128T123000
DTEND;TZID=Europe/Berlin:20240128T143000
LOCATION:Tělocvična ZŠ Na Šutce\, Na Šutce 440 Praha - Troja
SUMMARY:CP-U16Z-F1B: SK Kometa Praha-VK UP Olomouc
END:VEVENT
BEGIN:VEVENT
UID:35313534-6232-4132-b531-306136353236
DTSTAMP:20260422T053815Z
DESCRIPTION:1/1 Volejbal Rudolfov - SK Kometa Praha 2:0 (21\,23)
DTSTART;TZID=Europe/Berlin:20240127T093000
DTEND;TZID=Europe/Berlin:20240127T113000
LOCATION:Sportovní hala Rudolfov\, Adamovská 511 Rudolfov
SUMMARY:CP-U16Z-F1B: Volejbal Rudolfov-SK Kometa Praha
END:VEVENT
BEGIN:VEVENT
UID:65316363-3335-4139-a232-313963396136
DTSTAMP:20260422T053815Z
DESCRIPTION:3/9 Mikulova B - SK Kometa Praha 1:2 (-18\,15\,-5)
DTSTART;TZID=Europe/Berlin:20240127T123000
DTEND;TZID=Europe/Berlin:20240127T143000
LOCATION:tělocvičny ZŠ Mikulova\, Mikulova 1594 Praha - Chodov
SUMMARY:CP-U16Z-F1B: Mikulova B-SK Kometa Praha
END:VEVENT
BEGIN:VEVENT
UID:38613832-3961-4538-b533-326239326261
DTSTAMP:20260422T053815Z
DESCRIPTION:7/19 SK Volejbal Klatovy - SK Kometa Praha 2:0 (18\,17)
DTSTART;TZID=Europe/Berlin:20240128T083000
DTEND;TZID=Europe/Berlin:20240128T103000
LOCATION:Sportovní hala ZŠ Čapkova\, Čapkova 136 Klatovy - Klatovy V
SUMMARY:CP-U16Z-F1B: SK Volejbal Klatovy-SK Kometa Praha
END:VEVENT
BEGIN:VEVENT
UID:34653130-6464-4463-a161-323338663661
DTSTAMP:20260422T053815Z
DESCRIPTION:1/2 SK Kometa Praha - Mikulova A 0:2 (-21\,-17)
DTSTART;TZID=Europe/Berlin:20240217T090000
DTEND;TZID=Europe/Berlin:20240217T110000
LOCATION:Tělocvična ZŠ Na Šutce\, Na Šutce 440 Praha - Troja
SUMMARY:CP-U16Z-F2C: SK Kometa Praha-Mikulova A
END:VEVENT
BEGIN:VEVENT
UID:31323265-6230-4164-b966-636264656539
DTSTAMP:20260422T053815Z
DESCRIPTION:3/6 SK Kometa Praha - TJ Kralupy 1:2 (-18\,19\,-9)
DTSTART;TZID=Europe/Berlin:20240217T113000
DTEND;TZID=Europe/Berlin:20240217T133000
LOCATION:Tělocvična ZŠ Na Šutce\, Na Šutce 440 Praha - Troja
SUMMARY:CP-U16Z-F2C: SK Kometa Praha-TJ Kralupy
END:VEVENT
BEGIN:VEVENT
UID:61656334-6565-4936-b133-613861346361
DTSTAMP:20260422T053815Z
DESCRIPTION:7/14 SK Kometa Praha - TJ Svitavy 1:2 (-23\,12\,-16)
DTSTART;TZID=Europe/Berlin:20240217T163000
DTEND;TZID=Europe/Berlin:20240217T183000
LOCATION:Tělocvična ZŠ Na Šutce\, Na Šutce 440 Praha - Troja
SUMMARY:CP-U16Z-F2C: SK Kometa Praha-TJ Svitavy
END:VEVENT
BEGIN:VEVENT
UID:66333961-6264-4533-a462-386565373838
DTSTAMP:20260422T053815Z
DESCRIPTION:5/9 SK Volejbal Ústí n.L. - SK Kometa Praha 1:2 (17\,-24\,-10)
DTSTART;TZID=Europe/Berlin:20240217T140000
DTEND;TZID=Europe/Berlin:20240217T160000
LOCATION:Základní škola Stříbrnická\, Stříbrnická 3031 Ústí nad Labem - Sev
 erní Terasa
SUMMARY:CP-U16Z-F2C: SK Volejbal Ústí n.L.-SK Kometa Praha
END:VEVENT
BEGIN:VEVENT
UID:64396465-3738-4939-b462-393465386532
DTSTAMP:20260422T053815Z
DESCRIPTION:9/18 SK Volejbal Kolín - SK Kometa Praha 2:1 (22\,-20\,13)
DTSTART;TZID=Europe/Berlin:20240218T083000
DTEND;TZID=Europe/Berlin:20240218T103000
LOCATION:hala STAV\, SOŠ Kolín\, Brankovická 1417 Kolín - Kolín V
SUMMARY:CP-U16Z-F2C: SK Volejbal Kolín-SK Kometa Praha
END:VEVENT
BEGIN:VEVENT
UID:65636263-3438-4161-b939-366463373132
DTSTAMP:20260422T053815Z
DESCRIPTION:11/22 Nymburské BOMBY - SK Kometa Praha 1:2 (21\,-15\,-12)
DTSTART;TZID=Europe/Berlin:20240218T110000
DTEND;TZID=Europe/Berlin:20240218T130000
LOCATION:Bios\, V Kolonii 1804 Nymburk
SUMMARY:CP-U16Z-F2C: Nymburské BOMBY-SK Kometa Praha
END:VEVENT
BEGIN:VEVENT
UID:65363836-3839-4332-b734-326436636631
DTSTAMP:20260422T053815Z
DESCRIPTION:13/26 TJ Baník Příbram - SK Kometa Praha 2:1 (-24\,15\,11)
DTSTART;TZID=Europe/Berlin:20240218T133000
DTEND;TZID=Europe/Berlin:20240218T153000
LOCATION:Tělocvična ZŠ Balbínova\, Balbínova 328 Příbram - Příbram II
SUMMARY:CP-U16Z-F2C: TJ Baník Příbram-SK Kometa Praha
END:VEVENT
BEGIN:VEVENT
UID:30313562-3661-4366-b363-633164353137
DTSTAMP:20260422T053815Z
DESCRIPTION:2/3 SK Kometa Praha - VSC Zlín 1:2 (22\,-18\,-8)
DTSTART;TZID=Europe/Berlin:20240316T101500
DTEND;TZID=Europe/Berlin:20240316T121500
LOCATION:Tělocvična ZŠ Na Šutce\, Na Šutce 440 Praha - Troja
SUMMARY:CP-U16Z-F3D: SK Kometa Praha-VSC Zlín
END:VEVENT
BEGIN:VEVENT
UID:35383738-3663-4435-b165-333866373534
DTSTAMP:20260422T053815Z
DESCRIPTION:3/6 SK Kometa Praha - Mikulova A 2:1 (20\,-14\,10)
DTSTART;TZID=Europe/Berlin:20240316T113000
DTEND;TZID=Europe/Berlin:20240316T133000
LOCATION:Tělocvična ZŠ Na Šutce\, Na Šutce 440 Praha - Troja
SUMMARY:CP-U16Z-F3D: SK Kometa Praha-Mikulova A
END:VEVENT
BEGIN:VEVENT
UID:30666430-3763-4333-b234-303766303734
DTSTAMP:20260422T053815Z
DESCRIPTION:5/9 SK Kometa Praha - Loko Plzeň   .A 0:2 (-23\,-19)
DTSTART;TZID=Europe/Berlin:20240316T140000
DTEND;TZID=Europe/Berlin:20240316T160000
LOCATION:Tělocvična ZŠ Na Šutce\, Na Šutce 440 Praha - Troja
SUMMARY:CP-U16Z-F3D: SK Kometa Praha-Loko Plzeň   .A
END:VEVENT
BEGIN:VEVENT
UID:35306430-6261-4462-a463-396536373636
DTSTAMP:20260422T053815Z
DESCRIPTION:10/19 SK Kometa Praha - TJ Jiskra Nový Bor B 2:1 (17\,-24\,5)
DTSTART;TZID=Europe/Berlin:20240317T101500
DTEND;TZID=Europe/Berlin:20240317T121500
LOCATION:Tělocvična ZŠ Na Šutce\, Na Šutce 440 Praha - Troja
SUMMARY:CP-U16Z-F3D: SK Kometa Praha-TJ Jiskra Nový Bor B
END:VEVENT
BEGIN:VEVENT
UID:65623162-3831-4230-b635-353466636338
DTSTAMP:20260422T053815Z
DESCRIPTION:14/28 SK Kometa Praha - Volejbal Ústí n. L. 2:0 (21\,15)
DTSTART;TZID=Europe/Berlin:20240317T151500
DTEND;TZID=Europe/Berlin:20240317T171500
LOCATION:Tělocvična ZŠ Na Šutce\, Na Šutce 440 Praha - Troja
SUMMARY:CP-U16Z-F3D: SK Kometa Praha-Volejbal Ústí n. L.
END:VEVENT
BEGIN:VEVENT
UID:35333966-3961-4535-a433-613665383564
DTSTAMP:20260422T053815Z
DESCRIPTION:7/14 TJ Jiskra Jaroměř - SK Kometa Praha 1:2 (23\,-16\,-13)
DTSTART;TZID=Europe/Berlin:20240316T163000
DTEND;TZID=Europe/Berlin:20240316T183000
LOCATION:Hala SŠŘ\, Na Karlově 798 Jaroměř - Pražské Předměstí
SUMMARY:CP-U16Z-F3D: TJ Jiskra Jaroměř-SK Kometa Praha
END:VEVENT
BEGIN:VEVENT
UID:65303566-3634-4136-b832-646661643064
DTSTAMP:20260422T053815Z
DESCRIPTION:12/24 VSK Spartak Děčín - SK Kometa Praha 2:1 (21\,-21\,11)
DTSTART;TZID=Europe/Berlin:20240317T124500
DTEND;TZID=Europe/Berlin:20240317T144500
LOCATION:Tělocvična SPŠ Stavební\, Jihlavská 628 Havlíčkův Brod
SUMMARY:CP-U16Z-F3D: VSK Spartak Děčín-SK Kometa Praha
END:VEVENT
END:VCALENDAR
