BEGIN:VCALENDAR
VERSION:2.0
PRODID:-//VSC Zlín83008//NONSGML kigkonsult.se iCalcreator 2.41.80//
CALSCALE:GREGORIAN
UID:30313333-3234-4937-a330-343330663965
BEGIN:VEVENT
UID:36313737-3565-4131-b162-393032653761
DTSTAMP:20260422T033946Z
DESCRIPTION:3/5 VSC Zlín - Volejbal Přerov 1:2 (9\,-13\,-13)
DTSTART;TZID=Europe/Berlin:20230923T133000
DTEND;TZID=Europe/Berlin:20230923T153000
LOCATION:ZŠ Okružní Zlín\, Okružní 4685 Zlín
SUMMARY:CP-U16Z-V1F: VSC Zlín-Volejbal Přerov
END:VEVENT
BEGIN:VEVENT
UID:32376635-3534-4131-b235-643830353864
DTSTAMP:20260422T033946Z
DESCRIPTION:5/7 VSC Zlín - TJ Ostrava 1:2 (-19\,15\,-13)
DTSTART;TZID=Europe/Berlin:20230923T160000
DTEND;TZID=Europe/Berlin:20230923T180000
LOCATION:ZŠ Okružní Zlín\, Okružní 4685 Zlín
SUMMARY:CP-U16Z-V1F: VSC Zlín-TJ Ostrava
END:VEVENT
BEGIN:VEVENT
UID:66353933-3066-4536-a438-353339353432
DTSTAMP:20260422T033946Z
DESCRIPTION:2/3 VK UP Olomouc - VSC Zlín 2:1 (14\,-12\,13)
DTSTART;TZID=Europe/Berlin:20230923T110000
DTEND;TZID=Europe/Berlin:20230923T130000
LOCATION:UP Olomouc\, U sportovní haly 38 Olomouc - Lazce
SUMMARY:CP-U16Z-V1F: VK UP Olomouc-VSC Zlín
END:VEVENT
BEGIN:VEVENT
UID:38323063-3861-4363-b564-333530613462
DTSTAMP:20260422T033946Z
DESCRIPTION:7/10 TJ Junior Brno - VSC Zlín 0:2 (-10\,-12)
DTSTART;TZID=Europe/Berlin:20230924T083000
DTEND;TZID=Europe/Berlin:20230924T103000
LOCATION:tělocvičny ZŠ Novolíšeňská\, Brno\, Novolíšeňská 2411 Brno - Líšeň
SUMMARY:CP-U16Z-V1F: TJ Junior Brno-VSC Zlín
END:VEVENT
BEGIN:VEVENT
UID:34623930-3562-4939-b161-326634643462
DTSTAMP:20260422T033946Z
DESCRIPTION:10/14 Orel Letohrad - VSC Zlín 0:2 (-21\,-11)
DTSTART;TZID=Europe/Berlin:20230924T123000
DTEND;TZID=Europe/Berlin:20230924T143000
LOCATION:TJ Spartak Letohrad\, Jilemnického 341 Letohrad
SUMMARY:CP-U16Z-V1F: Orel Letohrad-VSC Zlín
END:VEVENT
BEGIN:VEVENT
UID:34646435-3534-4638-b431-356430393131
DTSTAMP:20260422T033946Z
DESCRIPTION:1/1 VSC Zlín - TJ Jiskra Nový Bor B 2:0 (23\,18)
DTSTART;TZID=Europe/Berlin:20231014T093000
DTEND;TZID=Europe/Berlin:20231014T113000
LOCATION:ZŠ Okružní Zlín\, Okružní 4685 Zlín
SUMMARY:CP-U16Z-V2C: VSC Zlín-TJ Jiskra Nový Bor B
END:VEVENT
BEGIN:VEVENT
UID:35323533-3164-4663-a163-666333353563
DTSTAMP:20260422T033946Z
DESCRIPTION:6/15 VSC Zlín - KP Brno B 2:0 (15\,17)
DTSTART;TZID=Europe/Berlin:20231014T170000
DTEND;TZID=Europe/Berlin:20231014T190000
LOCATION:ZŠ Okružní Zlín\, Okružní 4685 Zlín
SUMMARY:CP-U16Z-V2C: VSC Zlín-KP Brno B
END:VEVENT
BEGIN:VEVENT
UID:39303339-6163-4538-b665-306262326531
DTSTAMP:20260422T033946Z
DESCRIPTION:4/9 RÉMA Rychnov - VSC Zlín 1:2 (20\,-13\,-4)
DTSTART;TZID=Europe/Berlin:20231014T140000
DTEND;TZID=Europe/Berlin:20231014T160000
LOCATION:VOŠ a SŠ zem.\, Komenského 873 Kostelec nad Orlicí
SUMMARY:CP-U16Z-V2C: RÉMA Rychnov-VSC Zlín
END:VEVENT
BEGIN:VEVENT
UID:32653937-6562-4265-a134-646438623033
DTSTAMP:20260422T033946Z
DESCRIPTION:5/10 TJ Slovácká Slavia U. Hradiště - VSC Zlín 0:2 (-11\,-15)
DTSTART;TZID=Europe/Berlin:20231014T153000
DTEND;TZID=Europe/Berlin:20231014T173000
LOCATION:Městská sportovní hala\, Stonky 860 Uherské Hradiště
SUMMARY:CP-U16Z-V2C: TJ Slovácká Slavia U. Hradiště-VSC Zlín
END:VEVENT
BEGIN:VEVENT
UID:38333934-6264-4233-b330-303530616465
DTSTAMP:20260422T033946Z
DESCRIPTION:7/18 TJ Sokol Předklášteří - VSC Zlín 0:2 (-7\,-13)
DTSTART;TZID=Europe/Berlin:20231015T090000
DTEND;TZID=Europe/Berlin:20231015T110000
LOCATION:ZŠ Předklášteří\, Komenského 1097 Předklášteří
SUMMARY:CP-U16Z-V2C: TJ Sokol Předklášteří-VSC Zlín
END:VEVENT
BEGIN:VEVENT
UID:33333966-6664-4331-b038-383364636238
DTSTAMP:20260422T033946Z
DESCRIPTION:8/20 TJ Jiskra Havlíčkův Brod - VSC Zlín 0:2 (-11\,-22)
DTSTART;TZID=Europe/Berlin:20231015T103000
DTEND;TZID=Europe/Berlin:20231015T123000
LOCATION:Sportovní hala TJ Jiskra\, Ledečská 3028 Havlíčkův Brod
SUMMARY:CP-U16Z-V2C: TJ Jiskra Havlíčkův Brod-VSC Zlín
END:VEVENT
BEGIN:VEVENT
UID:34313436-3063-4061-b664-366430323062
DTSTAMP:20260422T033946Z
DESCRIPTION:5/15 VSC Zlín - RÉMA Rychnov 1:2 (-24\,13\,-11)
DTSTART;TZID=Europe/Berlin:20231118T120100
DTEND;TZID=Europe/Berlin:20231118T140100
LOCATION:ZŠ Okružní Zlín\, Okružní 4685 Zlín
SUMMARY:CP-U16Z-V3B: VSC Zlín-RÉMA Rychnov
END:VEVENT
BEGIN:VEVENT
UID:65323833-3266-4466-a335-316437656434
DTSTAMP:20260422T033946Z
DESCRIPTION:6/16 VSC Zlín - Happy Sport Opava 1:2 (-24\,15\,-13)
DTSTART;TZID=Europe/Berlin:20231118T140000
DTEND;TZID=Europe/Berlin:20231118T160000
LOCATION:ZŠ Okružní Zlín\, Okružní 4685 Zlín
SUMMARY:CP-U16Z-V3B: VSC Zlín-Happy Sport Opava
END:VEVENT
BEGIN:VEVENT
UID:65346364-3534-4831-a663-666161366239
DTSTAMP:20260422T033946Z
DESCRIPTION:1/1 TJ Ostrava - VSC Zlín 2:0 (23\,23)
DTSTART;TZID=Europe/Berlin:20231117T133000
DTEND;TZID=Europe/Berlin:20231117T153000
LOCATION:Hala mládeže\, Gajdošova 1893 Ostrava - Moravská Ostrava
SUMMARY:CP-U16Z-V3B: TJ Ostrava-VSC Zlín
END:VEVENT
BEGIN:VEVENT
UID:61663732-3463-4964-b630-383161636239
DTSTAMP:20260422T033946Z
DESCRIPTION:2/6 TJ Sokol Pardubice I. - VSC Zlín 0:2 (-16\,-16)
DTSTART;TZID=Europe/Berlin:20231117T160000
DTEND;TZID=Europe/Berlin:20231117T180000
LOCATION:Sokolovna\, Jiráskova 29 Pardubice - Zelené Předměstí
SUMMARY:CP-U16Z-V3B: TJ Sokol Pardubice I.-VSC Zlín
END:VEVENT
BEGIN:VEVENT
UID:37356266-6365-4333-b539-376430613339
DTSTAMP:20260422T033946Z
DESCRIPTION:3/7 TJ Svitavy - VSC Zlín 1:2 (22\,-16\,-13)
DTSTART;TZID=Europe/Berlin:20231117T175900
DTEND;TZID=Europe/Berlin:20231117T195900
LOCATION:Sportovní hala Na Střelnici\, Pražská 2162 Svitavy - Předměstí
SUMMARY:CP-U16Z-V3B: TJ Svitavy-VSC Zlín
END:VEVENT
BEGIN:VEVENT
UID:64336232-6363-4265-a165-636266666265
DTSTAMP:20260422T033946Z
DESCRIPTION:4/10 ŠSK Bílovec - VSC Zlín 0:2 (-17\,-6)
DTSTART;TZID=Europe/Berlin:20231118T094500
DTEND;TZID=Europe/Berlin:20231118T114500
LOCATION:Hala ZŠ Komenského\, Komenského 701 Bílovec
SUMMARY:CP-U16Z-V3B: ŠSK Bílovec-VSC Zlín
END:VEVENT
BEGIN:VEVENT
UID:62386330-3632-4438-b034-373163653036
DTSTAMP:20260422T033946Z
DESCRIPTION:3/6 VSC Zlín - TJ Baník Příbram 0:2 (-16\,-18)
DTSTART;TZID=Europe/Berlin:20240127T110000
DTEND;TZID=Europe/Berlin:20240127T130000
LOCATION:ZŠ Okružní Zlín\, Okružní 4685 Zlín
SUMMARY:CP-U16Z-F1D: VSC Zlín-TJ Baník Příbram
END:VEVENT
BEGIN:VEVENT
UID:32393933-6361-4338-a535-326137353535
DTSTAMP:20260422T033946Z
DESCRIPTION:11/21 VSC Zlín - Loko Plzeň   .A 0:2 (-11\,-19)
DTSTART;TZID=Europe/Berlin:20240128T110000
DTEND;TZID=Europe/Berlin:20240128T130000
LOCATION:ZŠ Okružní Zlín\, Okružní 4685 Zlín
SUMMARY:CP-U16Z-F1D: VSC Zlín-Loko Plzeň   .A
END:VEVENT
BEGIN:VEVENT
UID:33376639-6434-4431-a436-326365373934
DTSTAMP:20260422T033946Z
DESCRIPTION:13/26 VSC Zlín - Kladno volejbal 0:2 (-19\,-13)
DTSTART;TZID=Europe/Berlin:20240128T130000
DTEND;TZID=Europe/Berlin:20240128T150000
LOCATION:ZŠ Okružní Zlín\, Okružní 4685 Zlín
SUMMARY:CP-U16Z-F1D: VSC Zlín-Kladno volejbal
END:VEVENT
BEGIN:VEVENT
UID:35393832-3732-4035-b566-623435336334
DTSTAMP:20260422T033946Z
DESCRIPTION:2/4 RÉMA Rychnov - VSC Zlín 2:0 (20\,14)
DTSTART;TZID=Europe/Berlin:20240127T100000
DTEND;TZID=Europe/Berlin:20240127T120000
LOCATION:VOŠ a SŠ zem.\, Komenského 873 Kostelec nad Orlicí
SUMMARY:CP-U16Z-F1D: RÉMA Rychnov-VSC Zlín
END:VEVENT
BEGIN:VEVENT
UID:36376262-6461-4266-b362-333333353234
DTSTAMP:20260422T033946Z
DESCRIPTION:5/10 TJ Kralupy - VSC Zlín 2:0 (12\,18)
DTSTART;TZID=Europe/Berlin:20240127T130000
DTEND;TZID=Europe/Berlin:20240127T150000
LOCATION:TJ KRALUPY\, z.s.\, Gen. Klapálka 1029 Kralupy nad Vltavou
SUMMARY:CP-U16Z-F1D: TJ Kralupy-VSC Zlín
END:VEVENT
BEGIN:VEVENT
UID:63303536-6139-4864-b361-616432653336
DTSTAMP:20260422T033946Z
DESCRIPTION:7/14 TJ Jiskra Nový Bor B - VSC Zlín 2:0 (20\,19)
DTSTART;TZID=Europe/Berlin:20240127T150000
DTEND;TZID=Europe/Berlin:20240127T170000
LOCATION:Sportovní hala Františka Arnošta Nový Bor\, U hřiště 1391 Nový Bor
SUMMARY:CP-U16Z-F1D: TJ Jiskra Nový Bor B-VSC Zlín
END:VEVENT
BEGIN:VEVENT
UID:38373634-6462-4266-b733-616138623237
DTSTAMP:20260422T033946Z
DESCRIPTION:10/19 TJ Jiskra Jaroměř - VSC Zlín 2:0 (6\,23)
DTSTART;TZID=Europe/Berlin:20240128T100000
DTEND;TZID=Europe/Berlin:20240128T120000
LOCATION:Hala SŠŘ\, Na Karlově 798 Jaroměř - Pražské Předměstí
SUMMARY:CP-U16Z-F1D: TJ Jiskra Jaroměř-VSC Zlín
END:VEVENT
BEGIN:VEVENT
UID:37316535-3163-4138-b761-326236613039
DTSTAMP:20260422T033946Z
DESCRIPTION:3/6 VSC Zlín - Volejbal Ústí n. L. 2:1 (23\,-21\,12)
DTSTART;TZID=Europe/Berlin:20240217T123000
DTEND;TZID=Europe/Berlin:20240217T143000
LOCATION:ZŠ Okružní Zlín\, Okružní 4685 Zlín
SUMMARY:CP-U16Z-F2E: VSC Zlín-Volejbal Ústí n. L.
END:VEVENT
BEGIN:VEVENT
UID:36376339-6666-4363-b736-663631343230
DTSTAMP:20260422T033946Z
DESCRIPTION:6/14 VSC Zlín - KP Brno B 2:0 (10\,11)
DTSTART;TZID=Europe/Berlin:20240217T170000
DTEND;TZID=Europe/Berlin:20240217T190000
LOCATION:ZŠ Okružní Zlín\, Okružní 4685 Zlín
SUMMARY:CP-U16Z-F2E: VSC Zlín-KP Brno B
END:VEVENT
BEGIN:VEVENT
UID:39623237-3538-4438-a131-353861343737
DTSTAMP:20260422T033946Z
DESCRIPTION:8/20 VSC Zlín - SVK Nový Jičín 2:0 (13\,14)
DTSTART;TZID=Europe/Berlin:20240218T103000
DTEND;TZID=Europe/Berlin:20240218T123000
LOCATION:ZŠ Okružní Zlín\, Okružní 4685 Zlín
SUMMARY:CP-U16Z-F2E: VSC Zlín-SVK Nový Jičín
END:VEVENT
BEGIN:VEVENT
UID:32333532-3364-4464-a233-366363633961
DTSTAMP:20260422T033946Z
DESCRIPTION:10/26 VSC Zlín - Orel Letohrad 2:1 (17\,-23\,9)
DTSTART;TZID=Europe/Berlin:20240218T133000
DTEND;TZID=Europe/Berlin:20240218T153000
LOCATION:ZŠ Okružní Zlín\, Okružní 4685 Zlín
SUMMARY:CP-U16Z-F2E: VSC Zlín-Orel Letohrad
END:VEVENT
BEGIN:VEVENT
UID:38396630-6136-4835-a537-356666356136
DTSTAMP:20260422T033946Z
DESCRIPTION:1/1 VK Raškovice - VSC Zlín 0:2 (-11\,-9)
DTSTART;TZID=Europe/Berlin:20240217T093000
DTEND;TZID=Europe/Berlin:20240217T113000
LOCATION:Víceúčelová sportovní hala\,  Raškovice18
SUMMARY:CP-U16Z-F2E: VK Raškovice-VSC Zlín
END:VEVENT
BEGIN:VEVENT
UID:64663131-6133-4939-b230-366166666439
DTSTAMP:20260422T033946Z
DESCRIPTION:5/13 VK Slavia Plzeň - VSC Zlín 0:2 (-11\,-21)
DTSTART;TZID=Europe/Berlin:20240217T153000
DTEND;TZID=Europe/Berlin:20240217T173000
LOCATION:Tělocvična 15.ZŠ\, Terezie Brzkové 863 Plzeň - Skvrňany
SUMMARY:CP-U16Z-F2E: VK Slavia Plzeň-VSC Zlín
END:VEVENT
BEGIN:VEVENT
UID:31303935-3462-4330-a639-636638323831
DTSTAMP:20260422T033946Z
DESCRIPTION:9/23 RÉMA Rychnov - VSC Zlín 1:2 (-16\,22\,-11)
DTSTART;TZID=Europe/Berlin:20240218T120000
DTEND;TZID=Europe/Berlin:20240218T140000
LOCATION:VOŠ a SŠ zem.\, Komenského 873 Kostelec nad Orlicí
SUMMARY:CP-U16Z-F2E: RÉMA Rychnov-VSC Zlín
END:VEVENT
BEGIN:VEVENT
UID:34356662-3737-4233-b630-303832623763
DTSTAMP:20260422T033946Z
DESCRIPTION:1/2 VSC Zlín - TJ Jiskra Nový Bor B 2:0 (14\,17)
DTSTART;TZID=Europe/Berlin:20240316T090000
DTEND;TZID=Europe/Berlin:20240316T110000
LOCATION:ZŠ Okružní Zlín\, Okružní 4685 Zlín
SUMMARY:CP-U16Z-F3D: VSC Zlín-TJ Jiskra Nový Bor B
END:VEVENT
BEGIN:VEVENT
UID:34643239-3865-4339-a539-393435323264
DTSTAMP:20260422T033946Z
DESCRIPTION:8/15 VSC Zlín - VSK Spartak Děčín 2:0 (5\,21)
DTSTART;TZID=Europe/Berlin:20240316T174500
DTEND;TZID=Europe/Berlin:20240316T194500
LOCATION:ZŠ Okružní Zlín\, Okružní 4685 Zlín
SUMMARY:CP-U16Z-F3D: VSC Zlín-VSK Spartak Děčín
END:VEVENT
BEGIN:VEVENT
UID:32346536-3565-4336-a233-336236383839
DTSTAMP:20260422T033946Z
DESCRIPTION:9/18 VSC Zlín - Volejbal Ústí n. L. 1:2 (-19\,6\,-12)
DTSTART;TZID=Europe/Berlin:20240317T090000
DTEND;TZID=Europe/Berlin:20240317T110000
LOCATION:ZŠ Okružní Zlín\, Okružní 4685 Zlín
SUMMARY:CP-U16Z-F3D: VSC Zlín-Volejbal Ústí n. L.
END:VEVENT
BEGIN:VEVENT
UID:63646431-3430-4331-b535-323436326139
DTSTAMP:20260422T033946Z
DESCRIPTION:2/3 SK Kometa Praha - VSC Zlín 1:2 (22\,-18\,-8)
DTSTART;TZID=Europe/Berlin:20240316T101500
DTEND;TZID=Europe/Berlin:20240316T121500
LOCATION:Tělocvična ZŠ Na Šutce\, Na Šutce 440 Praha - Troja
SUMMARY:CP-U16Z-F3D: SK Kometa Praha-VSC Zlín
END:VEVENT
BEGIN:VEVENT
UID:36373364-3236-4663-b062-393461666661
DTSTAMP:20260422T033946Z
DESCRIPTION:4/8 TJ Jiskra Jaroměř - VSC Zlín 0:2 (-11\,-23)
DTSTART;TZID=Europe/Berlin:20240316T124500
DTEND;TZID=Europe/Berlin:20240316T144500
LOCATION:Hala SŠŘ\, Na Karlově 798 Jaroměř - Pražské Předměstí
SUMMARY:CP-U16Z-F3D: TJ Jiskra Jaroměř-VSC Zlín
END:VEVENT
BEGIN:VEVENT
UID:61383631-3363-4536-a465-663030656136
DTSTAMP:20260422T033946Z
DESCRIPTION:11/21 Loko Plzeň   .A - VSC Zlín 2:0 (20\,22)
DTSTART;TZID=Europe/Berlin:20240317T113000
DTEND;TZID=Europe/Berlin:20240317T133000
LOCATION:Městská sportovní hala  -  hala 2\, Úslavská 2357 Plzeň - Východní
  Předměstí
SUMMARY:CP-U16Z-F3D: Loko Plzeň   .A-VSC Zlín
END:VEVENT
BEGIN:VEVENT
UID:38373261-3331-4637-a463-363130326339
DTSTAMP:20260422T033946Z
DESCRIPTION:13/26 Mikulova A - VSC Zlín 0:2 (-14\,-19)
DTSTART;TZID=Europe/Berlin:20240317T140000
DTEND;TZID=Europe/Berlin:20240317T160000
LOCATION:tělocvičny ZŠ Mikulova\, Mikulova 1594 Praha - Chodov
SUMMARY:CP-U16Z-F3D: Mikulova A-VSC Zlín
END:VEVENT
END:VCALENDAR
