BEGIN:VCALENDAR
VERSION:2.0
PRODID:-//INLAB SK Meteor Praha83020//NONSGML kigkonsult.se iCalcreator 2.41.80//
CALSCALE:GREGORIAN
UID:65646231-6633-4565-b630-313133623530
BEGIN:VEVENT
UID:63326461-6563-4864-b763-613933623162
DTSTAMP:20260422T053817Z
DESCRIPTION:6/6 SK Meteor Praha - Sokol Mn. Hradiště 0:2 (-19\,-10)
DTSTART;TZID=Europe/Berlin:20231014T163000
DTEND;TZID=Europe/Berlin:20231014T183000
LOCATION:ZŠ Žernosecká\, Žernosecká 1597 Praha - Kobylisy
SUMMARY:CP-U16M-Z1C: SK Meteor Praha-Sokol Mn. Hradiště
END:VEVENT
BEGIN:VEVENT
UID:36316561-3437-4664-b437-326264393733
DTSTAMP:20260422T053817Z
DESCRIPTION:2/2 VK Lvi Praha A - SK Meteor Praha 2:0 (12\,11)
DTSTART;TZID=Europe/Berlin:20231014T123000
DTEND;TZID=Europe/Berlin:20231014T143000
LOCATION:FZŠ Brdičkova\, Brdičkova 1878 Praha - Stodůlky
SUMMARY:CP-U16M-Z1C: VK Lvi Praha A-SK Meteor Praha
END:VEVENT
BEGIN:VEVENT
UID:38326262-6237-4835-b463-623638663865
DTSTAMP:20260422T053817Z
DESCRIPTION:3/3 SK PROSEK B - SK Meteor Praha 1:2 (-19\,19\,-6)
DTSTART;TZID=Europe/Berlin:20231014T133000
DTEND;TZID=Europe/Berlin:20231014T153000
LOCATION:SH SK Prosek\, Lovosická 559 Praha - Letňany
SUMMARY:CP-U16M-Z1C: SK PROSEK B-SK Meteor Praha
END:VEVENT
BEGIN:VEVENT
UID:35363038-3536-4236-b361-623236646431
DTSTAMP:20260422T053817Z
DESCRIPTION:1/2 VK Karlovarsko\, z.s. - SK Meteor Praha 2:1 (18\,-15\,10)\n
 2B - 3C
DTSTART;TZID=Europe/Berlin:20231014T173000
DTEND;TZID=Europe/Berlin:20231014T193000
LOCATION:Mattoni Arena Hala míčových sportů\, Západní 1812 Karlovy Vary
SUMMARY:CP-U16M-Z1I: VK Karlovarsko\, z.s.-SK Meteor Praha
END:VEVENT
BEGIN:VEVENT
UID:31383739-6437-4333-b130-616231386363
DTSTAMP:20260422T053817Z
DESCRIPTION:2/2 SK Meteor Praha - Plzeň 2:0 (20\,9)
DTSTART;TZID=Europe/Berlin:20231015T110000
DTEND;TZID=Europe/Berlin:20231015T130000
LOCATION:ZŠ Žernosecká\, Žernosecká 1597 Praha - Kobylisy
SUMMARY:CP-U16M-Z1M: SK Meteor Praha-Plzeň
END:VEVENT
BEGIN:VEVENT
UID:64626666-3037-4630-b139-386464346665
DTSTAMP:20260422T053817Z
DESCRIPTION:3/3 VK Trox Příbram B - SK Meteor Praha 0:2 (-20\,-20)
DTSTART;TZID=Europe/Berlin:20231015T120000
DTEND;TZID=Europe/Berlin:20231015T140000
LOCATION:Tělocvična ZŠ Balbínova\, Balbínova 328 Příbram - Příbram II
SUMMARY:CP-U16M-Z1M: VK Trox Příbram B-SK Meteor Praha
END:VEVENT
BEGIN:VEVENT
UID:34636132-6635-4463-b861-336430346633
DTSTAMP:20260422T053817Z
DESCRIPTION:2/7 Tělovýchovná jednota Jiskra Nový Bor\, z.s. - SK Meteor Pra
 ha 1:2 (20\,-25\,-9)\nL1-M1
DTSTART;TZID=Europe/Berlin:20231015T140000
DTEND;TZID=Europe/Berlin:20231015T160000
LOCATION:Sportovní hala Františka Arnošta Nový Bor\, U hřiště 1391 Nový Bor
SUMMARY:CP-U16M-Z1UMIS: Tělovýchovná jednota Jiskra Nový Bor\, z.s.-SK Mete
 or Praha
END:VEVENT
BEGIN:VEVENT
UID:65643936-3064-4964-a165-336364346566
DTSTAMP:20260422T053817Z
DESCRIPTION:3/6 SK Meteor Praha - SKV Ústí n. L. 2:1 (17\,-21\,11)
DTSTART;TZID=Europe/Berlin:20231118T120000
DTEND;TZID=Europe/Berlin:20231118T140000
LOCATION:ZŠ Žernosecká\, Žernosecká 1597 Praha - Kobylisy
SUMMARY:CP-U16M-Z2B: SK Meteor Praha-SKV Ústí n. L.
END:VEVENT
BEGIN:VEVENT
UID:62323630-3861-4962-b237-633762393536
DTSTAMP:20260422T053817Z
DESCRIPTION:8/16 SK Meteor Praha - VK Trox Příbram B 2:0 (13\,20)
DTSTART;TZID=Europe/Berlin:20231118T170000
DTEND;TZID=Europe/Berlin:20231118T190000
LOCATION:ZŠ Žernosecká\, Žernosecká 1597 Praha - Kobylisy
SUMMARY:CP-U16M-Z2B: SK Meteor Praha-VK Trox Příbram B
END:VEVENT
BEGIN:VEVENT
UID:66376265-3665-4161-a330-316239643439
DTSTAMP:20260422T053817Z
DESCRIPTION:10/20 SK Meteor Praha - AERO Odolena Voda 2:1 (-23\,17\,15)
DTSTART;TZID=Europe/Berlin:20231119T100000
DTEND;TZID=Europe/Berlin:20231119T120000
LOCATION:ZŠ Žernosecká\, Žernosecká 1597 Praha - Kobylisy
SUMMARY:CP-U16M-Z2B: SK Meteor Praha-AERO Odolena Voda
END:VEVENT
BEGIN:VEVENT
UID:62646161-6334-4130-b633-356536326234
DTSTAMP:20260422T053817Z
DESCRIPTION:12/24 SK Meteor Praha - Tělovýchovná jednota Jiskra Nový Bor\, 
 z.s. 2:0 (26\,19)
DTSTART;TZID=Europe/Berlin:20231119T120000
DTEND;TZID=Europe/Berlin:20231119T140000
LOCATION:ZŠ Žernosecká\, Žernosecká 1597 Praha - Kobylisy
SUMMARY:CP-U16M-Z2B: SK Meteor Praha-Tělovýchovná jednota Jiskra Nový Bor\,
  z.s.
END:VEVENT
BEGIN:VEVENT
UID:64366664-3233-4039-b335-623663666464
DTSTAMP:20260422T053817Z
DESCRIPTION:14/28 SK Meteor Praha - TJ Slavia HK 0:2 (-11\,-21)
DTSTART;TZID=Europe/Berlin:20231119T140000
DTEND;TZID=Europe/Berlin:20231119T160000
LOCATION:ZŠ Žernosecká\, Žernosecká 1597 Praha - Kobylisy
SUMMARY:CP-U16M-Z2B: SK Meteor Praha-TJ Slavia HK
END:VEVENT
BEGIN:VEVENT
UID:34663338-3732-4536-b266-656330386130
DTSTAMP:20260422T053817Z
DESCRIPTION:1/2 VK Karlovarsko\, z.s. - SK Meteor Praha 0:2 (-13\,-16)
DTSTART;TZID=Europe/Berlin:20231118T100000
DTEND;TZID=Europe/Berlin:20231118T120000
LOCATION:Mattoni Arena Hala míčových sportů\, Západní 1812 Karlovy Vary
SUMMARY:CP-U16M-Z2B: VK Karlovarsko\, z.s.-SK Meteor Praha
END:VEVENT
BEGIN:VEVENT
UID:30356330-3331-4530-b435-613834326531
DTSTAMP:20260422T053817Z
DESCRIPTION:5/9 Volejbal Sokolov\, z.s. - SK Meteor Praha 2:1 (20\,-26\,7)
DTSTART;TZID=Europe/Berlin:20231118T140000
DTEND;TZID=Europe/Berlin:20231118T160000
LOCATION:Jiskra\, Maxima Gorkého 280 Sokolov
SUMMARY:CP-U16M-Z2B: Volejbal Sokolov\, z.s.-SK Meteor Praha
END:VEVENT
BEGIN:VEVENT
UID:36366432-3466-4637-b030-643462326363
DTSTAMP:20260422T053817Z
DESCRIPTION:1/1 SK Meteor Praha - Sokol Mn. Hradiště 0:2 (-19\,-20)
DTSTART;TZID=Europe/Berlin:20231202T093000
DTEND;TZID=Europe/Berlin:20231202T113000
LOCATION:ZŠ Žernosecká\, Žernosecká 1597 Praha - Kobylisy
SUMMARY:CP-U16M-Z3B: SK Meteor Praha-Sokol Mn. Hradiště
END:VEVENT
BEGIN:VEVENT
UID:33313162-3832-4265-b432-316165393465
DTSTAMP:20260422T053817Z
DESCRIPTION:3/5 SK Meteor Praha - Volejbal Sokolov\, z.s. 2:0 (21\,23)
DTSTART;TZID=Europe/Berlin:20231202T120000
DTEND;TZID=Europe/Berlin:20231202T140000
LOCATION:ZŠ Žernosecká\, Žernosecká 1597 Praha - Kobylisy
SUMMARY:CP-U16M-Z3B: SK Meteor Praha-Volejbal Sokolov\, z.s.
END:VEVENT
BEGIN:VEVENT
UID:35303234-3466-4038-a535-353263653135
DTSTAMP:20260422T053817Z
DESCRIPTION:14/28 SK Meteor Praha - VK Dukla Liberec 2:1 (-22\,19\,12)
DTSTART;TZID=Europe/Berlin:20231203T140000
DTEND;TZID=Europe/Berlin:20231203T160000
LOCATION:ZŠ Žernosecká\, Žernosecká 1597 Praha - Kobylisy
SUMMARY:CP-U16M-Z3B: SK Meteor Praha-VK Dukla Liberec
END:VEVENT
BEGIN:VEVENT
UID:30633035-6537-4437-a662-653235383731
DTSTAMP:20260422T053817Z
DESCRIPTION:6/11 VK Trox Příbram B - SK Meteor Praha 0:2 (-23\,-15)
DTSTART;TZID=Europe/Berlin:20231202T150000
DTEND;TZID=Europe/Berlin:20231202T170000
LOCATION:Tělocvična ZŠ Balbínova\, Balbínova 328 Příbram - Příbram II
SUMMARY:CP-U16M-Z3B: VK Trox Příbram B-SK Meteor Praha
END:VEVENT
BEGIN:VEVENT
UID:66363638-3033-4961-a364-636339616639
DTSTAMP:20260422T053817Z
DESCRIPTION:8/15 Orion Praha - SK Meteor Praha 0:2 (-24\,-23)
DTSTART;TZID=Europe/Berlin:20231202T170000
DTEND;TZID=Europe/Berlin:20231202T190000
LOCATION:ZŠ prof. Švejcara\, Mráčkova\, Mráčkova 3090 Praha - Modřany
SUMMARY:CP-U16M-Z3B: Orion Praha-SK Meteor Praha
END:VEVENT
BEGIN:VEVENT
UID:32646235-3932-4438-a166-313165373533
DTSTAMP:20260422T053817Z
DESCRIPTION:9/18 SKV Ústí n. L. - SK Meteor Praha 0:2 (-16\,-18)
DTSTART;TZID=Europe/Berlin:20231203T090000
DTEND;TZID=Europe/Berlin:20231203T110000
LOCATION:ZŠ Rabasova\, Rabasova 3282 Ústí nad Labem - Severní Terasa
SUMMARY:CP-U16M-Z3B: SKV Ústí n. L.-SK Meteor Praha
END:VEVENT
BEGIN:VEVENT
UID:38633230-3839-4663-b036-653462323031
DTSTAMP:20260422T053817Z
DESCRIPTION:12/24 TJ Lokomotiva Česká Lípa\, z.s. - SK Meteor Praha 0:2 (-2
 4\,-23)
DTSTART;TZID=Europe/Berlin:20231203T120000
DTEND;TZID=Europe/Berlin:20231203T140000
LOCATION:ZŠ Lada\, Šluknovská 2904 Česká Lípa
SUMMARY:CP-U16M-Z3B: TJ Lokomotiva Česká Lípa\, z.s.-SK Meteor Praha
END:VEVENT
BEGIN:VEVENT
UID:30343239-3561-4337-b431-373830623664
DTSTAMP:20260422T053817Z
DESCRIPTION:2/4 SK Meteor Praha - VK Karlovarsko\, z.s. 2:1 (-12\,20\,8)
DTSTART;TZID=Europe/Berlin:20240120T101500
DTEND;TZID=Europe/Berlin:20240120T121500
LOCATION:ZŠ Žernosecká\, Žernosecká 1597 Praha - Kobylisy
SUMMARY:CP-U16M-4C: SK Meteor Praha-VK Karlovarsko\, z.s.
END:VEVENT
BEGIN:VEVENT
UID:63303534-3131-4336-b264-633736646339
DTSTAMP:20260422T053817Z
DESCRIPTION:4/10 SK Meteor Praha - SKV Ústí n. L. 2:1 (18\,-27\,15)
DTSTART;TZID=Europe/Berlin:20240120T124500
DTEND;TZID=Europe/Berlin:20240120T144500
LOCATION:ZŠ Žernosecká\, Žernosecká 1597 Praha - Kobylisy
SUMMARY:CP-U16M-4C: SK Meteor Praha-SKV Ústí n. L.
END:VEVENT
BEGIN:VEVENT
UID:38653964-3931-4139-a634-646661383133
DTSTAMP:20260422T053817Z
DESCRIPTION:8/23 SK Meteor Praha - VK Trox Příbram B 1:2 (-15\,21\,-12)
DTSTART;TZID=Europe/Berlin:20240121T113000
DTEND;TZID=Europe/Berlin:20240121T133000
LOCATION:ZŠ Žernosecká\, Žernosecká 1597 Praha - Kobylisy
SUMMARY:CP-U16M-4C: SK Meteor Praha-VK Trox Příbram B
END:VEVENT
BEGIN:VEVENT
UID:63356631-3833-4439-a537-383839363464
DTSTAMP:20260422T053817Z
DESCRIPTION:9/26 SK Meteor Praha - Volejbal Sokolov\, z.s. 1:2 (15\,-19\,-5
 )
DTSTART;TZID=Europe/Berlin:20240121T124500
DTEND;TZID=Europe/Berlin:20240121T144500
LOCATION:ZŠ Žernosecká\, Žernosecká 1597 Praha - Kobylisy
SUMMARY:CP-U16M-4C: SK Meteor Praha-Volejbal Sokolov\, z.s.
END:VEVENT
BEGIN:VEVENT
UID:61323134-3465-4761-b137-356166393661
DTSTAMP:20260422T053817Z
DESCRIPTION:3/7 VS Ostrava - SK Meteor Praha 2:0 (15\,19)
DTSTART;TZID=Europe/Berlin:20240120T113000
DTEND;TZID=Europe/Berlin:20240120T133000
LOCATION:SŠSS Krakovská \, Krakovská 1095 Ostrava - Hrabůvka
SUMMARY:CP-U16M-4C: VS Ostrava-SK Meteor Praha
END:VEVENT
BEGIN:VEVENT
UID:63383865-3962-4265-b535-616234633265
DTSTAMP:20260422T053817Z
DESCRIPTION:5/13 Kladno volejbal cz - SK Meteor Praha 2:0 (14\,6)
DTSTART;TZID=Europe/Berlin:20240120T140000
DTEND;TZID=Europe/Berlin:20240120T160000
LOCATION:Kladenská sportovní hala\, Sportovců 817 Kladno - Rozdělov
SUMMARY:CP-U16M-4C: Kladno volejbal cz-SK Meteor Praha
END:VEVENT
BEGIN:VEVENT
UID:66396564-3837-4136-b730-616438386138
DTSTAMP:20260422T053817Z
DESCRIPTION:6/18 Green F-M - SK Meteor Praha 2:0 (22\,21)
DTSTART;TZID=Europe/Berlin:20240121T090000
DTEND;TZID=Europe/Berlin:20240121T110000
LOCATION:Hala SPŠ\, 28. října 1639 Frýdek-Místek - Místek
SUMMARY:CP-U16M-4C: Green F-M-SK Meteor Praha
END:VEVENT
BEGIN:VEVENT
UID:63613333-3562-4732-a234-333633643532
DTSTAMP:20260422T053817Z
DESCRIPTION:7/15 SK Meteor Praha - Volejbal Sokolov\, z.s. 2:0 (19\,21)
DTSTART;TZID=Europe/Berlin:20240210T163000
DTEND;TZID=Europe/Berlin:20240210T183000
LOCATION:ZŠ Žernosecká\, Žernosecká 1597 Praha - Kobylisy
SUMMARY:CP-U16M-5C: SK Meteor Praha-Volejbal Sokolov\, z.s.
END:VEVENT
BEGIN:VEVENT
UID:62326433-3438-4261-a461-396537633438
DTSTAMP:20260422T053817Z
DESCRIPTION:8/18 SK Meteor Praha - Sportovní volejbalový klub Nový Jičín\, 
 z.s. 0:2 (-17\,-7)
DTSTART;TZID=Europe/Berlin:20240210T174500
DTEND;TZID=Europe/Berlin:20240210T194500
LOCATION:ZŠ Žernosecká\, Žernosecká 1597 Praha - Kobylisy
SUMMARY:CP-U16M-5C: SK Meteor Praha-Sportovní volejbalový klub Nový Jičín\,
  z.s.
END:VEVENT
BEGIN:VEVENT
UID:37666361-3735-4635-a530-383964623933
DTSTAMP:20260422T053817Z
DESCRIPTION:12/28 SK Meteor Praha - SK Kojetín 2016\, z.s. 0:2 (-22\,-20)
DTSTART;TZID=Europe/Berlin:20240211T124500
DTEND;TZID=Europe/Berlin:20240211T144500
LOCATION:ZŠ Žernosecká\, Žernosecká 1597 Praha - Kobylisy
SUMMARY:CP-U16M-5C: SK Meteor Praha-SK Kojetín 2016\, z.s.
END:VEVENT
BEGIN:VEVENT
UID:33376435-3334-4237-a362-663663646437
DTSTAMP:20260422T053817Z
DESCRIPTION:1/2 VS Ostrava - SK Meteor Praha 2:0 (17\,19)
DTSTART;TZID=Europe/Berlin:20240210T090000
DTEND;TZID=Europe/Berlin:20240210T110000
LOCATION:SŠSS Krakovská \, Krakovská 1095 Ostrava - Hrabůvka
SUMMARY:CP-U16M-5C: VS Ostrava-SK Meteor Praha
END:VEVENT
BEGIN:VEVENT
UID:62373837-3136-4439-b934-633461643938
DTSTAMP:20260422T053817Z
DESCRIPTION:4/8 AERO Odolena Voda - SK Meteor Praha 2:1 (22\,-21\,8)
DTSTART;TZID=Europe/Berlin:20240210T124500
DTEND;TZID=Europe/Berlin:20240210T144500
LOCATION:Sportovní hala\, Ke Stadionu 375 Odolena Voda
SUMMARY:CP-U16M-5C: AERO Odolena Voda-SK Meteor Praha
END:VEVENT
BEGIN:VEVENT
UID:31383733-3433-4132-a638-643133653863
DTSTAMP:20260422T053817Z
DESCRIPTION:5/10 TJ Slavia HK - SK Meteor Praha 2:0 (12\,14)
DTSTART;TZID=Europe/Berlin:20240210T140000
DTEND;TZID=Europe/Berlin:20240210T160000
LOCATION:TJ Slavia Hradec Králové\, Víta Nejedlého 1216 Hradec Králové
SUMMARY:CP-U16M-5C: TJ Slavia HK-SK Meteor Praha
END:VEVENT
BEGIN:VEVENT
UID:62636633-3934-4135-b135-666430656632
DTSTAMP:20260422T053817Z
DESCRIPTION:11/26 SKV Ústí n. L. - SK Meteor Praha 2:0 (17\,18)
DTSTART;TZID=Europe/Berlin:20240211T113000
DTEND;TZID=Europe/Berlin:20240211T133000
LOCATION:ZŠ Rabasova\, Rabasova 3282 Ústí nad Labem - Severní Terasa
SUMMARY:CP-U16M-5C: SKV Ústí n. L.-SK Meteor Praha
END:VEVENT
BEGIN:VEVENT
UID:66363836-6134-4666-b163-306636356534
DTSTAMP:20260422T053817Z
DESCRIPTION:3/6 SK Meteor Praha - Volejbal Znojmo 0:2 (-11\,-11)
DTSTART;TZID=Europe/Berlin:20240316T110000
DTEND;TZID=Europe/Berlin:20240316T130000
LOCATION:ZŠ Žernosecká\, Žernosecká 1597 Praha - Kobylisy
SUMMARY:CP-U16M-6G: SK Meteor Praha-Volejbal Znojmo
END:VEVENT
BEGIN:VEVENT
UID:64343736-6630-4132-b236-393038336435
DTSTAMP:20260422T053817Z
DESCRIPTION:8/15 SK Meteor Praha - Beach club Zlín\, z.s. 0:2 (-14\,-5)
DTSTART;TZID=Europe/Berlin:20240316T160000
DTEND;TZID=Europe/Berlin:20240316T180000
LOCATION:ZŠ Žernosecká\, Žernosecká 1597 Praha - Kobylisy
SUMMARY:CP-U16M-6G: SK Meteor Praha-Beach club Zlín\, z.s.
END:VEVENT
BEGIN:VEVENT
UID:64393065-6237-4964-b139-646131613835
DTSTAMP:20260422T053817Z
DESCRIPTION:14/28 SK Meteor Praha - Blue Ostrava 0:2 (-15\,-8)
DTSTART;TZID=Europe/Berlin:20240317T120000
DTEND;TZID=Europe/Berlin:20240317T140000
LOCATION:ZŠ Žernosecká\, Žernosecká 1597 Praha - Kobylisy
SUMMARY:CP-U16M-6G: SK Meteor Praha-Blue Ostrava
END:VEVENT
BEGIN:VEVENT
UID:62333461-3363-4562-b538-656431393863
DTSTAMP:20260422T053817Z
DESCRIPTION:2/3 VK Karlovarsko\, z.s. - SK Meteor Praha 2:0 (3\,10)
DTSTART;TZID=Europe/Berlin:20240316T100000
DTEND;TZID=Europe/Berlin:20240316T120000
LOCATION:Mattoni Arena Hala míčových sportů\, Západní 1812 Karlovy Vary
SUMMARY:CP-U16M-6G: VK Karlovarsko\, z.s.-SK Meteor Praha
END:VEVENT
BEGIN:VEVENT
UID:38633732-6635-4636-a663-623335613137
DTSTAMP:20260422T053817Z
DESCRIPTION:5/10 Volejbal Sokolov\, z.s. - SK Meteor Praha X:2
DTSTART;TZID=Europe/Berlin:20240316T130000
DTEND;TZID=Europe/Berlin:20240316T150000
LOCATION:Jiskra\, Maxima Gorkého 280 Sokolov
SUMMARY:CP-U16M-6G: Volejbal Sokolov\, z.s.-SK Meteor Praha
END:VEVENT
BEGIN:VEVENT
UID:31396361-3839-4138-b265-326338643463
DTSTAMP:20260422T053817Z
DESCRIPTION:10/20 Tělovýchovná jednota Jiskra Nový Bor\, z.s. - SK Meteor P
 raha 2:0 (10\,11)
DTSTART;TZID=Europe/Berlin:20240316T180000
DTEND;TZID=Europe/Berlin:20240316T200000
LOCATION:Sportovní hala Františka Arnošta Nový Bor\, U hřiště 1391 Nový Bor
SUMMARY:CP-U16M-6G: Tělovýchovná jednota Jiskra Nový Bor\, z.s.-SK Meteor P
 raha
END:VEVENT
BEGIN:VEVENT
UID:65343136-6532-4836-b434-303761333231
DTSTAMP:20260422T053817Z
DESCRIPTION:11/21 VK Trox Příbram B - SK Meteor Praha 2:0 (10\,11)
DTSTART;TZID=Europe/Berlin:20240317T090000
DTEND;TZID=Europe/Berlin:20240317T110000
LOCATION:Tělocvična ZŠ Balbínova\, Balbínova 328 Příbram - Příbram II
SUMMARY:CP-U16M-6G: VK Trox Příbram B-SK Meteor Praha
END:VEVENT
END:VCALENDAR
