BEGIN:VCALENDAR
VERSION:2.0
PRODID:-//Škola volejbalu83024//NONSGML kigkonsult.se iCalcreator 2.41.80//
CALSCALE:GREGORIAN
UID:38363463-6338-4332-b530-616537333766
BEGIN:VEVENT
UID:64323331-3066-4634-b538-386239383963
DTSTAMP:20260422T052755Z
DESCRIPTION:1/1 Škola volejbalu - Kladno volejbal 1:2 (18\,-16\,-13)\nkurt 
 č.2
DTSTART;TZID=Europe/Berlin:20230923T090000
DTEND;TZID=Europe/Berlin:20230923T110000
LOCATION:Sportovní hala Hrdějovice\,  Hrdějovice597
SUMMARY:CP-U16Z-Z1A: Škola volejbalu-Kladno volejbal
END:VEVENT
BEGIN:VEVENT
UID:34626237-3839-4538-a536-346536663861
DTSTAMP:20260422T052755Z
DESCRIPTION:6/12 Škola volejbalu - VK Karlovy Vary B 0:2 (-22\,-24)\nkurt č
 .3
DTSTART;TZID=Europe/Berlin:20230924T090000
DTEND;TZID=Europe/Berlin:20230924T110000
LOCATION:Sportovní hala Hrdějovice\,  Hrdějovice597
SUMMARY:CP-U16Z-Z1A: Škola volejbalu-VK Karlovy Vary B
END:VEVENT
BEGIN:VEVENT
UID:39656665-3734-4930-b139-313563303465
DTSTAMP:20260422T052755Z
DESCRIPTION:2/4 TJ Orion Praha - Škola volejbalu 2:0 (15\,21)\nkurt č.3
DTSTART;TZID=Europe/Berlin:20230923T101500
DTEND;TZID=Europe/Berlin:20230923T121500
LOCATION:ZŠ Dolní Břežany\, Na Vršku 290 Dolní Břežany
SUMMARY:CP-U16Z-Z1A: TJ Orion Praha-Škola volejbalu
END:VEVENT
BEGIN:VEVENT
UID:61393732-3361-4335-b861-383764316633
DTSTAMP:20260422T052755Z
DESCRIPTION:4/8 SK Španielka Řepy - Škola volejbalu 2:1 (-20\,10\,13)\nkurt
  č.3
DTSTART;TZID=Europe/Berlin:20230923T124500
DTEND;TZID=Europe/Berlin:20230923T144500
LOCATION:Tělocvična ZŠ\, Španielova 1111 Praha - Řepy
SUMMARY:CP-U16Z-Z1A: SK Španielka Řepy-Škola volejbalu
END:VEVENT
BEGIN:VEVENT
UID:33376464-3836-4633-a434-613530393565
DTSTAMP:20260422T052755Z
DESCRIPTION:7/14 TJ Slavia Liberec - Škola volejbalu 0:2 (-9\,-12)\nkurt č.
 2
DTSTART;TZID=Europe/Berlin:20230924T101500
DTEND;TZID=Europe/Berlin:20230924T121500
LOCATION:Základní škola\, Liberec\, Švermova 403/40\, Švermova 403 Liberec 
 - Liberec X-Františkov
SUMMARY:CP-U16Z-Z1A: TJ Slavia Liberec-Škola volejbalu
END:VEVENT
BEGIN:VEVENT
UID:35373565-6336-4335-b932-323137633664
DTSTAMP:20260422T052755Z
DESCRIPTION:1/1 Škola volejbalu - Žatec 0:2 (-17\,-18)\nPlzeňská 2787\, Žat
 ec
DTSTART;TZID=Europe/Berlin:20231014T090000
DTEND;TZID=Europe/Berlin:20231014T110000
LOCATION:Sportovní hala Hrdějovice\,  Hrdějovice597
SUMMARY:CP-U16Z-Z2E: Škola volejbalu-Žatec
END:VEVENT
BEGIN:VEVENT
UID:39613365-3434-4161-b936-366236396634
DTSTAMP:20260422T052755Z
DESCRIPTION:3/5 Škola volejbalu - VK Tuchlovice 2:0 (8\,13)\nPlzeňská 2787\
 , Žatec
DTSTART;TZID=Europe/Berlin:20231014T114000
DTEND;TZID=Europe/Berlin:20231014T134000
LOCATION:Sportovní hala Hrdějovice\,  Hrdějovice597
SUMMARY:CP-U16Z-Z2E: Škola volejbalu-VK Tuchlovice
END:VEVENT
BEGIN:VEVENT
UID:63356431-3665-4238-b434-346237386232
DTSTAMP:20260422T052755Z
DESCRIPTION:5/10 Škola volejbalu - VK Madeta 1:2 (-12\,20\,-11)\nSv.Čecha 1
 180\, Žatec
DTSTART;TZID=Europe/Berlin:20231014T142000
DTEND;TZID=Europe/Berlin:20231014T162000
LOCATION:Sportovní hala Hrdějovice\,  Hrdějovice597
SUMMARY:CP-U16Z-Z2E: Škola volejbalu-VK Madeta
END:VEVENT
BEGIN:VEVENT
UID:62313432-3838-4665-a233-323535626563
DTSTAMP:20260422T052755Z
DESCRIPTION:7/14 Škola volejbalu - Loko Plzeň   B 2:0 (13\,21)\nSv.Čecha 11
 80\, Žatec
DTSTART;TZID=Europe/Berlin:20231014T170000
DTEND;TZID=Europe/Berlin:20231014T190000
LOCATION:Sportovní hala Hrdějovice\,  Hrdějovice597
SUMMARY:CP-U16Z-Z2E: Škola volejbalu-Loko Plzeň   B
END:VEVENT
BEGIN:VEVENT
UID:62386366-3266-4231-b839-363963363262
DTSTAMP:20260422T052755Z
DESCRIPTION:8/15 Škola volejbalu - SC SPIRIT Říčany 0:2 (-22\,-23)\nPlzeňsk
 á 2787\, Žatec
DTSTART;TZID=Europe/Berlin:20231015T090000
DTEND;TZID=Europe/Berlin:20231015T110000
LOCATION:Sportovní hala Hrdějovice\,  Hrdějovice597
SUMMARY:CP-U16Z-Z2E: Škola volejbalu-SC SPIRIT Říčany
END:VEVENT
BEGIN:VEVENT
UID:62623263-3738-4861-b862-343234333330
DTSTAMP:20260422T052755Z
DESCRIPTION:9/17 Škola volejbalu - SK Ještědská Liberec 1:2 (22\,-21\,-14)
 \nPlzeňská 2787\, Žatec
DTSTART;TZID=Europe/Berlin:20231015T103000
DTEND;TZID=Europe/Berlin:20231015T123000
LOCATION:Sportovní hala Hrdějovice\,  Hrdějovice597
SUMMARY:CP-U16Z-Z2E: Škola volejbalu-SK Ještědská Liberec
END:VEVENT
BEGIN:VEVENT
UID:64393138-3730-4361-b162-633830356331
DTSTAMP:20260422T052755Z
DESCRIPTION:2/4 Škola volejbalu - TJ EMĚ Mělník 0:2 (-19\,-23)
DTSTART;TZID=Europe/Berlin:20231118T102000
DTEND;TZID=Europe/Berlin:20231118T122000
LOCATION:Sportovní hala Hrdějovice\,  Hrdějovice597
SUMMARY:CP-U16Z-Z3E: Škola volejbalu-TJ EMĚ Mělník
END:VEVENT
BEGIN:VEVENT
UID:61373261-6331-4862-b734-303363396363
DTSTAMP:20260422T052755Z
DESCRIPTION:6/12 Škola volejbalu - VK Madeta 0:2 (-16\,-14)
DTSTART;TZID=Europe/Berlin:20231118T154000
DTEND;TZID=Europe/Berlin:20231118T174000
LOCATION:Sportovní hala Hrdějovice\,  Hrdějovice597
SUMMARY:CP-U16Z-Z3E: Škola volejbalu-VK Madeta
END:VEVENT
BEGIN:VEVENT
UID:64373266-3862-4065-b031-663662616466
DTSTAMP:20260422T052755Z
DESCRIPTION:9/18 Škola volejbalu - VSK Baník Sokolov 2:0 (11\,23)
DTSTART;TZID=Europe/Berlin:20231119T102000
DTEND;TZID=Europe/Berlin:20231119T122000
LOCATION:Sportovní hala Hrdějovice\,  Hrdějovice597
SUMMARY:CP-U16Z-Z3E: Škola volejbalu-VSK Baník Sokolov
END:VEVENT
BEGIN:VEVENT
UID:35626665-6338-4266-b165-373966633032
DTSTAMP:20260422T052755Z
DESCRIPTION:1/2 Mikulova C - Škola volejbalu 0:2 (-19\,-24)
DTSTART;TZID=Europe/Berlin:20231118T090000
DTEND;TZID=Europe/Berlin:20231118T110000
LOCATION:tělocvičny ZŠ Mikulova\, Mikulova 1594 Praha - Chodov
SUMMARY:CP-U16Z-Z3E: Mikulova C-Škola volejbalu
END:VEVENT
BEGIN:VEVENT
UID:33323837-3161-4632-a566-653439633139
DTSTAMP:20260422T052755Z
DESCRIPTION:7/14 VK Karlovy Vary B - Škola volejbalu 2:1 (13\,-23\,12)
DTSTART;TZID=Europe/Berlin:20231118T170000
DTEND;TZID=Europe/Berlin:20231118T190000
LOCATION:Mattoni Arena Hala míčových sportů\, Západní 1812 Karlovy Vary
SUMMARY:CP-U16Z-Z3E: VK Karlovy Vary B-Škola volejbalu
END:VEVENT
BEGIN:VEVENT
UID:34336430-3262-4239-a563-336136386638
DTSTAMP:20260422T052755Z
DESCRIPTION:11/21 SC SPIRIT Říčany - Škola volejbalu 2:1 (16\,-13\,12)
DTSTART;TZID=Europe/Berlin:20231119T130000
DTEND;TZID=Europe/Berlin:20231119T150000
LOCATION:Sportovní hala Světice\, U Hřiště 151 Světice
SUMMARY:CP-U16Z-Z3E: SC SPIRIT Říčany-Škola volejbalu
END:VEVENT
BEGIN:VEVENT
UID:37623166-6534-4763-a336-373732633665
DTSTAMP:20260422T052755Z
DESCRIPTION:2/4 Škola volejbalu - TJ Žďár nad Sázavou 2:0 (17\,15)\nJarosla
 v Paulík
DTSTART;TZID=Europe/Berlin:20240127T102000
DTEND;TZID=Europe/Berlin:20240127T122000
LOCATION:Sportovní hala Hrdějovice\,  Hrdějovice597
SUMMARY:CP-U16Z-F1I: Škola volejbalu-TJ Žďár nad Sázavou
END:VEVENT
BEGIN:VEVENT
UID:38363463-3930-4533-b830-323138666131
DTSTAMP:20260422T052755Z
DESCRIPTION:4/7 Škola volejbalu - VSK Baník Sokolov 1:2 (22\,-20\,-16)\nFra
 ntišek Lešek
DTSTART;TZID=Europe/Berlin:20240127T130000
DTEND;TZID=Europe/Berlin:20240127T150000
LOCATION:Sportovní hala Hrdějovice\,  Hrdějovice597
SUMMARY:CP-U16Z-F1I: Škola volejbalu-VSK Baník Sokolov
END:VEVENT
BEGIN:VEVENT
UID:39653363-6138-4639-b132-363065313931
DTSTAMP:20260422T052755Z
DESCRIPTION:7/14 Škola volejbalu - Mikulova C 1:2 (-19\,11\,-9)\nFrantišek 
 Lešek
DTSTART;TZID=Europe/Berlin:20240127T170000
DTEND;TZID=Europe/Berlin:20240127T190000
LOCATION:Sportovní hala Hrdějovice\,  Hrdějovice597
SUMMARY:CP-U16Z-F1I: Škola volejbalu-Mikulova C
END:VEVENT
BEGIN:VEVENT
UID:63333131-3530-4438-b035-356365313762
DTSTAMP:20260422T052755Z
DESCRIPTION:8/15 Škola volejbalu - Volejbal Přerov 0:2 (-12\,-16)\nŠtěpánka
  Benešová
DTSTART;TZID=Europe/Berlin:20240128T090000
DTEND;TZID=Europe/Berlin:20240128T110000
LOCATION:Sportovní hala Hrdějovice\,  Hrdějovice597
SUMMARY:CP-U16Z-F1I: Škola volejbalu-Volejbal Přerov
END:VEVENT
BEGIN:VEVENT
UID:33333039-3236-4364-b265-666330626630
DTSTAMP:20260422T052755Z
DESCRIPTION:10/19 Škola volejbalu - Volejbal Vyškov C 2:0 (7\,14)\nŠtěpánka
  Benešová
DTSTART;TZID=Europe/Berlin:20240128T114000
DTEND;TZID=Europe/Berlin:20240128T134000
LOCATION:Sportovní hala Hrdějovice\,  Hrdějovice597
SUMMARY:CP-U16Z-F1I: Škola volejbalu-Volejbal Vyškov C
END:VEVENT
BEGIN:VEVENT
UID:37656664-6339-4633-a436-653231303961
DTSTAMP:20260422T052755Z
DESCRIPTION:5/9 Loko Plzeň   B - Škola volejbalu 0:2 (-21\,-24)\nFrantišek 
 Lešek
DTSTART;TZID=Europe/Berlin:20240127T142000
DTEND;TZID=Europe/Berlin:20240127T162000
LOCATION:Městská sportovní hala  -  hala 2\, Úslavská 2357 Plzeň - Východní
  Předměstí
SUMMARY:CP-U16Z-F1I: Loko Plzeň   B-Škola volejbalu
END:VEVENT
BEGIN:VEVENT
UID:36626637-3663-4862-b161-326266303331
DTSTAMP:20260422T052755Z
DESCRIPTION:3/5 Škola volejbalu - TJ Žďár nad Sázavou 2:0 (22\,23)
DTSTART;TZID=Europe/Berlin:20240217T114500
DTEND;TZID=Europe/Berlin:20240217T134500
LOCATION:Sportovní hala Hrdějovice\,  Hrdějovice597
SUMMARY:CP-U16Z-F2I: Škola volejbalu-TJ Žďár nad Sázavou
END:VEVENT
BEGIN:VEVENT
UID:64656533-6232-4139-a433-396364363931
DTSTAMP:20260422T052755Z
DESCRIPTION:5/9 Škola volejbalu - TJ Sokol Újezd u Brna 2:0 (21\,17)
DTSTART;TZID=Europe/Berlin:20240217T141500
DTEND;TZID=Europe/Berlin:20240217T161500
LOCATION:Sportovní hala Hrdějovice\,  Hrdějovice597
SUMMARY:CP-U16Z-F2I: Škola volejbalu-TJ Sokol Újezd u Brna
END:VEVENT
BEGIN:VEVENT
UID:35353866-3865-4361-b364-316263613866
DTSTAMP:20260422T052755Z
DESCRIPTION:10/18 Škola volejbalu - Mikulova C 2:0 (20\,18)
DTSTART;TZID=Europe/Berlin:20240218T113000
DTEND;TZID=Europe/Berlin:20240218T133000
LOCATION:Sportovní hala Hrdějovice\,  Hrdějovice597
SUMMARY:CP-U16Z-F2I: Škola volejbalu-Mikulova C
END:VEVENT
BEGIN:VEVENT
UID:37353436-3164-4232-a536-623466363231
DTSTAMP:20260422T052755Z
DESCRIPTION:7/13 TJ Sokol Šternberk - Škola volejbalu 1:2 (20\,-27\,-12)
DTSTART;TZID=Europe/Berlin:20240217T164500
DTEND;TZID=Europe/Berlin:20240217T184500
LOCATION:Hala ZŠ Dr. Hrubého\, Dr. Hrubého 319 Šternberk
SUMMARY:CP-U16Z-F2I: TJ Sokol Šternberk-Škola volejbalu
END:VEVENT
BEGIN:VEVENT
UID:61653261-6339-4266-a235-633434643362
DTSTAMP:20260422T052755Z
DESCRIPTION:8/14 VO TJ Lanškroun B - Škola volejbalu 0:2 (-12\,-16)
DTSTART;TZID=Europe/Berlin:20240218T090000
DTEND;TZID=Europe/Berlin:20240218T110000
LOCATION:SOŠ a SOU Lanškroun\, Sokolská 288 Lanškroun - Ostrovské Předměstí
SUMMARY:CP-U16Z-F2I: VO TJ Lanškroun B-Škola volejbalu
END:VEVENT
BEGIN:VEVENT
UID:64366465-6331-4266-b362-393463636362
DTSTAMP:20260422T052755Z
DESCRIPTION:11/21 SC SPIRIT Říčany - Škola volejbalu 0:2 (-22\,-10)
DTSTART;TZID=Europe/Berlin:20240218T124500
DTEND;TZID=Europe/Berlin:20240218T144500
LOCATION:Sportovní hala Světice\, U Hřiště 151 Světice
SUMMARY:CP-U16Z-F2I: SC SPIRIT Říčany-Škola volejbalu
END:VEVENT
BEGIN:VEVENT
UID:66356134-3639-4964-b564-323963636461
DTSTAMP:20260422T052755Z
DESCRIPTION:2/5 Škola volejbalu - TJ Sokol Předklášteří 2:0 (23\,24)
DTSTART;TZID=Europe/Berlin:20240316T113000
DTEND;TZID=Europe/Berlin:20240316T133000
LOCATION:Sportovní hala Hrdějovice\,  Hrdějovice597
SUMMARY:CP-U16Z-F3H: Škola volejbalu-TJ Sokol Předklášteří
END:VEVENT
BEGIN:VEVENT
UID:66343938-3638-4833-a262-383363393066
DTSTAMP:20260422T052755Z
DESCRIPTION:5/18 Škola volejbalu - SK Slavia Praha - volejbal 2:0 (12\,21)
DTSTART;TZID=Europe/Berlin:20240317T090000
DTEND;TZID=Europe/Berlin:20240317T110000
LOCATION:Sportovní hala Hrdějovice\,  Hrdějovice597
SUMMARY:CP-U16Z-F3H: Škola volejbalu-SK Slavia Praha - volejbal
END:VEVENT
BEGIN:VEVENT
UID:63383534-6564-4836-b539-336434643132
DTSTAMP:20260422T052755Z
DESCRIPTION:7/27 Škola volejbalu - Sokol Pouchov 0:2 (-18\,-15)
DTSTART;TZID=Europe/Berlin:20240317T141500
DTEND;TZID=Europe/Berlin:20240317T161500
LOCATION:Sportovní hala Hrdějovice\,  Hrdějovice597
SUMMARY:CP-U16Z-F3H: Škola volejbalu-Sokol Pouchov
END:VEVENT
BEGIN:VEVENT
UID:65646134-3737-4530-b461-613163323036
DTSTAMP:20260422T052755Z
DESCRIPTION:2/7 VSK Baník Sokolov - Škola volejbalu 2:0 (16\,22)
DTSTART;TZID=Europe/Berlin:20240316T124500
DTEND;TZID=Europe/Berlin:20240316T144500
LOCATION:Jiskra\, Maxima Gorkého 280 Sokolov
SUMMARY:CP-U16Z-F3H: VSK Baník Sokolov-Škola volejbalu
END:VEVENT
BEGIN:VEVENT
UID:35623563-6434-4339-a466-396433646337
DTSTAMP:20260422T052755Z
DESCRIPTION:3/11 SK Ruchadlo Zájezd - Škola volejbalu 2:0 (23\,12)
DTSTART;TZID=Europe/Berlin:20240316T151500
DTEND;TZID=Europe/Berlin:20240316T171500
LOCATION:Sportovní hala\, Sportovní 38 Česká Skalice
SUMMARY:CP-U16Z-F3H: SK Ruchadlo Zájezd-Škola volejbalu
END:VEVENT
BEGIN:VEVENT
UID:36663839-6134-4839-a463-333233373232
DTSTAMP:20260422T052755Z
DESCRIPTION:4/16 TJ Jiskra Havlíčkův Brod - Škola volejbalu 2:0 (14\,22)
DTSTART;TZID=Europe/Berlin:20240316T174500
DTEND;TZID=Europe/Berlin:20240316T194500
LOCATION:Sportovní hala TJ Jiskra\, Ledečská 3028 Havlíčkův Brod
SUMMARY:CP-U16Z-F3H: TJ Jiskra Havlíčkův Brod-Škola volejbalu
END:VEVENT
BEGIN:VEVENT
UID:33336536-6363-4332-b636-396161633231
DTSTAMP:20260422T052755Z
DESCRIPTION:6/21 TJ Sokol Šternberk - Škola volejbalu 2:1 (-21\,22\,11)
DTSTART;TZID=Europe/Berlin:20240317T113000
DTEND;TZID=Europe/Berlin:20240317T133000
LOCATION:Hala ZŠ Dr. Hrubého\, Dr. Hrubého 319 Šternberk
SUMMARY:CP-U16Z-F3H: TJ Sokol Šternberk-Škola volejbalu
END:VEVENT
END:VCALENDAR
