BEGIN:VCALENDAR
VERSION:2.0
PRODID:-//VKM RÉMA Rychnov n K.83026//NONSGML kigkonsult.se iCalcreator 2.41.80//
CALSCALE:GREGORIAN
UID:33343031-3431-4736-b938-656465663035
BEGIN:VEVENT
UID:31346534-6565-4262-b532-663665666162
DTSTAMP:20260422T053810Z
DESCRIPTION:3/4 RÉMA Rychnov - Volejbal Rudolfov 0:2 (-13\,-20)\nkurt č.4
DTSTART;TZID=Europe/Berlin:20230923T120000
DTEND;TZID=Europe/Berlin:20230923T140000
LOCATION:VOŠ a SŠ zem.\, Komenského 873 Kostelec nad Orlicí
SUMMARY:CP-U16Z-V1B: RÉMA Rychnov-Volejbal Rudolfov
END:VEVENT
BEGIN:VEVENT
UID:66663833-3061-4862-b261-343137616339
DTSTAMP:20260422T053810Z
DESCRIPTION:5/6 RÉMA Rychnov - SK Ruchadlo Zájezd 2:1 (11\,-24\,10)\nkurt č
 .2
DTSTART;TZID=Europe/Berlin:20230923T143000
DTEND;TZID=Europe/Berlin:20230923T163000
LOCATION:VOŠ a SŠ zem.\, Komenského 873 Kostelec nad Orlicí
SUMMARY:CP-U16Z-V1B: RÉMA Rychnov-SK Ruchadlo Zájezd
END:VEVENT
BEGIN:VEVENT
UID:39316631-3565-4365-a361-306636616461
DTSTAMP:20260422T053810Z
DESCRIPTION:6/8 RÉMA Rychnov - VK Hronov 2:0 (15\,23)\nkurt č.2
DTSTART;TZID=Europe/Berlin:20230923T153000
DTEND;TZID=Europe/Berlin:20230923T173000
LOCATION:VOŠ a SŠ zem.\, Komenského 873 Kostelec nad Orlicí
SUMMARY:CP-U16Z-V1B: RÉMA Rychnov-VK Hronov
END:VEVENT
BEGIN:VEVENT
UID:61623832-3934-4234-b937-363362393063
DTSTAMP:20260422T053810Z
DESCRIPTION:7/11 RÉMA Rychnov - VO TJ Lanškroun A 0:2 (-6\,-19)\nkurt č.2
DTSTART;TZID=Europe/Berlin:20230924T090000
DTEND;TZID=Europe/Berlin:20230924T110000
LOCATION:VOŠ a SŠ zem.\, Komenského 873 Kostelec nad Orlicí
SUMMARY:CP-U16Z-V1B: RÉMA Rychnov-VO TJ Lanškroun A
END:VEVENT
BEGIN:VEVENT
UID:61353337-3861-4233-b137-666138363034
DTSTAMP:20260422T053810Z
DESCRIPTION:9/15 RÉMA Rychnov - VoCe 2:1 (23\,-23\,11)\nkurt č.2
DTSTART;TZID=Europe/Berlin:20230924T110000
DTEND;TZID=Europe/Berlin:20230924T130000
LOCATION:VOŠ a SŠ zem.\, Komenského 873 Kostelec nad Orlicí
SUMMARY:CP-U16Z-V1B: RÉMA Rychnov-VoCe
END:VEVENT
BEGIN:VEVENT
UID:62376662-3834-4562-b331-363466386330
DTSTAMP:20260422T053810Z
DESCRIPTION:4/9 RÉMA Rychnov - VSC Zlín 1:2 (20\,-13\,-4)
DTSTART;TZID=Europe/Berlin:20231014T140000
DTEND;TZID=Europe/Berlin:20231014T160000
LOCATION:VOŠ a SŠ zem.\, Komenského 873 Kostelec nad Orlicí
SUMMARY:CP-U16Z-V2C: RÉMA Rychnov-VSC Zlín
END:VEVENT
BEGIN:VEVENT
UID:37653265-3163-4636-a430-313439646562
DTSTAMP:20260422T053810Z
DESCRIPTION:6/13 RÉMA Rychnov - TJ Sokol Předklášteří 2:1 (-24\,19\,15)
DTSTART;TZID=Europe/Berlin:20231014T170000
DTEND;TZID=Europe/Berlin:20231014T190000
LOCATION:VOŠ a SŠ zem.\, Komenského 873 Kostelec nad Orlicí
SUMMARY:CP-U16Z-V2C: RÉMA Rychnov-TJ Sokol Předklášteří
END:VEVENT
BEGIN:VEVENT
UID:34343263-3532-4330-a533-613565623235
DTSTAMP:20260422T053810Z
DESCRIPTION:8/21 RÉMA Rychnov - KP Brno B 2:0 (11\,16)
DTSTART;TZID=Europe/Berlin:20231015T103000
DTEND;TZID=Europe/Berlin:20231015T123000
LOCATION:VOŠ a SŠ zem.\, Komenského 873 Kostelec nad Orlicí
SUMMARY:CP-U16Z-V2C: RÉMA Rychnov-KP Brno B
END:VEVENT
BEGIN:VEVENT
UID:36666530-3537-4535-b536-326331366666
DTSTAMP:20260422T053810Z
DESCRIPTION:2/4 TJ Slovácká Slavia U. Hradiště - RÉMA Rychnov 0:2 (-21\,-24
 )
DTSTART;TZID=Europe/Berlin:20231014T110000
DTEND;TZID=Europe/Berlin:20231014T130000
LOCATION:Městská sportovní hala\, Stonky 860 Uherské Hradiště
SUMMARY:CP-U16Z-V2C: TJ Slovácká Slavia U. Hradiště-RÉMA Rychnov
END:VEVENT
BEGIN:VEVENT
UID:63353665-3832-4730-b431-343337626139
DTSTAMP:20260422T053810Z
DESCRIPTION:5/12 TJ Jiskra Nový Bor B - RÉMA Rychnov 1:2 (-22\,23\,-10)
DTSTART;TZID=Europe/Berlin:20231014T153000
DTEND;TZID=Europe/Berlin:20231014T173000
LOCATION:Sportovní hala Františka Arnošta Nový Bor\, U hřiště 1391 Nový Bor
SUMMARY:CP-U16Z-V2C: TJ Jiskra Nový Bor B-RÉMA Rychnov
END:VEVENT
BEGIN:VEVENT
UID:30333131-3961-4835-b533-363733306165
DTSTAMP:20260422T053810Z
DESCRIPTION:7/17 TJ Jiskra Havlíčkův Brod - RÉMA Rychnov 0:2 (-9\,-18)
DTSTART;TZID=Europe/Berlin:20231015T090000
DTEND;TZID=Europe/Berlin:20231015T110000
LOCATION:Sportovní hala TJ Jiskra\, Ledečská 3028 Havlíčkův Brod
SUMMARY:CP-U16Z-V2C: TJ Jiskra Havlíčkův Brod-RÉMA Rychnov
END:VEVENT
BEGIN:VEVENT
UID:65313633-3231-4335-b639-306538393430
DTSTAMP:20260422T053810Z
DESCRIPTION:1/3 RÉMA Rychnov - TJ Sokol Pardubice I. 0:2 (-16\,-21)
DTSTART;TZID=Europe/Berlin:20231117T133000
DTEND;TZID=Europe/Berlin:20231117T153000
LOCATION:VOŠ a SŠ zem.\, Komenského 873 Kostelec nad Orlicí
SUMMARY:CP-U16Z-V3B: RÉMA Rychnov-TJ Sokol Pardubice I.
END:VEVENT
BEGIN:VEVENT
UID:39623937-3138-4238-a431-323236313137
DTSTAMP:20260422T053810Z
DESCRIPTION:7/21 RÉMA Rychnov - Happy Sport Opava 0:2 (-19\,-13)
DTSTART;TZID=Europe/Berlin:20231118T155500
DTEND;TZID=Europe/Berlin:20231118T175500
LOCATION:VOŠ a SŠ zem.\, Komenského 873 Kostelec nad Orlicí
SUMMARY:CP-U16Z-V3B: RÉMA Rychnov-Happy Sport Opava
END:VEVENT
BEGIN:VEVENT
UID:30306638-3261-4334-a534-643165636361
DTSTAMP:20260422T053810Z
DESCRIPTION:3/9 TJ Ostrava - RÉMA Rychnov 2:0 (23\,22)
DTSTART;TZID=Europe/Berlin:20231117T175900
DTEND;TZID=Europe/Berlin:20231117T195900
LOCATION:Hala mládeže\, Gajdošova 1893 Ostrava - Moravská Ostrava
SUMMARY:CP-U16Z-V3B: TJ Ostrava-RÉMA Rychnov
END:VEVENT
BEGIN:VEVENT
UID:33346534-6264-4436-b831-386266303761
DTSTAMP:20260422T053810Z
DESCRIPTION:4/12 TJ Svitavy - RÉMA Rychnov 1:2 (20\,-20\,-12)
DTSTART;TZID=Europe/Berlin:20231118T094500
DTEND;TZID=Europe/Berlin:20231118T114500
LOCATION:Sportovní hala Na Střelnici\, Pražská 2162 Svitavy - Předměstí
SUMMARY:CP-U16Z-V3B: TJ Svitavy-RÉMA Rychnov
END:VEVENT
BEGIN:VEVENT
UID:34326263-6164-4632-a633-386638336537
DTSTAMP:20260422T053810Z
DESCRIPTION:5/15 VSC Zlín - RÉMA Rychnov 1:2 (-24\,13\,-11)
DTSTART;TZID=Europe/Berlin:20231118T120100
DTEND;TZID=Europe/Berlin:20231118T140100
LOCATION:ZŠ Okružní Zlín\, Okružní 4685 Zlín
SUMMARY:CP-U16Z-V3B: VSC Zlín-RÉMA Rychnov
END:VEVENT
BEGIN:VEVENT
UID:36656463-3430-4132-b162-336661316337
DTSTAMP:20260422T053810Z
DESCRIPTION:6/18 ŠSK Bílovec - RÉMA Rychnov 2:0 (18\,17)
DTSTART;TZID=Europe/Berlin:20231118T140000
DTEND;TZID=Europe/Berlin:20231118T160000
LOCATION:Hala ZŠ Komenského\, Komenského 701 Bílovec
SUMMARY:CP-U16Z-V3B: ŠSK Bílovec-RÉMA Rychnov
END:VEVENT
BEGIN:VEVENT
UID:34633963-6331-4930-a263-623734386138
DTSTAMP:20260422T053810Z
DESCRIPTION:2/4 RÉMA Rychnov - VSC Zlín 2:0 (20\,14)
DTSTART;TZID=Europe/Berlin:20240127T100000
DTEND;TZID=Europe/Berlin:20240127T120000
LOCATION:VOŠ a SŠ zem.\, Komenského 873 Kostelec nad Orlicí
SUMMARY:CP-U16Z-F1D: RÉMA Rychnov-VSC Zlín
END:VEVENT
BEGIN:VEVENT
UID:61353938-3832-4337-a637-363134313765
DTSTAMP:20260422T053810Z
DESCRIPTION:4/8 RÉMA Rychnov - TJ Kralupy 0:2 (-22\,-22)
DTSTART;TZID=Europe/Berlin:20240127T120000
DTEND;TZID=Europe/Berlin:20240127T140000
LOCATION:VOŠ a SŠ zem.\, Komenského 873 Kostelec nad Orlicí
SUMMARY:CP-U16Z-F1D: RÉMA Rychnov-TJ Kralupy
END:VEVENT
BEGIN:VEVENT
UID:37393239-6530-4361-b630-636638353334
DTSTAMP:20260422T053810Z
DESCRIPTION:10/20 RÉMA Rychnov - TJ Jiskra Nový Bor B 2:1 (16\,-13\,12)
DTSTART;TZID=Europe/Berlin:20240128T100000
DTEND;TZID=Europe/Berlin:20240128T120000
LOCATION:VOŠ a SŠ zem.\, Komenského 873 Kostelec nad Orlicí
SUMMARY:CP-U16Z-F1D: RÉMA Rychnov-TJ Jiskra Nový Bor B
END:VEVENT
BEGIN:VEVENT
UID:39316135-3539-4130-b234-313039383134
DTSTAMP:20260422T053810Z
DESCRIPTION:14/27 RÉMA Rychnov - Loko Plzeň   .A 0:2 (-16\,-18)
DTSTART;TZID=Europe/Berlin:20240128T140000
DTEND;TZID=Europe/Berlin:20240128T160000
LOCATION:VOŠ a SŠ zem.\, Komenského 873 Kostelec nad Orlicí
SUMMARY:CP-U16Z-F1D: RÉMA Rychnov-Loko Plzeň   .A
END:VEVENT
BEGIN:VEVENT
UID:38366138-3035-4661-b630-336136303239
DTSTAMP:20260422T053810Z
DESCRIPTION:6/12 TJ Baník Příbram - RÉMA Rychnov 2:0 (14\,16)
DTSTART;TZID=Europe/Berlin:20240127T140000
DTEND;TZID=Europe/Berlin:20240127T160000
LOCATION:Tělocvična ZŠ Balbínova\, Balbínova 328 Příbram - Příbram II
SUMMARY:CP-U16Z-F1D: TJ Baník Příbram-RÉMA Rychnov
END:VEVENT
BEGIN:VEVENT
UID:32653235-3038-4737-a332-666139373334
DTSTAMP:20260422T053810Z
DESCRIPTION:8/15 TJ Jiskra Jaroměř - RÉMA Rychnov 2:0 (17\,23)
DTSTART;TZID=Europe/Berlin:20240127T160000
DTEND;TZID=Europe/Berlin:20240127T180000
LOCATION:Hala SŠŘ\, Na Karlově 798 Jaroměř - Pražské Předměstí
SUMMARY:CP-U16Z-F1D: TJ Jiskra Jaroměř-RÉMA Rychnov
END:VEVENT
BEGIN:VEVENT
UID:38656434-3465-4262-b733-636230353632
DTSTAMP:20260422T053810Z
DESCRIPTION:12/24 Kladno volejbal - RÉMA Rychnov 2:0 (15\,24)
DTSTART;TZID=Europe/Berlin:20240128T120000
DTEND;TZID=Europe/Berlin:20240128T140000
LOCATION:Kladenská sportovní hala\, Sportovců 817 Kladno - Rozdělov
SUMMARY:CP-U16Z-F1D: Kladno volejbal-RÉMA Rychnov
END:VEVENT
BEGIN:VEVENT
UID:33306661-3439-4365-a139-663965616233
DTSTAMP:20260422T053810Z
DESCRIPTION:2/4 RÉMA Rychnov - KP Brno B 2:0 (25\,18)
DTSTART;TZID=Europe/Berlin:20240217T110000
DTEND;TZID=Europe/Berlin:20240217T130000
LOCATION:VOŠ a SŠ zem.\, Komenského 873 Kostelec nad Orlicí
SUMMARY:CP-U16Z-F2E: RÉMA Rychnov-KP Brno B
END:VEVENT
BEGIN:VEVENT
UID:61333438-3165-4861-b363-643335383634
DTSTAMP:20260422T053810Z
DESCRIPTION:4/10 RÉMA Rychnov - SVK Nový Jičín 0:2 (-13\,-13)
DTSTART;TZID=Europe/Berlin:20240217T140000
DTEND;TZID=Europe/Berlin:20240217T160000
LOCATION:VOŠ a SŠ zem.\, Komenského 873 Kostelec nad Orlicí
SUMMARY:CP-U16Z-F2E: RÉMA Rychnov-SVK Nový Jičín
END:VEVENT
BEGIN:VEVENT
UID:63353664-6462-4361-b063-386635356133
DTSTAMP:20260422T053810Z
DESCRIPTION:9/23 RÉMA Rychnov - VSC Zlín 1:2 (-16\,22\,-11)
DTSTART;TZID=Europe/Berlin:20240218T120000
DTEND;TZID=Europe/Berlin:20240218T140000
LOCATION:VOŠ a SŠ zem.\, Komenského 873 Kostelec nad Orlicí
SUMMARY:CP-U16Z-F2E: RÉMA Rychnov-VSC Zlín
END:VEVENT
BEGIN:VEVENT
UID:62636635-3138-4436-a536-656334666564
DTSTAMP:20260422T053810Z
DESCRIPTION:3/7 VK Slavia Plzeň - RÉMA Rychnov 0:2 (-14\,-18)
DTSTART;TZID=Europe/Berlin:20240217T123000
DTEND;TZID=Europe/Berlin:20240217T143000
LOCATION:Tělocvična 15.ZŠ\, Terezie Brzkové 863 Plzeň - Skvrňany
SUMMARY:CP-U16Z-F2E: VK Slavia Plzeň-RÉMA Rychnov
END:VEVENT
BEGIN:VEVENT
UID:35653734-3062-4439-a161-633035616461
DTSTAMP:20260422T053810Z
DESCRIPTION:6/16 Volejbal Ústí n. L. - RÉMA Rychnov 2:1 (21\,-23\,12)
DTSTART;TZID=Europe/Berlin:20240217T170000
DTEND;TZID=Europe/Berlin:20240217T190000
LOCATION:Tělocvična Gymnázia a Střední odborné školy dr. Václava Šmejkala\,
  Stará 3299 Ústí nad Labem - Severní Terasa
SUMMARY:CP-U16Z-F2E: Volejbal Ústí n. L.-RÉMA Rychnov
END:VEVENT
BEGIN:VEVENT
UID:64336561-3038-4231-b962-373438356139
DTSTAMP:20260422T053810Z
DESCRIPTION:7/18 Orel Letohrad - RÉMA Rychnov 2:0 (16\,19)
DTSTART;TZID=Europe/Berlin:20240218T090000
DTEND;TZID=Europe/Berlin:20240218T110000
LOCATION:TJ Spartak Letohrad\, Jilemnického 341 Letohrad
SUMMARY:CP-U16Z-F2E: Orel Letohrad-RÉMA Rychnov
END:VEVENT
BEGIN:VEVENT
UID:37636236-3732-4631-b564-306661303665
DTSTAMP:20260422T053810Z
DESCRIPTION:10/28 VK Raškovice - RÉMA Rychnov 0:2 (-14\,-26)
DTSTART;TZID=Europe/Berlin:20240218T133000
DTEND;TZID=Europe/Berlin:20240218T153000
LOCATION:Víceúčelová sportovní hala\,  Raškovice18
SUMMARY:CP-U16Z-F2E: VK Raškovice-RÉMA Rychnov
END:VEVENT
BEGIN:VEVENT
UID:38633064-3664-4532-a637-336466316265
DTSTAMP:20260422T053810Z
DESCRIPTION:3/4 RÉMA Rychnov - Volejbal Tábor 2:1 (19\,-20\,8)\nSPŠ Rychnov
DTSTART;TZID=Europe/Berlin:20240316T123000
DTEND;TZID=Europe/Berlin:20240316T143000
LOCATION:VOŠ a SŠ zem.\, Komenského 873 Kostelec nad Orlicí
SUMMARY:CP-U16Z-F3E: RÉMA Rychnov-Volejbal Tábor
END:VEVENT
BEGIN:VEVENT
UID:62323333-6235-4961-b830-376139633334
DTSTAMP:20260422T053810Z
DESCRIPTION:6/10 RÉMA Rychnov - VK Slavia Plzeň 1:2 (12\,-14\,-12)\nKostele
 c/O\, hř.3
DTSTART;TZID=Europe/Berlin:20240316T163000
DTEND;TZID=Europe/Berlin:20240316T183000
LOCATION:VOŠ a SŠ zem.\, Komenského 873 Kostelec nad Orlicí
SUMMARY:CP-U16Z-F3E: RÉMA Rychnov-VK Slavia Plzeň
END:VEVENT
BEGIN:VEVENT
UID:32383033-3639-4365-b662-666561383732
DTSTAMP:20260422T053810Z
DESCRIPTION:11/25 RÉMA Rychnov - TJ Junior Brno 0:2 (-23\,-13)
DTSTART;TZID=Europe/Berlin:20240317T120000
DTEND;TZID=Europe/Berlin:20240317T140000
LOCATION:VOŠ a SŠ zem.\, Komenského 873 Kostelec nad Orlicí
SUMMARY:CP-U16Z-F3E: RÉMA Rychnov-TJ Junior Brno
END:VEVENT
BEGIN:VEVENT
UID:38663763-3235-4133-b936-613532313164
DTSTAMP:20260422T053810Z
DESCRIPTION:1/1 Orel Letohrad - RÉMA Rychnov 2:0 (22\,22)\nSPŠ Rychnov
DTSTART;TZID=Europe/Berlin:20240316T093000
DTEND;TZID=Europe/Berlin:20240316T113000
LOCATION:TJ Spartak Letohrad\, Jilemnického 341 Letohrad
SUMMARY:CP-U16Z-F3E: Orel Letohrad-RÉMA Rychnov
END:VEVENT
BEGIN:VEVENT
UID:37386665-6237-4336-b766-353939633933
DTSTAMP:20260422T053810Z
DESCRIPTION:7/13 Happy Sport Opava - RÉMA Rychnov 2:1 (23\,-20\,10)
DTSTART;TZID=Europe/Berlin:20240316T173000
DTEND;TZID=Europe/Berlin:20240316T193000
LOCATION:Sportovní hala Slezského gymnázia v Opavě\, Zámecký okruh 461 Opav
 a - Město
SUMMARY:CP-U16Z-F3E: Happy Sport Opava-RÉMA Rychnov
END:VEVENT
BEGIN:VEVENT
UID:38316661-6232-4933-a665-396565663430
DTSTAMP:20260422T053810Z
DESCRIPTION:10/22 SVK Nový Jičín - RÉMA Rychnov 2:0 (16\,24)
DTSTART;TZID=Europe/Berlin:20240317T103000
DTEND;TZID=Europe/Berlin:20240317T123000
LOCATION:Hala ABC\, Purkyňova 116 Nový Jičín
SUMMARY:CP-U16Z-F3E: SVK Nový Jičín-RÉMA Rychnov
END:VEVENT
BEGIN:VEVENT
UID:39643936-6537-4733-b765-343535363534
DTSTAMP:20260422T053810Z
DESCRIPTION:12/28 TJ ABC Braník - RÉMA Rychnov 0:2 (-14\,-20)
DTSTART;TZID=Europe/Berlin:20240317T130000
DTEND;TZID=Europe/Berlin:20240317T150000
LOCATION:Sokolovna Braník\, Branická 275 Praha - Braník
SUMMARY:CP-U16Z-F3E: TJ ABC Braník-RÉMA Rychnov
END:VEVENT
END:VCALENDAR
