BEGIN:VCALENDAR
VERSION:2.0
PRODID:-//Blue Volley Ostrava "A"83029//NONSGML kigkonsult.se iCalcreator 2.41.80//
CALSCALE:GREGORIAN
UID:61313261-3938-4632-b735-336635383861
BEGIN:VEVENT
UID:30323563-3365-4338-b265-353162326661
DTSTAMP:20260422T111947Z
DESCRIPTION:2/4 Blue Ostrava 'A' - VAM Havířov 2:0 (8\,22)
DTSTART;TZID=Europe/Berlin:20231001T103000
DTEND;TZID=Europe/Berlin:20231001T123000
LOCATION:Sportovní hala Brušperk\, Sportovní 584 Brušperk
SUMMARY:MS-U16M-KVB: Blue Ostrava 'A'-VAM Havířov
END:VEVENT
BEGIN:VEVENT
UID:30663165-6539-4666-a138-396664303439
DTSTAMP:20260422T111947Z
DESCRIPTION:4/7 Blue Ostrava 'A' - Opava 0:2 (-16\,-16)
DTSTART;TZID=Europe/Berlin:20231001T133000
DTEND;TZID=Europe/Berlin:20231001T153000
LOCATION:Sportovní hala Brušperk\, Sportovní 584 Brušperk
SUMMARY:MS-U16M-KVB: Blue Ostrava 'A'-Opava
END:VEVENT
BEGIN:VEVENT
UID:64373265-3331-4463-b734-613861346266
DTSTAMP:20260422T111947Z
DESCRIPTION:1/1 TJ Sokol Palkovice - Blue Ostrava 'A' 0:2 (-22\,-23)
DTSTART;TZID=Europe/Berlin:20231001T090000
DTEND;TZID=Europe/Berlin:20231001T110000
LOCATION:Sportovní hala Brušperk\, Sportovní 584 Brušperk
SUMMARY:MS-U16M-KVB: TJ Sokol Palkovice-Blue Ostrava 'A'
END:VEVENT
BEGIN:VEVENT
UID:30666439-3332-4534-b731-343966663838
DTSTAMP:20260422T111947Z
DESCRIPTION:3/6 VS Ostrava - Blue Ostrava 'A' 2:1 (13\,-22\,4)
DTSTART;TZID=Europe/Berlin:20231001T120000
DTEND;TZID=Europe/Berlin:20231001T140000
LOCATION:Sportovní hala Brušperk\, Sportovní 584 Brušperk
SUMMARY:MS-U16M-KVB: VS Ostrava-Blue Ostrava 'A'
END:VEVENT
BEGIN:VEVENT
UID:65613033-3865-4561-b238-356162323861
DTSTAMP:20260422T111947Z
DESCRIPTION:2/3 Blue Ostrava 'A' - TJ Sokol Palkovice 1:2 (-19\,15\,-12)
DTSTART;TZID=Europe/Berlin:20231022T103000
DTEND;TZID=Europe/Berlin:20231022T123000
LOCATION:Sportovní hala Palkovice\,  Palkovice20
SUMMARY:MS-U16M-T1B: Blue Ostrava 'A'-TJ Sokol Palkovice
END:VEVENT
BEGIN:VEVENT
UID:62653464-3864-4134-b731-633334393466
DTSTAMP:20260422T111947Z
DESCRIPTION:4/8 Blue Ostrava 'A' - Ostrava 0:2 (-10\,-14)
DTSTART;TZID=Europe/Berlin:20231022T133000
DTEND;TZID=Europe/Berlin:20231022T153000
LOCATION:Sportovní hala Palkovice\,  Palkovice20
SUMMARY:MS-U16M-T1B: Blue Ostrava 'A'-Ostrava
END:VEVENT
BEGIN:VEVENT
UID:62336262-3763-4238-a666-336661386236
DTSTAMP:20260422T111947Z
DESCRIPTION:1/2 VS Ostrava - Blue Ostrava 'A' 0:2 (-11\,-15)
DTSTART;TZID=Europe/Berlin:20231022T090000
DTEND;TZID=Europe/Berlin:20231022T110000
LOCATION:Sportovní hala Palkovice\,  Palkovice20
SUMMARY:MS-U16M-T1B: VS Ostrava-Blue Ostrava 'A'
END:VEVENT
BEGIN:VEVENT
UID:35346465-3434-4261-b538-613831336538
DTSTAMP:20260422T111947Z
DESCRIPTION:5/9 VAM Olomouc - Blue Ostrava 'A' 0:2 (-12\,-9)
DTSTART;TZID=Europe/Berlin:20231022T150000
DTEND;TZID=Europe/Berlin:20231022T170000
LOCATION:Sportovní hala Palkovice\,  Palkovice20
SUMMARY:MS-U16M-T1B: VAM Olomouc-Blue Ostrava 'A'
END:VEVENT
BEGIN:VEVENT
UID:34313162-3136-4237-b531-386239386139
DTSTAMP:20260422T111947Z
DESCRIPTION:2/3 Blue Ostrava 'A' - SVK Nový Jičín 'B' 0:2 (-13\,-17)
DTSTART;TZID=Europe/Berlin:20231112T103000
DTEND;TZID=Europe/Berlin:20231112T123000
LOCATION:Tělocvična ZŠ Záhuní\, Frenštát\, Záhuní 408 Frenštát pod Radhoště
 m
SUMMARY:MS-U16M-T2B: Blue Ostrava 'A'-SVK Nový Jičín 'B'
END:VEVENT
BEGIN:VEVENT
UID:36313237-6134-4439-a264-663939636264
DTSTAMP:20260422T111947Z
DESCRIPTION:5/10 Blue Ostrava 'A' - TJ Hlučín 2:0 (16\,13)
DTSTART;TZID=Europe/Berlin:20231112T150000
DTEND;TZID=Europe/Berlin:20231112T170000
LOCATION:Tělocvična ZŠ Záhuní\, Frenštát\, Záhuní 408 Frenštát pod Radhoště
 m
SUMMARY:MS-U16M-T2B: Blue Ostrava 'A'-TJ Hlučín
END:VEVENT
BEGIN:VEVENT
UID:64373337-3562-4036-a265-656265333836
DTSTAMP:20260422T111947Z
DESCRIPTION:1/1 TJ Frenštát pod Radhoštěm - Blue Ostrava 'A' 0:2 (-14\,-9)
DTSTART;TZID=Europe/Berlin:20231112T090000
DTEND;TZID=Europe/Berlin:20231112T110000
LOCATION:Tělocvična ZŠ Záhuní\, Frenštát\, Záhuní 408 Frenštát pod Radhoště
 m
SUMMARY:MS-U16M-T2B: TJ Frenštát pod Radhoštěm-Blue Ostrava 'A'
END:VEVENT
BEGIN:VEVENT
UID:64663065-6337-4162-b836-346234636435
DTSTAMP:20260422T111947Z
DESCRIPTION:3/6 Red Frýdlant n/O - Blue Ostrava 'A' 2:1 (22\,-22\,10)
DTSTART;TZID=Europe/Berlin:20231112T120000
DTEND;TZID=Europe/Berlin:20231112T140000
LOCATION:Tělocvična ZŠ Záhuní\, Frenštát\, Záhuní 408 Frenštát pod Radhoště
 m
SUMMARY:MS-U16M-T2B: Red Frýdlant n/O-Blue Ostrava 'A'
END:VEVENT
BEGIN:VEVENT
UID:64393030-3339-4531-b335-333865623964
DTSTAMP:20260422T111947Z
DESCRIPTION:2/3 Blue Ostrava 'A' - Opava 0:2 (-11\,-12)
DTSTART;TZID=Europe/Berlin:20231210T103000
DTEND;TZID=Europe/Berlin:20231210T123000
LOCATION:Sportovní hala Slezského gymnázia v Opavě\, Zámecký okruh 461 Opav
 a - Město
SUMMARY:MS-U16M-T3A: Blue Ostrava 'A'-Opava
END:VEVENT
BEGIN:VEVENT
UID:64323632-3935-4436-b333-616331306639
DTSTAMP:20260422T111947Z
DESCRIPTION:5/10 Blue Ostrava 'A' - Kojetín 0:2 (-6\,-18)
DTSTART;TZID=Europe/Berlin:20231210T150000
DTEND;TZID=Europe/Berlin:20231210T170000
LOCATION:Sportovní hala Slezského gymnázia v Opavě\, Zámecký okruh 461 Opav
 a - Město
SUMMARY:MS-U16M-T3A: Blue Ostrava 'A'-Kojetín
END:VEVENT
BEGIN:VEVENT
UID:31346663-3134-4336-b466-386135623437
DTSTAMP:20260422T111947Z
DESCRIPTION:1/1 Ostrava - Blue Ostrava 'A' 2:0 (4\,14)
DTSTART;TZID=Europe/Berlin:20231210T090000
DTEND;TZID=Europe/Berlin:20231210T110000
LOCATION:Sportovní hala Slezského gymnázia v Opavě\, Zámecký okruh 461 Opav
 a - Město
SUMMARY:MS-U16M-T3A: Ostrava-Blue Ostrava 'A'
END:VEVENT
BEGIN:VEVENT
UID:33646235-3131-4133-a235-343461643135
DTSTAMP:20260422T111947Z
DESCRIPTION:3/6 SVK Nový Jičín 'B' - Blue Ostrava 'A' X:2
DTSTART;TZID=Europe/Berlin:20231210T120000
DTEND;TZID=Europe/Berlin:20231210T140000
LOCATION:Sportovní hala Slezského gymnázia v Opavě\, Zámecký okruh 461 Opav
 a - Město
SUMMARY:MS-U16M-T3A: SVK Nový Jičín 'B'-Blue Ostrava 'A'
END:VEVENT
BEGIN:VEVENT
UID:66383061-3135-4338-b734-613931653230
DTSTAMP:20260422T111947Z
DESCRIPTION:1/2 Blue Ostrava 'A' - SVK Nový Jičín 'B' 0:2 (-11\,-12)
DTSTART;TZID=Europe/Berlin:20240114T090000
DTEND;TZID=Europe/Berlin:20240114T110000
LOCATION:Hala ABC\, Purkyňova 116 Nový Jičín
SUMMARY:MS-U16M-T4B: Blue Ostrava 'A'-SVK Nový Jičín 'B'
END:VEVENT
BEGIN:VEVENT
UID:34336539-3236-4431-a531-643039633862
DTSTAMP:20260422T111947Z
DESCRIPTION:3/5 Blue Ostrava 'A' - VAM Olomouc 0:2 (-22\,-20)
DTSTART;TZID=Europe/Berlin:20240114T120000
DTEND;TZID=Europe/Berlin:20240114T140000
LOCATION:Hala ABC\, Purkyňova 116 Nový Jičín
SUMMARY:MS-U16M-T4B: Blue Ostrava 'A'-VAM Olomouc
END:VEVENT
BEGIN:VEVENT
UID:31343239-6461-4633-b862-663233356233
DTSTAMP:20260422T111947Z
DESCRIPTION:2/3 Red Frýdlant n/O - Blue Ostrava 'A' 2:0 (22\,16)
DTSTART;TZID=Europe/Berlin:20240114T103000
DTEND;TZID=Europe/Berlin:20240114T123000
LOCATION:Hala ABC\, Purkyňova 116 Nový Jičín
SUMMARY:MS-U16M-T4B: Red Frýdlant n/O-Blue Ostrava 'A'
END:VEVENT
BEGIN:VEVENT
UID:35363862-3730-4437-b064-623136393762
DTSTAMP:20260422T111947Z
DESCRIPTION:4/8 TJ Frenštát pod Radhoštěm - Blue Ostrava 'A' 0:2 (-20\,-17)
DTSTART;TZID=Europe/Berlin:20240114T133000
DTEND;TZID=Europe/Berlin:20240114T153000
LOCATION:Hala ABC\, Purkyňova 116 Nový Jičín
SUMMARY:MS-U16M-T4B: TJ Frenštát pod Radhoštěm-Blue Ostrava 'A'
END:VEVENT
BEGIN:VEVENT
UID:31646536-3563-4631-b865-366432663864
DTSTAMP:20260422T111947Z
DESCRIPTION:2/4 Blue Ostrava 'A' - VS Ostrava 0:2 (-10\,-22)
DTSTART;TZID=Europe/Berlin:20240225T103000
DTEND;TZID=Europe/Berlin:20240225T123000
LOCATION:Sportovní hala Palkovice\,  Palkovice20
SUMMARY:MS-U16M-T5B: Blue Ostrava 'A'-VS Ostrava
END:VEVENT
BEGIN:VEVENT
UID:38623531-3836-4161-b331-613435343163
DTSTAMP:20260422T111947Z
DESCRIPTION:4/7 Blue Ostrava 'A' - Red Frýdlant n/O 0:2 (-16\,-20)
DTSTART;TZID=Europe/Berlin:20240225T133000
DTEND;TZID=Europe/Berlin:20240225T153000
LOCATION:Sportovní hala Palkovice\,  Palkovice20
SUMMARY:MS-U16M-T5B: Blue Ostrava 'A'-Red Frýdlant n/O
END:VEVENT
BEGIN:VEVENT
UID:61393937-3430-4634-b436-626366373131
DTSTAMP:20260422T111947Z
DESCRIPTION:3/5 TJ Sokol Palkovice - Blue Ostrava 'A' 2:0 (24\,23)
DTSTART;TZID=Europe/Berlin:20240225T120000
DTEND;TZID=Europe/Berlin:20240225T140000
LOCATION:Sportovní hala Palkovice\,  Palkovice20
SUMMARY:MS-U16M-T5B: TJ Sokol Palkovice-Blue Ostrava 'A'
END:VEVENT
BEGIN:VEVENT
UID:39636535-6139-4336-b663-306165346338
DTSTAMP:20260422T111947Z
DESCRIPTION:5/10 TJ Frenštát pod Radhoštěm - Blue Ostrava 'A' 0:2 (-18\,-16
 )
DTSTART;TZID=Europe/Berlin:20240225T150000
DTEND;TZID=Europe/Berlin:20240225T170000
LOCATION:Sportovní hala Palkovice\,  Palkovice20
SUMMARY:MS-U16M-T5B: TJ Frenštát pod Radhoštěm-Blue Ostrava 'A'
END:VEVENT
BEGIN:VEVENT
UID:63306332-3531-4436-b163-306332633666
DTSTAMP:20260422T111947Z
DESCRIPTION:3/6 Blue Ostrava 'A' - SVK Nový Jičín 'A' 2:0 (19\,14)
DTSTART;TZID=Europe/Berlin:20240324T120000
DTEND;TZID=Europe/Berlin:20240324T140000
LOCATION:Tělocvičny ZŠ Komenského 66\, Komenského 571 Nový Jičín
SUMMARY:MS-U16M-T6B: Blue Ostrava 'A'-SVK Nový Jičín 'A'
END:VEVENT
BEGIN:VEVENT
UID:65323034-3261-4531-b763-656236623836
DTSTAMP:20260422T111947Z
DESCRIPTION:5/9 Blue Ostrava 'A' - Red Frýdlant n/O 0:2 (-23\,-13)
DTSTART;TZID=Europe/Berlin:20240324T150000
DTEND;TZID=Europe/Berlin:20240324T170000
LOCATION:Tělocvičny ZŠ Komenského 66\, Komenského 571 Nový Jičín
SUMMARY:MS-U16M-T6B: Blue Ostrava 'A'-Red Frýdlant n/O
END:VEVENT
BEGIN:VEVENT
UID:36653130-3565-4632-a166-383961653238
DTSTAMP:20260422T111947Z
DESCRIPTION:1/2 TJ Sokol Palkovice - Blue Ostrava 'A' 2:1 (8\,-18\,13)
DTSTART;TZID=Europe/Berlin:20240324T090000
DTEND;TZID=Europe/Berlin:20240324T110000
LOCATION:Tělocvičny ZŠ Komenského 66\, Komenského 571 Nový Jičín
SUMMARY:MS-U16M-T6B: TJ Sokol Palkovice-Blue Ostrava 'A'
END:VEVENT
BEGIN:VEVENT
UID:64396361-3065-4237-b765-336135633763
DTSTAMP:20260422T111947Z
DESCRIPTION:4/7 SVK Nový Jičín 'B' - Blue Ostrava 'A' 2:0 (16\,22)
DTSTART;TZID=Europe/Berlin:20240324T133000
DTEND;TZID=Europe/Berlin:20240324T153000
LOCATION:Tělocvičny ZŠ Komenského 66\, Komenského 571 Nový Jičín
SUMMARY:MS-U16M-T6B: SVK Nový Jičín 'B'-Blue Ostrava 'A'
END:VEVENT
END:VCALENDAR
