BEGIN:VCALENDAR
VERSION:2.0
PRODID:-//Happy Sport Opava, z.s.83044//NONSGML kigkonsult.se iCalcreator 2.41.80//
CALSCALE:GREGORIAN
UID:39316434-3463-4038-a431-616135653865
BEGIN:VEVENT
UID:63383039-6236-4635-b736-383763333730
DTSTAMP:20260423T022414Z
DESCRIPTION:1/4 Happy Sport Opava - TJ Frenštát 3:1 (9\,17\,-24\,18)
DTSTART;TZID=Europe/Berlin:20230923T100000
DTEND;TZID=Europe/Berlin:20230923T120000
LOCATION:ZŠ Ed. Beneše\, Edvarda Beneše 961 Opava - Kateřinky
SUMMARY:MS-Z: Happy Sport Opava-TJ Frenštát
END:VEVENT
BEGIN:VEVENT
UID:30636261-3765-4464-b864-633535386364
DTSTAMP:20260423T022414Z
DESCRIPTION:2/9 Happy Sport Opava - TJ Frenštát 3:0 (11\,18\,10)
DTSTART;TZID=Europe/Berlin:20230923T140000
DTEND;TZID=Europe/Berlin:20230923T160000
LOCATION:ZŠ Ed. Beneše\, Edvarda Beneše 961 Opava - Kateřinky
SUMMARY:MS-Z: Happy Sport Opava-TJ Frenštát
END:VEVENT
BEGIN:VEVENT
UID:37313633-3639-4637-b131-613234316634
DTSTAMP:20260423T022414Z
DESCRIPTION:5/23 Happy Sport Opava - VK Karviná 3:1 (-20\,22\,18\,14)
DTSTART;TZID=Europe/Berlin:20231014T100000
DTEND;TZID=Europe/Berlin:20231014T120000
LOCATION:ZŠ Ed. Beneše\, Edvarda Beneše 961 Opava - Kateřinky
SUMMARY:MS-Z: Happy Sport Opava-VK Karviná
END:VEVENT
BEGIN:VEVENT
UID:37623339-3936-4836-b231-616431386130
DTSTAMP:20260423T022414Z
DESCRIPTION:6/28 Happy Sport Opava - VK Karviná 2:3 (14\,-22\,-15\,19\,-9)
DTSTART;TZID=Europe/Berlin:20231014T140000
DTEND;TZID=Europe/Berlin:20231014T160000
LOCATION:ZŠ Ed. Beneše\, Edvarda Beneše 961 Opava - Kateřinky
SUMMARY:MS-Z: Happy Sport Opava-VK Karviná
END:VEVENT
BEGIN:VEVENT
UID:31643334-3532-4736-b237-376439623062
DTSTAMP:20260423T022414Z
DESCRIPTION:9/42 Happy Sport Opava - TJ Hlučín 3:0 (9\,19\,21)
DTSTART;TZID=Europe/Berlin:20231104T100000
DTEND;TZID=Europe/Berlin:20231104T120000
LOCATION:ZŠ Ed. Beneše\, Edvarda Beneše 961 Opava - Kateřinky
SUMMARY:MS-Z: Happy Sport Opava-TJ Hlučín
END:VEVENT
BEGIN:VEVENT
UID:31383263-3830-4163-b733-356336633230
DTSTAMP:20260423T022414Z
DESCRIPTION:10/47 Happy Sport Opava - TJ Hlučín 3:0 (12\,14\,23)
DTSTART;TZID=Europe/Berlin:20231104T140000
DTEND;TZID=Europe/Berlin:20231104T160000
LOCATION:ZŠ Ed. Beneše\, Edvarda Beneše 961 Opava - Kateřinky
SUMMARY:MS-Z: Happy Sport Opava-TJ Hlučín
END:VEVENT
BEGIN:VEVENT
UID:30613530-3865-4661-b930-393162333938
DTSTAMP:20260423T022414Z
DESCRIPTION:15/75 Happy Sport Opava - VK Polanka n/O 'C' 3:1 (16\,19\,-18\,
 16)
DTSTART;TZID=Europe/Berlin:20231202T100000
DTEND;TZID=Europe/Berlin:20231202T120000
LOCATION:ZŠ Ed. Beneše\, Edvarda Beneše 961 Opava - Kateřinky
SUMMARY:MS-Z: Happy Sport Opava-VK Polanka n/O 'C'
END:VEVENT
BEGIN:VEVENT
UID:39393563-3065-4763-a163-396665343962
DTSTAMP:20260423T022414Z
DESCRIPTION:16/80 Happy Sport Opava - VK Polanka n/O 'C' 3:0 (12\,11\,22)
DTSTART;TZID=Europe/Berlin:20231202T140000
DTEND;TZID=Europe/Berlin:20231202T160000
LOCATION:ZŠ Ed. Beneše\, Edvarda Beneše 961 Opava - Kateřinky
SUMMARY:MS-Z: Happy Sport Opava-VK Polanka n/O 'C'
END:VEVENT
BEGIN:VEVENT
UID:64383265-6232-4938-a564-663935353937
DTSTAMP:20260423T022414Z
DESCRIPTION:21/103 Happy Sport Opava - VSK VŠB-TU Ostrava 1:3 (18\,-21\,-19
 \,-20)
DTSTART;TZID=Europe/Berlin:20240113T100000
DTEND;TZID=Europe/Berlin:20240113T120000
LOCATION:ZŠ Ed. Beneše\, Edvarda Beneše 961 Opava - Kateřinky
SUMMARY:MS-Z: Happy Sport Opava-VSK VŠB-TU Ostrava
END:VEVENT
BEGIN:VEVENT
UID:62313338-3930-4530-b564-653438323466
DTSTAMP:20260423T022414Z
DESCRIPTION:22/108 Happy Sport Opava - VSK VŠB-TU Ostrava 2:3 (21\,13\,-16\
 ,-13\,-11)
DTSTART;TZID=Europe/Berlin:20240113T140000
DTEND;TZID=Europe/Berlin:20240113T160000
LOCATION:ZŠ Ed. Beneše\, Edvarda Beneše 961 Opava - Kateřinky
SUMMARY:MS-Z: Happy Sport Opava-VSK VŠB-TU Ostrava
END:VEVENT
BEGIN:VEVENT
UID:35623735-3961-4161-b135-306133303634
DTSTAMP:20260423T022414Z
DESCRIPTION:25/124 Happy Sport Opava - TJ Slavoj Český Těšín 3:2 (14\,-23\,
 24\,-20\,14)
DTSTART;TZID=Europe/Berlin:20240127T100000
DTEND;TZID=Europe/Berlin:20240127T120000
LOCATION:ZŠ Ed. Beneše\, Edvarda Beneše 961 Opava - Kateřinky
SUMMARY:MS-Z: Happy Sport Opava-TJ Slavoj Český Těšín
END:VEVENT
BEGIN:VEVENT
UID:34613366-6166-4135-b634-653933343232
DTSTAMP:20260423T022414Z
DESCRIPTION:26/129 Happy Sport Opava - TJ Slavoj Český Těšín 3:0 (8\,17\,22
 )
DTSTART;TZID=Europe/Berlin:20240127T140000
DTEND;TZID=Europe/Berlin:20240127T160000
LOCATION:ZŠ Ed. Beneše\, Edvarda Beneše 961 Opava - Kateřinky
SUMMARY:MS-Z: Happy Sport Opava-TJ Slavoj Český Těšín
END:VEVENT
BEGIN:VEVENT
UID:36303064-6632-4139-a131-633633646464
DTSTAMP:20260423T022414Z
DESCRIPTION:29/145 Happy Sport Opava - Polanka n. O. 3:0 (21\,19\,15)
DTSTART;TZID=Europe/Berlin:20240217T100000
DTEND;TZID=Europe/Berlin:20240217T120000
LOCATION:ZŠ Ed. Beneše\, Edvarda Beneše 961 Opava - Kateřinky
SUMMARY:MS-Z: Happy Sport Opava-Polanka n. O.
END:VEVENT
BEGIN:VEVENT
UID:62303066-6135-4033-a534-633061323532
DTSTAMP:20260423T022414Z
DESCRIPTION:30/150 Happy Sport Opava - Polanka n. O. 2:3 (-22\,-17\,17\,18\
 ,-10)
DTSTART;TZID=Europe/Berlin:20240217T140000
DTEND;TZID=Europe/Berlin:20240217T160000
LOCATION:ZŠ Ed. Beneše\, Edvarda Beneše 961 Opava - Kateřinky
SUMMARY:MS-Z: Happy Sport Opava-Polanka n. O.
END:VEVENT
BEGIN:VEVENT
UID:37353639-3661-4261-a665-393132626138
DTSTAMP:20260423T022414Z
DESCRIPTION:35/172 Happy Sport Opava - TJ Ostrava 'D' 3:0 (22\,22\,23)
DTSTART;TZID=Europe/Berlin:20240309T100000
DTEND;TZID=Europe/Berlin:20240309T120000
LOCATION:ZŠ Ed. Beneše\, Edvarda Beneše 961 Opava - Kateřinky
SUMMARY:MS-Z: Happy Sport Opava-TJ Ostrava 'D'
END:VEVENT
BEGIN:VEVENT
UID:32303130-6139-4632-b332-383863633331
DTSTAMP:20260423T022414Z
DESCRIPTION:36/177 Happy Sport Opava - TJ Ostrava 'D' 3:2 (21\,17\,-22\,-19
 \,12)
DTSTART;TZID=Europe/Berlin:20240309T140000
DTEND;TZID=Europe/Berlin:20240309T160000
LOCATION:ZŠ Ed. Beneše\, Edvarda Beneše 961 Opava - Kateřinky
SUMMARY:MS-Z: Happy Sport Opava-TJ Ostrava 'D'
END:VEVENT
BEGIN:VEVENT
UID:37363438-3339-4734-b262-353431366134
DTSTAMP:20260423T022414Z
DESCRIPTION:3/13 VSK VŠB-TU Ostrava - Happy Sport Opava 2:3 (-10\,-22\,22\,
 18\,-12)
DTSTART;TZID=Europe/Berlin:20231007T090000
DTEND;TZID=Europe/Berlin:20231007T110000
LOCATION:Sportovní hala VŠB-TUO\, Studentská 6175 Ostrava - Poruba
SUMMARY:MS-Z: VSK VŠB-TU Ostrava-Happy Sport Opava
END:VEVENT
BEGIN:VEVENT
UID:38616263-6364-4430-a162-613530616263
DTSTAMP:20260423T022414Z
DESCRIPTION:4/18 VSK VŠB-TU Ostrava - Happy Sport Opava 0:3 (-13\,-25\,-22)
DTSTART;TZID=Europe/Berlin:20231007T130000
DTEND;TZID=Europe/Berlin:20231007T150000
LOCATION:Sportovní hala VŠB-TUO\, Studentská 6175 Ostrava - Poruba
SUMMARY:MS-Z: VSK VŠB-TU Ostrava-Happy Sport Opava
END:VEVENT
BEGIN:VEVENT
UID:35363138-3837-4539-a438-633535366238
DTSTAMP:20260423T022414Z
DESCRIPTION:7/34 TJ Slavoj Český Těšín - Happy Sport Opava 2:3 (-14\,24\,20
 \,-13\,-4)
DTSTART;TZID=Europe/Berlin:20231118T100000
DTEND;TZID=Europe/Berlin:20231118T120000
LOCATION:Pink ARÉNA\, Frýdecká 690 Český Těšín
SUMMARY:MS-Z: TJ Slavoj Český Těšín-Happy Sport Opava
END:VEVENT
BEGIN:VEVENT
UID:62313161-3062-4135-b132-343130653961
DTSTAMP:20260423T022414Z
DESCRIPTION:8/39 TJ Slavoj Český Těšín - Happy Sport Opava 1:3 (-17\,22\,-1
 7\,-23)
DTSTART;TZID=Europe/Berlin:20231118T140000
DTEND;TZID=Europe/Berlin:20231118T160000
LOCATION:Pink ARÉNA\, Frýdecká 690 Český Těšín
SUMMARY:MS-Z: TJ Slavoj Český Těšín-Happy Sport Opava
END:VEVENT
BEGIN:VEVENT
UID:62336165-3265-4366-b037-346437623737
DTSTAMP:20260423T022414Z
DESCRIPTION:11/55 Polanka n. O. - Happy Sport Opava 3:0 (19\,15\,11)
DTSTART;TZID=Europe/Berlin:20231111T090000
DTEND;TZID=Europe/Berlin:20231111T110000
LOCATION:Sportovní hala\, Heleny Salichové 1275 Ostrava - Polanka nad Odrou
SUMMARY:MS-Z: Polanka n. O.-Happy Sport Opava
END:VEVENT
BEGIN:VEVENT
UID:38393863-3633-4261-a463-336139623264
DTSTAMP:20260423T022414Z
DESCRIPTION:12/60 Polanka n. O. - Happy Sport Opava 3:0 (12\,25\,24)
DTSTART;TZID=Europe/Berlin:20231111T130000
DTEND;TZID=Europe/Berlin:20231111T150000
LOCATION:Sportovní hala\, Heleny Salichové 1275 Ostrava - Polanka nad Odrou
SUMMARY:MS-Z: Polanka n. O.-Happy Sport Opava
END:VEVENT
BEGIN:VEVENT
UID:34303033-3961-4537-b738-323861653130
DTSTAMP:20260423T022414Z
DESCRIPTION:17/82 TJ Ostrava 'D' - Happy Sport Opava 3:0 (21\,20\,18)
DTSTART;TZID=Europe/Berlin:20231210T100000
DTEND;TZID=Europe/Berlin:20231210T120000
LOCATION:Hala mládeže\, Gajdošova 1893 Ostrava - Moravská Ostrava
SUMMARY:MS-Z: TJ Ostrava 'D'-Happy Sport Opava
END:VEVENT
BEGIN:VEVENT
UID:36306338-3364-4762-b666-653537613933
DTSTAMP:20260423T022414Z
DESCRIPTION:18/87 TJ Ostrava 'D' - Happy Sport Opava 3:0 (17\,17\,23)
DTSTART;TZID=Europe/Berlin:20231210T140000
DTEND;TZID=Europe/Berlin:20231210T160000
LOCATION:Hala mládeže\, Gajdošova 1893 Ostrava - Moravská Ostrava
SUMMARY:MS-Z: TJ Ostrava 'D'-Happy Sport Opava
END:VEVENT
BEGIN:VEVENT
UID:32636262-3063-4539-b131-343434353562
DTSTAMP:20260423T022414Z
DESCRIPTION:19/94 TJ Frenštát - Happy Sport Opava 0:3 (-12\,-17\,-15)
DTSTART;TZID=Europe/Berlin:20231216T100000
DTEND;TZID=Europe/Berlin:20231216T120000
LOCATION:Tělocvična ZŠ Tyršova\, Frenštát\, Tyršova 913 Frenštát pod Radhoš
 těm
SUMMARY:MS-Z: TJ Frenštát-Happy Sport Opava
END:VEVENT
BEGIN:VEVENT
UID:61363565-3631-4264-a361-326634323539
DTSTAMP:20260423T022414Z
DESCRIPTION:20/99 TJ Frenštát - Happy Sport Opava 0:3 (-19\,-19\,-20)
DTSTART;TZID=Europe/Berlin:20231216T140000
DTEND;TZID=Europe/Berlin:20231216T160000
LOCATION:Tělocvična ZŠ Tyršova\, Frenštát\, Tyršova 913 Frenštát pod Radhoš
 těm
SUMMARY:MS-Z: TJ Frenštát-Happy Sport Opava
END:VEVENT
BEGIN:VEVENT
UID:66636366-6463-4266-b966-346436336631
DTSTAMP:20260423T022414Z
DESCRIPTION:23/113 VK Karviná - Happy Sport Opava 3:0 (25\,21\,22)
DTSTART;TZID=Europe/Berlin:20240120T090000
DTEND;TZID=Europe/Berlin:20240120T110000
LOCATION:Tělocvična ZŠ Družby\, tř. Družby 1383 Karviná - Nové Město
SUMMARY:MS-Z: VK Karviná-Happy Sport Opava
END:VEVENT
BEGIN:VEVENT
UID:31383036-3766-4461-b865-663065623863
DTSTAMP:20260423T022414Z
DESCRIPTION:24/118 VK Karviná - Happy Sport Opava 3:2 (23\,-17\,-20\,24\,11
 )
DTSTART;TZID=Europe/Berlin:20240120T130000
DTEND;TZID=Europe/Berlin:20240120T150000
LOCATION:Tělocvična ZŠ Družby\, tř. Družby 1383 Karviná - Nové Město
SUMMARY:MS-Z: VK Karviná-Happy Sport Opava
END:VEVENT
BEGIN:VEVENT
UID:61316233-6166-4766-b739-623235383733
DTSTAMP:20260423T022414Z
DESCRIPTION:27/132 TJ Hlučín - Happy Sport Opava 1:3 (-21\,-14\,15\,-22)
DTSTART;TZID=Europe/Berlin:20240210T090000
DTEND;TZID=Europe/Berlin:20240210T110000
LOCATION:Sportovní hala\, Tyršova 1668 Hlučín
SUMMARY:MS-Z: TJ Hlučín-Happy Sport Opava
END:VEVENT
BEGIN:VEVENT
UID:66353935-3964-4136-a237-633934666337
DTSTAMP:20260423T022414Z
DESCRIPTION:28/137 TJ Hlučín - Happy Sport Opava 0:3 (-20\,-10\,-17)
DTSTART;TZID=Europe/Berlin:20240210T130000
DTEND;TZID=Europe/Berlin:20240210T150000
LOCATION:Sportovní hala\, Tyršova 1668 Hlučín
SUMMARY:MS-Z: TJ Hlučín-Happy Sport Opava
END:VEVENT
BEGIN:VEVENT
UID:34373464-3865-4839-b265-343433356239
DTSTAMP:20260423T022414Z
DESCRIPTION:33/165 VK Polanka n/O 'C' - Happy Sport Opava 0:3 (-11\,-20\,-2
 2)
DTSTART;TZID=Europe/Berlin:20240302T090000
DTEND;TZID=Europe/Berlin:20240302T110000
LOCATION:Sportovní hala\, Heleny Salichové 1275 Ostrava - Polanka nad Odrou
SUMMARY:MS-Z: VK Polanka n/O 'C'-Happy Sport Opava
END:VEVENT
BEGIN:VEVENT
UID:34656430-3733-4666-b862-633565653665
DTSTAMP:20260423T022414Z
DESCRIPTION:34/170 VK Polanka n/O 'C' - Happy Sport Opava 0:3 (-20\,-23\,-2
 1)
DTSTART;TZID=Europe/Berlin:20240302T130000
DTEND;TZID=Europe/Berlin:20240302T150000
LOCATION:Sportovní hala\, Heleny Salichové 1275 Ostrava - Polanka nad Odrou
SUMMARY:MS-Z: VK Polanka n/O 'C'-Happy Sport Opava
END:VEVENT
END:VCALENDAR
