BEGIN:VCALENDAR
VERSION:2.0
PRODID:-//Tělovýchovná jednota Sokol Stará Bělá83063//NONSGML kigkonsult.se iCalcreator 2.41.80//
CALSCALE:GREGORIAN
UID:66666634-3935-4464-b533-323633303963
BEGIN:VEVENT
UID:38353437-3766-4837-b436-386161343364
DTSTAMP:20260422T211411Z
DESCRIPTION:5/4 TJ Ostrava B - TJ S. St.Bělá 2:1 (-21\,16\,6)
DTSTART;TZID=Europe/Berlin:20231008T150000
DTEND;TZID=Europe/Berlin:20231008T170000
LOCATION:Hala ZŠ Komenského\, Komenského 701 Bílovec
SUMMARY:MS-U16Z-KVB: TJ Ostrava B-TJ S. St.Bělá
END:VEVENT
BEGIN:VEVENT
UID:62356631-6465-4161-a134-306465373833
DTSTAMP:20260422T211411Z
DESCRIPTION:6/8 VAM Havířov 'B' - TJ S. St.Bělá 2:0 (15\,16)\no 7.místo
DTSTART;TZID=Europe/Berlin:20231008T163000
DTEND;TZID=Europe/Berlin:20231008T183000
LOCATION:Hala ZŠ Komenského\, Komenského 701 Bílovec
SUMMARY:MS-U16Z-KVB: VAM Havířov 'B'-TJ S. St.Bělá
END:VEVENT
BEGIN:VEVENT
UID:61656362-3331-4964-b063-363933613338
DTSTAMP:20260422T211411Z
DESCRIPTION:1/1 TJ Sokol F-M B - TJ S. St.Bělá 2:0 (9\,10)
DTSTART;TZID=Europe/Berlin:20231008T090000
DTEND;TZID=Europe/Berlin:20231008T110000
LOCATION:Hala ZŠ Komenského\, Komenského 701 Bílovec
SUMMARY:MS-U16Z-KVB2: TJ Sokol F-M B-TJ S. St.Bělá
END:VEVENT
BEGIN:VEVENT
UID:32386162-6133-4238-b130-346463306463
DTSTAMP:20260422T211411Z
DESCRIPTION:2/3 TJ Frenštát p.R. - TJ S. St.Bělá 2:0 (14\,17)
DTSTART;TZID=Europe/Berlin:20231008T103000
DTEND;TZID=Europe/Berlin:20231008T123000
LOCATION:Hala ZŠ Komenského\, Komenského 701 Bílovec
SUMMARY:MS-U16Z-KVB2: TJ Frenštát p.R.-TJ S. St.Bělá
END:VEVENT
BEGIN:VEVENT
UID:61393764-6662-4636-a539-363336326465
DTSTAMP:20260422T211411Z
DESCRIPTION:3/6 ŠSK Bílovec B - TJ S. St.Bělá 2:0 (14\,9)
DTSTART;TZID=Europe/Berlin:20231008T120000
DTEND;TZID=Europe/Berlin:20231008T140000
LOCATION:Hala ZŠ Komenského\, Komenského 701 Bílovec
SUMMARY:MS-U16Z-KVB2: ŠSK Bílovec B-TJ S. St.Bělá
END:VEVENT
BEGIN:VEVENT
UID:31643065-3230-4961-a464-636534373065
DTSTAMP:20260422T211411Z
DESCRIPTION:3/3 TJ S. St.Bělá - SK Sl.Orlová 'B' 1:2 (19\,-18\,-7)
DTSTART;TZID=Europe/Berlin:20231105T120000
DTEND;TZID=Europe/Berlin:20231105T140000
LOCATION:Sokolovna\, K Sokolovně 135 Vratimov
SUMMARY:MS-U16Z-T1H: TJ S. St.Bělá-SK Sl.Orlová 'B'
END:VEVENT
BEGIN:VEVENT
UID:31316161-3634-4637-b161-613235613662
DTSTAMP:20260422T211411Z
DESCRIPTION:5/5 TJ S. St.Bělá - Sokol Poruba 0:2 (-10\,-8)
DTSTART;TZID=Europe/Berlin:20231105T150000
DTEND;TZID=Europe/Berlin:20231105T170000
LOCATION:Sokolovna\, K Sokolovně 135 Vratimov
SUMMARY:MS-U16Z-T1H: TJ S. St.Bělá-Sokol Poruba
END:VEVENT
BEGIN:VEVENT
UID:38653236-3363-4164-b434-666431323362
DTSTAMP:20260422T211411Z
DESCRIPTION:1/1 TJ S. Vratimov - TJ S. St.Bělá 2:0 (13\,28)
DTSTART;TZID=Europe/Berlin:20231105T090000
DTEND;TZID=Europe/Berlin:20231105T110000
LOCATION:Sokolovna\, K Sokolovně 135 Vratimov
SUMMARY:MS-U16Z-T1H: TJ S. Vratimov-TJ S. St.Bělá
END:VEVENT
BEGIN:VEVENT
UID:36653861-6332-4361-a130-326636656330
DTSTAMP:20260422T211411Z
DESCRIPTION:1/2 VS Ostrava 'B' - TJ S. St.Bělá 2:0 (13\,24)
DTSTART;TZID=Europe/Berlin:20231126T090000
DTEND;TZID=Europe/Berlin:20231126T110000
LOCATION:Sportovní hala\, Tyršova 1668 Hlučín
SUMMARY:MS-U16Z-T2H: VS Ostrava 'B'-TJ S. St.Bělá
END:VEVENT
BEGIN:VEVENT
UID:36663039-3465-4664-b862-346464396135
DTSTAMP:20260422T211411Z
DESCRIPTION:2/3 TJ Hlučín\, 'B' - TJ S. St.Bělá 2:0 (15\,21)
DTSTART;TZID=Europe/Berlin:20231126T103000
DTEND;TZID=Europe/Berlin:20231126T123000
LOCATION:Sportovní hala\, Tyršova 1668 Hlučín
SUMMARY:MS-U16Z-T2H: TJ Hlučín\, 'B'-TJ S. St.Bělá
END:VEVENT
BEGIN:VEVENT
UID:30613066-3936-4036-b239-373138316263
DTSTAMP:20260422T211411Z
DESCRIPTION:3/5 TJ S. Vratimov - TJ S. St.Bělá 2:0 (22\,20)
DTSTART;TZID=Europe/Berlin:20231126T120000
DTEND;TZID=Europe/Berlin:20231126T140000
LOCATION:Sportovní hala\, Tyršova 1668 Hlučín
SUMMARY:MS-U16Z-T2H: TJ S. Vratimov-TJ S. St.Bělá
END:VEVENT
BEGIN:VEVENT
UID:64323339-6534-4336-b130-613665353165
DTSTAMP:20260422T211411Z
DESCRIPTION:1/1 SK Sl.Orlová 'B' - TJ S. St.Bělá 2:0 (22\,13)
DTSTART;TZID=Europe/Berlin:20231217T090000
DTEND;TZID=Europe/Berlin:20231217T110000
LOCATION:Sportovní hala Gymnázium Orlová\, Masarykova třída 1313 Orlová - L
 utyně
SUMMARY:MS-U16Z-T3H: SK Sl.Orlová 'B'-TJ S. St.Bělá
END:VEVENT
BEGIN:VEVENT
UID:37353934-3566-4231-b764-653832663562
DTSTAMP:20260422T211411Z
DESCRIPTION:2/4 TJ Sokol F-M C - TJ S. St.Bělá 2:0 (20\,24)
DTSTART;TZID=Europe/Berlin:20231217T103000
DTEND;TZID=Europe/Berlin:20231217T123000
LOCATION:Sportovní hala Gymnázium Orlová\, Masarykova třída 1313 Orlová - L
 utyně
SUMMARY:MS-U16Z-T3H: TJ Sokol F-M C-TJ S. St.Bělá
END:VEVENT
BEGIN:VEVENT
UID:61656339-6532-4439-b735-343735616162
DTSTAMP:20260422T211411Z
DESCRIPTION:4/6 TJ S. Vratimov - TJ S. St.Bělá 2:0 (22\,23)
DTSTART;TZID=Europe/Berlin:20231217T120000
DTEND;TZID=Europe/Berlin:20231217T140000
LOCATION:Sportovní hala Gymnázium Orlová\, Masarykova třída 1313 Orlová - L
 utyně
SUMMARY:MS-U16Z-T3H: TJ S. Vratimov-TJ S. St.Bělá
END:VEVENT
BEGIN:VEVENT
UID:64336531-3336-4638-a361-373262636236
DTSTAMP:20260422T211411Z
DESCRIPTION:1/1 TJ Hlučín\, 'B' - TJ S. St.Bělá 2:1 (-19\,17\,12)
DTSTART;TZID=Europe/Berlin:20240114T090000
DTEND;TZID=Europe/Berlin:20240114T110000
LOCATION:Sportovní hala Nová Bělá\, Krmelínská 750 Ostrava - Nová Bělá
SUMMARY:MS-U16Z-T4H: TJ Hlučín\, 'B'-TJ S. St.Bělá
END:VEVENT
BEGIN:VEVENT
UID:31346530-6434-4537-b237-653838353862
DTSTAMP:20260422T211411Z
DESCRIPTION:2/4 VS Ostrava 'B' - TJ S. St.Bělá 2:0 (15\,9)
DTSTART;TZID=Europe/Berlin:20240114T103000
DTEND;TZID=Europe/Berlin:20240114T123000
LOCATION:Sportovní hala Nová Bělá\, Krmelínská 750 Ostrava - Nová Bělá
SUMMARY:MS-U16Z-T4H: VS Ostrava 'B'-TJ S. St.Bělá
END:VEVENT
BEGIN:VEVENT
UID:66306438-3337-4039-b466-653564636436
DTSTAMP:20260422T211411Z
DESCRIPTION:3/6 TJ Sokol F-M C - TJ S. St.Bělá 2:1 (-23\,21\,8)
DTSTART;TZID=Europe/Berlin:20240114T120000
DTEND;TZID=Europe/Berlin:20240114T140000
LOCATION:Sportovní hala Nová Bělá\, Krmelínská 750 Ostrava - Nová Bělá
SUMMARY:MS-U16Z-T4H: TJ Sokol F-M C-TJ S. St.Bělá
END:VEVENT
BEGIN:VEVENT
UID:37356436-3663-4566-a630-653762643865
DTSTAMP:20260422T211411Z
DESCRIPTION:1/1 Sokol Poruba - TJ S. St.Bělá 2:0 (17\,19)
DTSTART;TZID=Europe/Berlin:20240211T090000
DTEND;TZID=Europe/Berlin:20240211T110000
LOCATION:ZŠ Jiřího z Poděbrad Frýdek-Místek\, Jiřího z Poděbrad 3109 Frýdek
 -Místek - Frýdek
SUMMARY:MS-U16Z-T5H: Sokol Poruba-TJ S. St.Bělá
END:VEVENT
BEGIN:VEVENT
UID:38336338-3762-4263-a639-646463393864
DTSTAMP:20260422T211411Z
DESCRIPTION:2/4 TJ Hlučín\, 'B' - TJ S. St.Bělá 1:2 (19\,-21\,-13)
DTSTART;TZID=Europe/Berlin:20240211T103000
DTEND;TZID=Europe/Berlin:20240211T123000
LOCATION:ZŠ Jiřího z Poděbrad Frýdek-Místek\, Jiřího z Poděbrad 3109 Frýdek
 -Místek - Frýdek
SUMMARY:MS-U16Z-T5H: TJ Hlučín\, 'B'-TJ S. St.Bělá
END:VEVENT
BEGIN:VEVENT
UID:32653364-3666-4836-a235-313562303665
DTSTAMP:20260422T211411Z
DESCRIPTION:3/6 TJ Sokol F-M C - TJ S. St.Bělá 2:0 (19\,15)
DTSTART;TZID=Europe/Berlin:20240211T120000
DTEND;TZID=Europe/Berlin:20240211T140000
LOCATION:ZŠ Jiřího z Poděbrad Frýdek-Místek\, Jiřího z Poděbrad 3109 Frýdek
 -Místek - Frýdek
SUMMARY:MS-U16Z-T5H: TJ Sokol F-M C-TJ S. St.Bělá
END:VEVENT
BEGIN:VEVENT
UID:66663437-6530-4036-b935-666466393563
DTSTAMP:20260422T211411Z
DESCRIPTION:1/1 SK Sl.Orlová 'B' - TJ S. St.Bělá 1:2 (6\,-24\,-9)
DTSTART;TZID=Europe/Berlin:20240225T090000
DTEND;TZID=Europe/Berlin:20240225T110000
LOCATION:Sportovní hala Gymnázium Orlová\, Masarykova třída 1313 Orlová - L
 utyně
SUMMARY:MS-U16Z-T6H: SK Sl.Orlová 'B'-TJ S. St.Bělá
END:VEVENT
BEGIN:VEVENT
UID:36363862-3661-4537-b734-346534643563
DTSTAMP:20260422T211411Z
DESCRIPTION:2/4 Sokol Poruba - TJ S. St.Bělá 2:0 (17\,13)
DTSTART;TZID=Europe/Berlin:20240225T103000
DTEND;TZID=Europe/Berlin:20240225T123000
LOCATION:Sportovní hala Gymnázium Orlová\, Masarykova třída 1313 Orlová - L
 utyně
SUMMARY:MS-U16Z-T6H: Sokol Poruba-TJ S. St.Bělá
END:VEVENT
BEGIN:VEVENT
UID:63396362-3133-4762-b535-303332666331
DTSTAMP:20260422T211411Z
DESCRIPTION:3/6 TJ Hlučín\, 'B' - TJ S. St.Bělá 2:1 (-17\,23\,14)
DTSTART;TZID=Europe/Berlin:20240225T120000
DTEND;TZID=Europe/Berlin:20240225T140000
LOCATION:Sportovní hala Gymnázium Orlová\, Masarykova třída 1313 Orlová - L
 utyně
SUMMARY:MS-U16Z-T6H: TJ Hlučín\, 'B'-TJ S. St.Bělá
END:VEVENT
BEGIN:VEVENT
UID:39326661-3862-4861-b739-643164653135
DTSTAMP:20260422T211411Z
DESCRIPTION:3/6 TJ S. St.Bělá - SK Sl.Orlová 'B' 0:2 (-18\,-18)
DTSTART;TZID=Europe/Berlin:20240317T120000
DTEND;TZID=Europe/Berlin:20240317T140000
LOCATION:Sportovní hala Nová Bělá\, Krmelínská 750 Ostrava - Nová Bělá
SUMMARY:MS-U16Z-T7H: TJ S. St.Bělá-SK Sl.Orlová 'B'
END:VEVENT
BEGIN:VEVENT
UID:65613031-3363-4933-b532-336533303264
DTSTAMP:20260422T211411Z
DESCRIPTION:1/2 TJ Hlučín\, 'B' - TJ S. St.Bělá 2:1 (-21\,20\,11)
DTSTART;TZID=Europe/Berlin:20240317T090000
DTEND;TZID=Europe/Berlin:20240317T110000
LOCATION:Sportovní hala Nová Bělá\, Krmelínská 750 Ostrava - Nová Bělá
SUMMARY:MS-U16Z-T7H: TJ Hlučín\, 'B'-TJ S. St.Bělá
END:VEVENT
BEGIN:VEVENT
UID:36386430-6131-4233-b334-346563613330
DTSTAMP:20260422T211411Z
DESCRIPTION:2/3 TJ Sokol F-M C - TJ S. St.Bělá 2:0 (23\,20)
DTSTART;TZID=Europe/Berlin:20240317T103000
DTEND;TZID=Europe/Berlin:20240317T123000
LOCATION:Sportovní hala Nová Bělá\, Krmelínská 750 Ostrava - Nová Bělá
SUMMARY:MS-U16Z-T7H: TJ Sokol F-M C-TJ S. St.Bělá
END:VEVENT
END:VCALENDAR
