BEGIN:VCALENDAR
VERSION:2.0
PRODID:-//Volejbal Ústí nad Labem83077//NONSGML kigkonsult.se iCalcreator 2.41.80//
CALSCALE:GREGORIAN
UID:66366331-3032-4166-b234-333435613730
BEGIN:VEVENT
UID:32323266-6439-4265-b866-343864613338
DTSTAMP:20260422T084703Z
DESCRIPTION:2/3 Volejbal Ústí n. L. - TJ Lokomotiva Česká Lípa 2:0 (18\,7)
DTSTART;TZID=Europe/Berlin:20230923T113000
DTEND;TZID=Europe/Berlin:20230923T133000
LOCATION:Tělocvična Gymnázia a Střední odborné školy dr. Václava Šmejkala\,
  Stará 3299 Ústí nad Labem - Severní Terasa
SUMMARY:CP-U16Z-Z1E: Volejbal Ústí n. L.-TJ Lokomotiva Česká Lípa
END:VEVENT
BEGIN:VEVENT
UID:64316264-3266-4133-b038-643637303034
DTSTAMP:20260422T084703Z
DESCRIPTION:3/6 Volejbal Ústí n. L. - SK Kometa Praha 0:2 (-22\,-16)
DTSTART;TZID=Europe/Berlin:20230923T130000
DTEND;TZID=Europe/Berlin:20230923T150000
LOCATION:Tělocvična Gymnázia a Střední odborné školy dr. Václava Šmejkala\,
  Stará 3299 Ústí nad Labem - Severní Terasa
SUMMARY:CP-U16Z-Z1E: Volejbal Ústí n. L.-SK Kometa Praha
END:VEVENT
BEGIN:VEVENT
UID:62643361-3837-4735-b964-343761343239
DTSTAMP:20260422T084703Z
DESCRIPTION:4/7 Žatec - Volejbal Ústí n. L. 0:2 (-14\,-20)
DTSTART;TZID=Europe/Berlin:20230923T153000
DTEND;TZID=Europe/Berlin:20230923T173000
LOCATION:Sportovní hala TJ Sever Žatec\, Plzeňská 2787 Žatec
SUMMARY:CP-U16Z-Z1E: Žatec-Volejbal Ústí n. L.
END:VEVENT
BEGIN:VEVENT
UID:64653133-6136-4634-b065-613463646130
DTSTAMP:20260422T084703Z
DESCRIPTION:6/10 Loko Plzeň   .A - Volejbal Ústí n. L. 2:0 (10\,20)
DTSTART;TZID=Europe/Berlin:20230924T090000
DTEND;TZID=Europe/Berlin:20230924T110000
LOCATION:Městská sportovní hala  -  hala 2\, Úslavská 2357 Plzeň - Východní
  Předměstí
SUMMARY:CP-U16Z-Z1E: Loko Plzeň   .A-Volejbal Ústí n. L.
END:VEVENT
BEGIN:VEVENT
UID:33633239-6631-4461-b734-333463393766
DTSTAMP:20260422T084703Z
DESCRIPTION:7/13 VK Slavia Plzeň - Volejbal Ústí n. L. 1:2 (-21\,10\,-14)
DTSTART;TZID=Europe/Berlin:20230924T103000
DTEND;TZID=Europe/Berlin:20230924T123000
LOCATION:Tělocvična 15.ZŠ\, Terezie Brzkové 863 Plzeň - Skvrňany
SUMMARY:CP-U16Z-Z1E: VK Slavia Plzeň-Volejbal Ústí n. L.
END:VEVENT
BEGIN:VEVENT
UID:30326333-3535-4861-a664-623239353338
DTSTAMP:20260422T084703Z
DESCRIPTION:3/6 Volejbal Ústí n. L. - SK Slavia Praha - volejbal 2:0 (8\,19
 )
DTSTART;TZID=Europe/Berlin:20231014T114000
DTEND;TZID=Europe/Berlin:20231014T134000
LOCATION:Tělocvična Gymnázia a Střední odborné školy dr. Václava Šmejkala\,
  Stará 3299 Ústí nad Labem - Severní Terasa
SUMMARY:CP-U16Z-Z2D: Volejbal Ústí n. L.-SK Slavia Praha - volejbal
END:VEVENT
BEGIN:VEVENT
UID:62396235-3236-4135-b436-393935373866
DTSTAMP:20260422T084703Z
DESCRIPTION:6/12 Volejbal Ústí n. L. - VSK Spartak Děčín 2:1 (-20\,13\,10)
DTSTART;TZID=Europe/Berlin:20231014T154000
DTEND;TZID=Europe/Berlin:20231014T174000
LOCATION:Tělocvična Gymnázia a Střední odborné školy dr. Václava Šmejkala\,
  Stará 3299 Ústí nad Labem - Severní Terasa
SUMMARY:CP-U16Z-Z2D: Volejbal Ústí n. L.-VSK Spartak Děčín
END:VEVENT
BEGIN:VEVENT
UID:65376135-3364-4662-b437-396137343861
DTSTAMP:20260422T084703Z
DESCRIPTION:10/19 Volejbal Ústí n. L. - Střešovice 2:0 (19\,14)
DTSTART;TZID=Europe/Berlin:20231015T111000
DTEND;TZID=Europe/Berlin:20231015T131000
LOCATION:Tělocvična Gymnázia a Střední odborné školy dr. Václava Šmejkala\,
  Stará 3299 Ústí nad Labem - Severní Terasa
SUMMARY:CP-U16Z-Z2D: Volejbal Ústí n. L.-Střešovice
END:VEVENT
BEGIN:VEVENT
UID:35346431-3132-4331-a336-346362626538
DTSTAMP:20260422T084703Z
DESCRIPTION:2/4 Neratovice - Volejbal Ústí n. L. 0:2 (-10\,-19)
DTSTART;TZID=Europe/Berlin:20231014T102000
DTEND;TZID=Europe/Berlin:20231014T122000
LOCATION:sportovní hala TJ Neratovice \, Kpt. Jaroše 233 Neratovice
SUMMARY:CP-U16Z-Z2D: Neratovice-Volejbal Ústí n. L.
END:VEVENT
BEGIN:VEVENT
UID:62333663-6234-4331-b034-643962343739
DTSTAMP:20260422T084703Z
DESCRIPTION:5/9 VK Karlovy Vary B - Volejbal Ústí n. L. 0:2 (-17\,-18)
DTSTART;TZID=Europe/Berlin:20231014T142000
DTEND;TZID=Europe/Berlin:20231014T162000
LOCATION:Mattoni Arena Hala míčových sportů\, Západní 1812 Karlovy Vary
SUMMARY:CP-U16Z-Z2D: VK Karlovy Vary B-Volejbal Ústí n. L.
END:VEVENT
BEGIN:VEVENT
UID:34316239-6164-4365-b231-323339643430
DTSTAMP:20260422T084703Z
DESCRIPTION:9/18 TJ EMĚ Mělník - Volejbal Ústí n. L. 0:2 (-11\,-22)
DTSTART;TZID=Europe/Berlin:20231015T095000
DTEND;TZID=Europe/Berlin:20231015T115000
LOCATION:Tělocvična ZŠ J. Matiegky\, Pražská 2817 Mělník
SUMMARY:CP-U16Z-Z2D: TJ EMĚ Mělník-Volejbal Ústí n. L.
END:VEVENT
BEGIN:VEVENT
UID:35616166-3832-4163-b830-643465653831
DTSTAMP:20260422T084703Z
DESCRIPTION:3/6 Volejbal Ústí n. L. - Loko Plzeň   .A 0:2 (-10\,-17)
DTSTART;TZID=Europe/Berlin:20231118T123000
DTEND;TZID=Europe/Berlin:20231118T143000
LOCATION:Tělocvična Gymnázia a Střední odborné školy dr. Václava Šmejkala\,
  Stará 3299 Ústí nad Labem - Severní Terasa
SUMMARY:CP-U16Z-Z3C: Volejbal Ústí n. L.-Loko Plzeň   .A
END:VEVENT
BEGIN:VEVENT
UID:30376336-6638-4535-b865-333632663866
DTSTAMP:20260422T084703Z
DESCRIPTION:5/9 Volejbal Ústí n. L. - Volejbal Tábor 2:1 (18\,-11\,12)
DTSTART;TZID=Europe/Berlin:20231118T150000
DTEND;TZID=Europe/Berlin:20231118T170000
LOCATION:Tělocvična Gymnázia a Střední odborné školy dr. Václava Šmejkala\,
  Stará 3299 Ústí nad Labem - Severní Terasa
SUMMARY:CP-U16Z-Z3C: Volejbal Ústí n. L.-Volejbal Tábor
END:VEVENT
BEGIN:VEVENT
UID:37343361-3662-4565-a530-646535346537
DTSTAMP:20260422T084703Z
DESCRIPTION:11/20 Volejbal Ústí n. L. - VSK Spartak Děčín 0:2 (-17\,-18)
DTSTART;TZID=Europe/Berlin:20231119T124500
DTEND;TZID=Europe/Berlin:20231119T144500
LOCATION:Tělocvična Gymnázia a Střední odborné školy dr. Václava Šmejkala\,
  Stará 3299 Ústí nad Labem - Severní Terasa
SUMMARY:CP-U16Z-Z3C: Volejbal Ústí n. L.-VSK Spartak Děčín
END:VEVENT
BEGIN:VEVENT
UID:36666363-6566-4631-b633-613164666465
DTSTAMP:20260422T084703Z
DESCRIPTION:1/1 SK Meteor Praha - Volejbal Ústí n. L. 2:0 (21\,27)
DTSTART;TZID=Europe/Berlin:20231118T100000
DTEND;TZID=Europe/Berlin:20231118T120000
LOCATION:ZŠ Žernosecká\, Žernosecká 1597 Praha - Kobylisy
SUMMARY:CP-U16Z-Z3C: SK Meteor Praha-Volejbal Ústí n. L.
END:VEVENT
BEGIN:VEVENT
UID:63653665-3264-4633-b032-386661396165
DTSTAMP:20260422T084703Z
DESCRIPTION:9/16 VK Slavia Plzeň - Volejbal Ústí n. L. 2:0 (13\,11)
DTSTART;TZID=Europe/Berlin:20231119T101500
DTEND;TZID=Europe/Berlin:20231119T121500
LOCATION:Tělocvična 15.ZŠ\, Terezie Brzkové 863 Plzeň - Skvrňany
SUMMARY:CP-U16Z-Z3C: VK Slavia Plzeň-Volejbal Ústí n. L.
END:VEVENT
BEGIN:VEVENT
UID:39383035-6231-4661-a261-303133353863
DTSTAMP:20260422T084703Z
DESCRIPTION:10/19 TJ Baník Příbram - Volejbal Ústí n. L. 2:0 (8\,18)
DTSTART;TZID=Europe/Berlin:20231119T113000
DTEND;TZID=Europe/Berlin:20231119T133000
LOCATION:Tělocvična ZŠ Balbínova\, Balbínova 328 Příbram - Příbram II
SUMMARY:CP-U16Z-Z3C: TJ Baník Příbram-Volejbal Ústí n. L.
END:VEVENT
BEGIN:VEVENT
UID:63323164-3634-4239-a337-373332316265
DTSTAMP:20260422T084703Z
DESCRIPTION:1/1 Volejbal Ústí n. L. - TJ Jičín 2:0 (21\,14)
DTSTART;TZID=Europe/Berlin:20240127T093000
DTEND;TZID=Europe/Berlin:20240127T113000
LOCATION:Tělocvična Gymnázia a Střední odborné školy dr. Václava Šmejkala\,
  Stará 3299 Ústí nad Labem - Severní Terasa
SUMMARY:CP-U16Z-F1F: Volejbal Ústí n. L.-TJ Jičín
END:VEVENT
BEGIN:VEVENT
UID:61666339-3335-4533-a433-356131663539
DTSTAMP:20260422T084703Z
DESCRIPTION:4/11 Volejbal Ústí n. L. - Orel Letohrad 2:0 (20\,13)
DTSTART;TZID=Europe/Berlin:20240127T130000
DTEND;TZID=Europe/Berlin:20240127T150000
LOCATION:Tělocvična Gymnázia a Střední odborné školy dr. Václava Šmejkala\,
  Stará 3299 Ústí nad Labem - Severní Terasa
SUMMARY:CP-U16Z-F1F: Volejbal Ústí n. L.-Orel Letohrad
END:VEVENT
BEGIN:VEVENT
UID:37613731-3763-4566-b966-393735343631
DTSTAMP:20260422T084703Z
DESCRIPTION:7/20 Volejbal Ústí n. L. - Střešovice 2:0 (21\,15)
DTSTART;TZID=Europe/Berlin:20240128T090000
DTEND;TZID=Europe/Berlin:20240128T110000
LOCATION:Tělocvična Gymnázia a Střední odborné školy dr. Václava Šmejkala\,
  Stará 3299 Ústí nad Labem - Severní Terasa
SUMMARY:CP-U16Z-F1F: Volejbal Ústí n. L.-Střešovice
END:VEVENT
BEGIN:VEVENT
UID:63373634-6666-4631-b966-643237313732
DTSTAMP:20260422T084703Z
DESCRIPTION:9/26 Volejbal Ústí n. L. - TJ ABC Braník 2:0 (23\,19)
DTSTART;TZID=Europe/Berlin:20240128T110000
DTEND;TZID=Europe/Berlin:20240128T130000
LOCATION:Tělocvična Gymnázia a Střední odborné školy dr. Václava Šmejkala\,
  Stará 3299 Ústí nad Labem - Severní Terasa
SUMMARY:CP-U16Z-F1F: Volejbal Ústí n. L.-TJ ABC Braník
END:VEVENT
BEGIN:VEVENT
UID:34303333-3435-4364-a335-616564656139
DTSTAMP:20260422T084703Z
DESCRIPTION:2/6 TJ Jiskra Havlíčkův Brod - Volejbal Ústí n. L. 0:2 (-18\,-2
 1)
DTSTART;TZID=Europe/Berlin:20240127T103000
DTEND;TZID=Europe/Berlin:20240127T123000
LOCATION:Sportovní hala TJ Jiskra\, Ledečská 3028 Havlíčkův Brod
SUMMARY:CP-U16Z-F1F: TJ Jiskra Havlíčkův Brod-Volejbal Ústí n. L.
END:VEVENT
BEGIN:VEVENT
UID:30656339-6463-4733-a533-633561353965
DTSTAMP:20260422T084703Z
DESCRIPTION:6/16 TJ Slovácká Slavia U. Hradiště - Volejbal Ústí n. L. 0:2 (
 -15\,-23)
DTSTART;TZID=Europe/Berlin:20240127T150000
DTEND;TZID=Europe/Berlin:20240127T170000
LOCATION:Městská sportovní hala\, Stonky 860 Uherské Hradiště
SUMMARY:CP-U16Z-F1F: TJ Slovácká Slavia U. Hradiště-Volejbal Ústí n. L.
END:VEVENT
BEGIN:VEVENT
UID:33616138-3337-4064-b566-393438373434
DTSTAMP:20260422T084703Z
DESCRIPTION:8/23 SK Španielka Řepy - Volejbal Ústí n. L. 2:0 (24\,21)
DTSTART;TZID=Europe/Berlin:20240128T100000
DTEND;TZID=Europe/Berlin:20240128T120000
LOCATION:Tělocvična ZŠ\, Španielova 1111 Praha - Řepy
SUMMARY:CP-U16Z-F1F: SK Španielka Řepy-Volejbal Ústí n. L.
END:VEVENT
BEGIN:VEVENT
UID:39343462-6531-4631-a136-323433623630
DTSTAMP:20260422T084703Z
DESCRIPTION:2/5 Volejbal Ústí n. L. - SVK Nový Jičín 2:1 (14\,-21\,11)
DTSTART;TZID=Europe/Berlin:20240217T110000
DTEND;TZID=Europe/Berlin:20240217T130000
LOCATION:Tělocvična Gymnázia a Střední odborné školy dr. Václava Šmejkala\,
  Stará 3299 Ústí nad Labem - Severní Terasa
SUMMARY:CP-U16Z-F2E: Volejbal Ústí n. L.-SVK Nový Jičín
END:VEVENT
BEGIN:VEVENT
UID:38383536-3438-4266-b166-333464346438
DTSTAMP:20260422T084703Z
DESCRIPTION:6/16 Volejbal Ústí n. L. - RÉMA Rychnov 2:1 (21\,-23\,12)
DTSTART;TZID=Europe/Berlin:20240217T170000
DTEND;TZID=Europe/Berlin:20240217T190000
LOCATION:Tělocvična Gymnázia a Střední odborné školy dr. Václava Šmejkala\,
  Stará 3299 Ústí nad Labem - Severní Terasa
SUMMARY:CP-U16Z-F2E: Volejbal Ústí n. L.-RÉMA Rychnov
END:VEVENT
BEGIN:VEVENT
UID:30376561-6365-4233-b237-363137303532
DTSTAMP:20260422T084703Z
DESCRIPTION:8/21 Volejbal Ústí n. L. - Orel Letohrad 2:1 (-22\,25\,15)
DTSTART;TZID=Europe/Berlin:20240218T103000
DTEND;TZID=Europe/Berlin:20240218T123000
LOCATION:Tělocvična Gymnázia a Střední odborné školy dr. Václava Šmejkala\,
  Stará 3299 Ústí nad Labem - Severní Terasa
SUMMARY:CP-U16Z-F2E: Volejbal Ústí n. L.-Orel Letohrad
END:VEVENT
BEGIN:VEVENT
UID:38626338-3737-4861-a463-636631373636
DTSTAMP:20260422T084703Z
DESCRIPTION:3/6 VSC Zlín - Volejbal Ústí n. L. 2:1 (23\,-21\,12)
DTSTART;TZID=Europe/Berlin:20240217T123000
DTEND;TZID=Europe/Berlin:20240217T143000
LOCATION:ZŠ Okružní Zlín\, Okružní 4685 Zlín
SUMMARY:CP-U16Z-F2E: VSC Zlín-Volejbal Ústí n. L.
END:VEVENT
BEGIN:VEVENT
UID:31646165-3563-4065-b932-656165396166
DTSTAMP:20260422T084703Z
DESCRIPTION:4/9 VK Raškovice - Volejbal Ústí n. L. 0:2 (-18\,-19)
DTSTART;TZID=Europe/Berlin:20240217T140000
DTEND;TZID=Europe/Berlin:20240217T160000
LOCATION:Víceúčelová sportovní hala\,  Raškovice18
SUMMARY:CP-U16Z-F2E: VK Raškovice-Volejbal Ústí n. L.
END:VEVENT
BEGIN:VEVENT
UID:65386466-3439-4434-b035-353333333936
DTSTAMP:20260422T084703Z
DESCRIPTION:7/17 KP Brno B - Volejbal Ústí n. L. 0:2 (-22\,-8)
DTSTART;TZID=Europe/Berlin:20240218T090000
DTEND;TZID=Europe/Berlin:20240218T110000
LOCATION:Sportovní gymnázium Ludvíka Daňka\, Botanická 63 Brno - Ponava
SUMMARY:CP-U16Z-F2E: KP Brno B-Volejbal Ústí n. L.
END:VEVENT
BEGIN:VEVENT
UID:36646339-6230-4935-a534-323362336265
DTSTAMP:20260422T084703Z
DESCRIPTION:9/25 VK Slavia Plzeň - Volejbal Ústí n. L. 0:2 (-22\,-19)
DTSTART;TZID=Europe/Berlin:20240218T120000
DTEND;TZID=Europe/Berlin:20240218T140000
LOCATION:Tělocvična 15.ZŠ\, Terezie Brzkové 863 Plzeň - Skvrňany
SUMMARY:CP-U16Z-F2E: VK Slavia Plzeň-Volejbal Ústí n. L.
END:VEVENT
BEGIN:VEVENT
UID:64643663-3538-4464-b263-663964383834
DTSTAMP:20260422T084703Z
DESCRIPTION:2/4 Volejbal Ústí n. L. - TJ Jiskra Jaroměř 2:0 (16\,19)
DTSTART;TZID=Europe/Berlin:20240316T101500
DTEND;TZID=Europe/Berlin:20240316T121500
LOCATION:Tělocvična Gymnázia a Střední odborné školy dr. Václava Šmejkala\,
  Stará 3299 Ústí nad Labem - Severní Terasa
SUMMARY:CP-U16Z-F3D: Volejbal Ústí n. L.-TJ Jiskra Jaroměř
END:VEVENT
BEGIN:VEVENT
UID:61343137-3739-4938-b938-616363303632
DTSTAMP:20260422T084703Z
DESCRIPTION:5/10 Volejbal Ústí n. L. - VSK Spartak Děčín 2:0 (12\,22)
DTSTART;TZID=Europe/Berlin:20240316T140000
DTEND;TZID=Europe/Berlin:20240316T160000
LOCATION:Tělocvična Gymnázia a Střední odborné školy dr. Václava Šmejkala\,
  Stará 3299 Ústí nad Labem - Severní Terasa
SUMMARY:CP-U16Z-F3D: Volejbal Ústí n. L.-VSK Spartak Děčín
END:VEVENT
BEGIN:VEVENT
UID:32636634-3761-4138-b066-316461646163
DTSTAMP:20260422T084703Z
DESCRIPTION:12/23 Volejbal Ústí n. L. - Mikulova A 2:1 (24\,-14\,8)
DTSTART;TZID=Europe/Berlin:20240317T124500
DTEND;TZID=Europe/Berlin:20240317T144500
LOCATION:Tělocvična Gymnázia a Střední odborné školy dr. Václava Šmejkala\,
  Stará 3299 Ústí nad Labem - Severní Terasa
SUMMARY:CP-U16Z-F3D: Volejbal Ústí n. L.-Mikulova A
END:VEVENT
BEGIN:VEVENT
UID:62323131-3530-4739-a335-666437306163
DTSTAMP:20260422T084703Z
DESCRIPTION:4/7 TJ Jiskra Nový Bor B - Volejbal Ústí n. L. 0:2 (-12\,-15)
DTSTART;TZID=Europe/Berlin:20240316T124500
DTEND;TZID=Europe/Berlin:20240316T144500
LOCATION:Sportovní hala Františka Arnošta Nový Bor\, U hřiště 1391 Nový Bor
SUMMARY:CP-U16Z-F3D: TJ Jiskra Nový Bor B-Volejbal Ústí n. L.
END:VEVENT
BEGIN:VEVENT
UID:38616537-6537-4331-a131-326161313566
DTSTAMP:20260422T084703Z
DESCRIPTION:7/13 Loko Plzeň   .A - Volejbal Ústí n. L. 2:0 (25\,19)
DTSTART;TZID=Europe/Berlin:20240316T163000
DTEND;TZID=Europe/Berlin:20240316T183000
LOCATION:Městská sportovní hala  -  hala 2\, Úslavská 2357 Plzeň - Východní
  Předměstí
SUMMARY:CP-U16Z-F3D: Loko Plzeň   .A-Volejbal Ústí n. L.
END:VEVENT
BEGIN:VEVENT
UID:65316237-3962-4933-b266-323231333933
DTSTAMP:20260422T084703Z
DESCRIPTION:9/18 VSC Zlín - Volejbal Ústí n. L. 1:2 (-19\,6\,-12)
DTSTART;TZID=Europe/Berlin:20240317T090000
DTEND;TZID=Europe/Berlin:20240317T110000
LOCATION:ZŠ Okružní Zlín\, Okružní 4685 Zlín
SUMMARY:CP-U16Z-F3D: VSC Zlín-Volejbal Ústí n. L.
END:VEVENT
BEGIN:VEVENT
UID:36346332-3735-4431-b266-626663306265
DTSTAMP:20260422T084703Z
DESCRIPTION:14/28 SK Kometa Praha - Volejbal Ústí n. L. 2:0 (21\,15)
DTSTART;TZID=Europe/Berlin:20240317T151500
DTEND;TZID=Europe/Berlin:20240317T171500
LOCATION:Tělocvična ZŠ Na Šutce\, Na Šutce 440 Praha - Troja
SUMMARY:CP-U16Z-F3D: SK Kometa Praha-Volejbal Ústí n. L.
END:VEVENT
END:VCALENDAR
