BEGIN:VCALENDAR
VERSION:2.0
PRODID:-//ŠSK Demlova Jihlava83108//NONSGML kigkonsult.se iCalcreator 2.41.80//
CALSCALE:GREGORIAN
UID:33656538-3964-4334-a561-636530363333
BEGIN:VEVENT
UID:66396564-6231-4533-b964-383363343266
DTSTAMP:20260422T202320Z
DESCRIPTION:1/2 Jihlava - TJ Jiskra Humpolec\, z.s. 3:0 (18\,6\,21)
DTSTART;TZID=Europe/Berlin:20230924T090000
DTEND;TZID=Europe/Berlin:20230924T110000
LOCATION:Gymnázium Jihlava\, Jana Masaryka 1560 Jihlava
SUMMARY:VY-U22Z: Jihlava-TJ Jiskra Humpolec\, z.s.
END:VEVENT
BEGIN:VEVENT
UID:66393430-6339-4632-b736-643766396237
DTSTAMP:20260422T202320Z
DESCRIPTION:2/4 Jihlava - TJ Jiskra Humpolec\, z.s. 3:0 (9\,8\,18)
DTSTART;TZID=Europe/Berlin:20230924T120000
DTEND;TZID=Europe/Berlin:20230924T140000
LOCATION:Gymnázium Jihlava\, Jana Masaryka 1560 Jihlava
SUMMARY:VY-U22Z: Jihlava-TJ Jiskra Humpolec\, z.s.
END:VEVENT
BEGIN:VEVENT
UID:37663637-3632-4831-b031-656337333863
DTSTAMP:20260422T202320Z
DESCRIPTION:9/17 Jihlava - TJ Sokol Štoky 3:0 (6\,13\,14)
DTSTART;TZID=Europe/Berlin:20231202T090000
DTEND;TZID=Europe/Berlin:20231202T110000
LOCATION:ZŠ Jihlava Demlova\, Demlova 4178 Jihlava
SUMMARY:VY-U22Z: Jihlava-TJ Sokol Štoky
END:VEVENT
BEGIN:VEVENT
UID:37646539-3135-4933-b161-323862396262
DTSTAMP:20260422T202320Z
DESCRIPTION:10/19 Jihlava - TJ Sokol Štoky 3:0 (20\,19\,17)
DTSTART;TZID=Europe/Berlin:20231202T120000
DTEND;TZID=Europe/Berlin:20231202T140000
LOCATION:ZŠ Jihlava Demlova\, Demlova 4178 Jihlava
SUMMARY:VY-U22Z: Jihlava-TJ Sokol Štoky
END:VEVENT
BEGIN:VEVENT
UID:34656238-6232-4634-b334-303237613539
DTSTAMP:20260422T202320Z
DESCRIPTION:11/21 Jihlava - Tělovýchovná jednota Spartak Pelhřimov\, z.s. 3
 :2 (-24\,23\,-22\,17\,7)\nnáhradní hala Gymnázium Jihlava
DTSTART;TZID=Europe/Berlin:20231216T090000
DTEND;TZID=Europe/Berlin:20231216T110000
LOCATION:ZŠ Jihlava Demlova\, Demlova 4178 Jihlava
SUMMARY:VY-U22Z: Jihlava-Tělovýchovná jednota Spartak Pelhřimov\, z.s.
END:VEVENT
BEGIN:VEVENT
UID:66323635-3837-4164-a538-333261383033
DTSTAMP:20260422T202320Z
DESCRIPTION:12/23 Jihlava - Tělovýchovná jednota Spartak Pelhřimov\, z.s. 3
 :0 (23\,14\,16)\nnáhradní hala Gymnázium Jihlava
DTSTART;TZID=Europe/Berlin:20231216T120000
DTEND;TZID=Europe/Berlin:20231216T140000
LOCATION:ZŠ Jihlava Demlova\, Demlova 4178 Jihlava
SUMMARY:VY-U22Z: Jihlava-Tělovýchovná jednota Spartak Pelhřimov\, z.s.
END:VEVENT
BEGIN:VEVENT
UID:33653064-3064-4863-b834-303733386535
DTSTAMP:20260422T202320Z
DESCRIPTION:13/26 Jihlava - TJ Jiskra Humpolec\, z.s. 3:0 (22\,18\,23)
DTSTART;TZID=Europe/Berlin:20240106T090000
DTEND;TZID=Europe/Berlin:20240106T110000
LOCATION:ZŠ Jihlava Demlova\, Demlova 4178 Jihlava
SUMMARY:VY-U22Z: Jihlava-TJ Jiskra Humpolec\, z.s.
END:VEVENT
BEGIN:VEVENT
UID:64636233-3831-4638-b030-333131623562
DTSTAMP:20260422T202320Z
DESCRIPTION:14/28 Jihlava - TJ Jiskra Humpolec\, z.s. 3:1 (12\,-22\,12\,10)
DTSTART;TZID=Europe/Berlin:20240106T120000
DTEND;TZID=Europe/Berlin:20240106T140000
LOCATION:ZŠ Jihlava Demlova\, Demlova 4178 Jihlava
SUMMARY:VY-U22Z: Jihlava-TJ Jiskra Humpolec\, z.s.
END:VEVENT
BEGIN:VEVENT
UID:61366338-6462-4831-b664-646662626634
DTSTAMP:20260422T202320Z
DESCRIPTION:21/41 Jihlava - TJ Sokol Štoky 3:0 (22\,17\,15)
DTSTART;TZID=Europe/Berlin:20240316T090000
DTEND;TZID=Europe/Berlin:20240316T110000
LOCATION:ZŠ Jihlava Demlova\, Demlova 4178 Jihlava
SUMMARY:VY-U22Z: Jihlava-TJ Sokol Štoky
END:VEVENT
BEGIN:VEVENT
UID:32366635-3637-4334-b562-393762346632
DTSTAMP:20260422T202320Z
DESCRIPTION:22/43 Jihlava - TJ Sokol Štoky 3:0 (7\,12\,17)
DTSTART;TZID=Europe/Berlin:20240316T120000
DTEND;TZID=Europe/Berlin:20240316T140000
LOCATION:ZŠ Jihlava Demlova\, Demlova 4178 Jihlava
SUMMARY:VY-U22Z: Jihlava-TJ Sokol Štoky
END:VEVENT
BEGIN:VEVENT
UID:37303661-3834-4235-a133-666363636662
DTSTAMP:20260422T202320Z
DESCRIPTION:23/45 Jihlava - Tělovýchovná jednota Spartak Pelhřimov\, z.s. 3
 :0 (14\,13\,22)
DTSTART;TZID=Europe/Berlin:20240324T090000
DTEND;TZID=Europe/Berlin:20240324T110000
LOCATION:Gymnázium Jihlava\, Jana Masaryka 1560 Jihlava
SUMMARY:VY-U22Z: Jihlava-Tělovýchovná jednota Spartak Pelhřimov\, z.s.
END:VEVENT
BEGIN:VEVENT
UID:30636537-6264-4865-b738-373964376335
DTSTAMP:20260422T202320Z
DESCRIPTION:24/47 Jihlava - Tělovýchovná jednota Spartak Pelhřimov\, z.s. 3
 :0 (13\,19\,14)
DTSTART;TZID=Europe/Berlin:20240324T120000
DTEND;TZID=Europe/Berlin:20240324T140000
LOCATION:Gymnázium Jihlava\, Jana Masaryka 1560 Jihlava
SUMMARY:VY-U22Z: Jihlava-Tělovýchovná jednota Spartak Pelhřimov\, z.s.
END:VEVENT
BEGIN:VEVENT
UID:33396462-6132-4163-b534-613362643934
DTSTAMP:20260422T202320Z
DESCRIPTION:3/5 TJ Sokol Štoky - Jihlava 1:3 (25\,-23\,-23\,-12)
DTSTART;TZID=Europe/Berlin:20231015T100000
DTEND;TZID=Europe/Berlin:20231015T120000
LOCATION:Sportovní hala Základní škola a mateřská škola Štoky\,  Štoky220
SUMMARY:VY-U22Z: TJ Sokol Štoky-Jihlava
END:VEVENT
BEGIN:VEVENT
UID:63643366-3661-4832-b664-303936623865
DTSTAMP:20260422T202320Z
DESCRIPTION:4/7 TJ Sokol Štoky - Jihlava 1:3 (21\,-22\,-21\,-16)
DTSTART;TZID=Europe/Berlin:20231015T130000
DTEND;TZID=Europe/Berlin:20231015T150000
LOCATION:Sportovní hala Základní škola a mateřská škola Štoky\,  Štoky220
SUMMARY:VY-U22Z: TJ Sokol Štoky-Jihlava
END:VEVENT
BEGIN:VEVENT
UID:35333938-6166-4363-b664-316166633736
DTSTAMP:20260422T202320Z
DESCRIPTION:5/9 Tělovýchovná jednota Spartak Pelhřimov\, z.s. - Jihlava 0:3
  (-13\,-15\,-29)
DTSTART;TZID=Europe/Berlin:20231008T100000
DTEND;TZID=Europe/Berlin:20231008T120000
LOCATION:Základní škola Pelhřimov\, Osvobození\, Osvobození 1881 Pelhřimov
SUMMARY:VY-U22Z: Tělovýchovná jednota Spartak Pelhřimov\, z.s.-Jihlava
END:VEVENT
BEGIN:VEVENT
UID:32326466-3531-4530-a231-653464306338
DTSTAMP:20260422T202320Z
DESCRIPTION:6/11 Tělovýchovná jednota Spartak Pelhřimov\, z.s. - Jihlava 0:
 3 (-11\,-13\,-15)
DTSTART;TZID=Europe/Berlin:20231008T130000
DTEND;TZID=Europe/Berlin:20231008T150000
LOCATION:Základní škola Pelhřimov\, Osvobození\, Osvobození 1881 Pelhřimov
SUMMARY:VY-U22Z: Tělovýchovná jednota Spartak Pelhřimov\, z.s.-Jihlava
END:VEVENT
BEGIN:VEVENT
UID:39346338-3339-4361-a136-383430616235
DTSTAMP:20260422T202320Z
DESCRIPTION:7/14 TJ Jiskra Humpolec\, z.s. - Jihlava 3:2 (22\,-20\,11\,-20\
 ,12)
DTSTART;TZID=Europe/Berlin:20231125T090000
DTEND;TZID=Europe/Berlin:20231125T110000
LOCATION:TJ Jiskra Humpolec\, Tyršovo náměstí 745 Humpolec
SUMMARY:VY-U22Z: TJ Jiskra Humpolec\, z.s.-Jihlava
END:VEVENT
BEGIN:VEVENT
UID:35616262-3239-4264-b961-373363656437
DTSTAMP:20260422T202321Z
DESCRIPTION:8/16 TJ Jiskra Humpolec\, z.s. - Jihlava 3:1 (-19\,19\,16\,16)
DTSTART;TZID=Europe/Berlin:20231125T120000
DTEND;TZID=Europe/Berlin:20231125T140000
LOCATION:TJ Jiskra Humpolec\, Tyršovo náměstí 745 Humpolec
SUMMARY:VY-U22Z: TJ Jiskra Humpolec\, z.s.-Jihlava
END:VEVENT
BEGIN:VEVENT
UID:34376165-6663-4962-b136-613834316561
DTSTAMP:20260422T202321Z
DESCRIPTION:15/29 TJ Sokol Štoky - Jihlava 0:3 (-18\,-20\,-15)\nnáhradní ha
 la Gymnázium Jihlava
DTSTART;TZID=Europe/Berlin:20231104T090000
DTEND;TZID=Europe/Berlin:20231104T110000
LOCATION:Sportovní hala Základní škola a mateřská škola Štoky\,  Štoky220
SUMMARY:VY-U22Z: TJ Sokol Štoky-Jihlava
END:VEVENT
BEGIN:VEVENT
UID:36663562-3761-4639-b731-313335666266
DTSTAMP:20260422T202321Z
DESCRIPTION:16/31 TJ Sokol Štoky - Jihlava 0:3 (-23\,-8\,-0)\nnáhradní hala
  Gymnázium Jihlava
DTSTART;TZID=Europe/Berlin:20231104T120000
DTEND;TZID=Europe/Berlin:20231104T140000
LOCATION:Sportovní hala Základní škola a mateřská škola Štoky\,  Štoky220
SUMMARY:VY-U22Z: TJ Sokol Štoky-Jihlava
END:VEVENT
BEGIN:VEVENT
UID:64356239-6164-4666-b135-323366303964
DTSTAMP:20260422T202321Z
DESCRIPTION:17/33 Tělovýchovná jednota Spartak Pelhřimov\, z.s. - Jihlava 1
 :3 (-17\,15\,-14\,-19)
DTSTART;TZID=Europe/Berlin:20240128T100000
DTEND;TZID=Europe/Berlin:20240128T120000
LOCATION:Základní škola Pelhřimov\, Osvobození\, Osvobození 1881 Pelhřimov
SUMMARY:VY-U22Z: Tělovýchovná jednota Spartak Pelhřimov\, z.s.-Jihlava
END:VEVENT
BEGIN:VEVENT
UID:34643236-3430-4432-a139-653937323833
DTSTAMP:20260422T202321Z
DESCRIPTION:18/35 Tělovýchovná jednota Spartak Pelhřimov\, z.s. - Jihlava 1
 :3 (21\,-20\,-23\,-16)
DTSTART;TZID=Europe/Berlin:20240128T130000
DTEND;TZID=Europe/Berlin:20240128T150000
LOCATION:Základní škola Pelhřimov\, Osvobození\, Osvobození 1881 Pelhřimov
SUMMARY:VY-U22Z: Tělovýchovná jednota Spartak Pelhřimov\, z.s.-Jihlava
END:VEVENT
BEGIN:VEVENT
UID:66636331-3463-4831-a131-303766633666
DTSTAMP:20260422T202321Z
DESCRIPTION:19/38 TJ Jiskra Humpolec\, z.s. - Jihlava 3:2 (-22\,-22\,16\,19
 \,9)
DTSTART;TZID=Europe/Berlin:20240224T090000
DTEND;TZID=Europe/Berlin:20240224T110000
LOCATION:TJ Jiskra Humpolec\, Tyršovo náměstí 745 Humpolec
SUMMARY:VY-U22Z: TJ Jiskra Humpolec\, z.s.-Jihlava
END:VEVENT
BEGIN:VEVENT
UID:35666261-3863-4633-b936-626239313636
DTSTAMP:20260422T202321Z
DESCRIPTION:20/40 TJ Jiskra Humpolec\, z.s. - Jihlava 2:3 (24\,20\,-10\,-17
 \,-11)
DTSTART;TZID=Europe/Berlin:20240224T120000
DTEND;TZID=Europe/Berlin:20240224T140000
LOCATION:TJ Jiskra Humpolec\, Tyršovo náměstí 745 Humpolec
SUMMARY:VY-U22Z: TJ Jiskra Humpolec\, z.s.-Jihlava
END:VEVENT
BEGIN:VEVENT
UID:34316439-3262-4334-b763-643138333965
DTSTAMP:20260422T202321Z
DESCRIPTION:1/2 Jihlava - Meteor Praha 3:0 (12\,23\,26)
DTSTART;TZID=Europe/Berlin:20240420T100000
DTEND;TZID=Europe/Berlin:20240420T120000
LOCATION:Kladenská sportovní hala\, Sportovců 817 Kladno - Rozdělov
SUMMARY:1-U22Z-KB: Jihlava-Meteor Praha
END:VEVENT
BEGIN:VEVENT
UID:66313462-6438-4630-b265-633638306236
DTSTAMP:20260422T202321Z
DESCRIPTION:2/9 Jihlava - Frýdlant 3:0 (7\,17\,13)
DTSTART;TZID=Europe/Berlin:20240421T130000
DTEND;TZID=Europe/Berlin:20240421T150000
LOCATION:Kladenská sportovní hala\, Sportovců 817 Kladno - Rozdělov
SUMMARY:1-U22Z-KB: Jihlava-Frýdlant
END:VEVENT
BEGIN:VEVENT
UID:34366638-6431-4336-a239-643336356134
DTSTAMP:20260422T202321Z
DESCRIPTION:1/4 Kladno - Jihlava 0:3 (-15\,-14\,-23)
DTSTART;TZID=Europe/Berlin:20240420T130000
DTEND;TZID=Europe/Berlin:20240420T150000
LOCATION:Kladenská sportovní hala\, Sportovců 817 Kladno - Rozdělov
SUMMARY:1-U22Z-KB: Kladno-Jihlava
END:VEVENT
BEGIN:VEVENT
UID:30666236-3032-4730-b634-346331656264
DTSTAMP:20260422T202321Z
DESCRIPTION:2/6 Mn. Hradiště - Jihlava 0:3 (-20\,-21\,-23)
DTSTART;TZID=Europe/Berlin:20240421T100000
DTEND;TZID=Europe/Berlin:20240421T120000
LOCATION:Kladenská sportovní hala\, Sportovců 817 Kladno - Rozdělov
SUMMARY:1-U22Z-KB: Mn. Hradiště-Jihlava
END:VEVENT
END:VCALENDAR
