BEGIN:VCALENDAR
VERSION:2.0
PRODID:-//TJ Sokol Havlíčkův Brod B83111//NONSGML kigkonsult.se iCalcreator 2.41.80//
CALSCALE:GREGORIAN
UID:31663635-6162-4535-b035-356561613532
BEGIN:VEVENT
UID:32633933-3036-4562-a665-363164373164
DTSTAMP:20260425T190217Z
DESCRIPTION:5/15 Sokol Havl. Brod B - TJ Náměšť nad Oslavou z.s. 0:3 (-18\,
 -20\,-24)
DTSTART;TZID=Europe/Berlin:20231007T100000
DTEND;TZID=Europe/Berlin:20231007T120000
LOCATION:Střední zdravotnická škola Havlíčkův Brod\, Masarykova 2033 Havlíč
 kův Brod
SUMMARY:VY-Z-JIH: Sokol Havl. Brod B-TJ Náměšť nad Oslavou z.s.
END:VEVENT
BEGIN:VEVENT
UID:32383130-3865-4763-b166-353931623863
DTSTAMP:20260425T190217Z
DESCRIPTION:6/18 Sokol Havl. Brod B - TJ Náměšť nad Oslavou z.s. 3:2 (-19\,
 9\,23\,-22\,6)
DTSTART;TZID=Europe/Berlin:20231007T130000
DTEND;TZID=Europe/Berlin:20231007T150000
LOCATION:Střední zdravotnická škola Havlíčkův Brod\, Masarykova 2033 Havlíč
 kův Brod
SUMMARY:VY-Z-JIH: Sokol Havl. Brod B-TJ Náměšť nad Oslavou z.s.
END:VEVENT
BEGIN:VEVENT
UID:34646336-6461-4336-a337-653839663335
DTSTAMP:20260425T190217Z
DESCRIPTION:9/26 Sokol Havl. Brod B - Volejbalový klub Třebíč 3:1 (25\,-32\
 ,13\,20)
DTSTART;TZID=Europe/Berlin:20231104T100000
DTEND;TZID=Europe/Berlin:20231104T120000
LOCATION:Střední zdravotnická škola Havlíčkův Brod\, Masarykova 2033 Havlíč
 kův Brod
SUMMARY:VY-Z-JIH: Sokol Havl. Brod B-Volejbalový klub Třebíč
END:VEVENT
BEGIN:VEVENT
UID:63383935-3237-4136-b432-616166623733
DTSTAMP:20260425T190217Z
DESCRIPTION:10/29 Sokol Havl. Brod B - Volejbalový klub Třebíč 3:0 (22\,15\
 ,22)
DTSTART;TZID=Europe/Berlin:20231104T130000
DTEND;TZID=Europe/Berlin:20231104T150000
LOCATION:Střední zdravotnická škola Havlíčkův Brod\, Masarykova 2033 Havlíč
 kův Brod
SUMMARY:VY-Z-JIH: Sokol Havl. Brod B-Volejbalový klub Třebíč
END:VEVENT
BEGIN:VEVENT
UID:64656139-3766-4036-b330-643262326265
DTSTAMP:20260425T190217Z
DESCRIPTION:11/33 Sokol Havl. Brod B - Tělovýchovná jednota Spartak Pelhřim
 ov\, z.s. 3:0 (18\,22\,17)
DTSTART;TZID=Europe/Berlin:20231111T100000
DTEND;TZID=Europe/Berlin:20231111T120000
LOCATION:Střední zdravotnická škola Havlíčkův Brod\, Masarykova 2033 Havlíč
 kův Brod
SUMMARY:VY-Z-JIH: Sokol Havl. Brod B-Tělovýchovná jednota Spartak Pelhřimov
 \, z.s.
END:VEVENT
BEGIN:VEVENT
UID:65363039-3236-4539-b863-356339666438
DTSTAMP:20260425T190217Z
DESCRIPTION:12/36 Sokol Havl. Brod B - Tělovýchovná jednota Spartak Pelhřim
 ov\, z.s. 3:2 (21\,12\,-12\,-19\,9)
DTSTART;TZID=Europe/Berlin:20231111T130000
DTEND;TZID=Europe/Berlin:20231111T150000
LOCATION:Střední zdravotnická škola Havlíčkův Brod\, Masarykova 2033 Havlíč
 kův Brod
SUMMARY:VY-Z-JIH: Sokol Havl. Brod B-Tělovýchovná jednota Spartak Pelhřimov
 \, z.s.
END:VEVENT
BEGIN:VEVENT
UID:34326537-3632-4238-a634-663263313665
DTSTAMP:20260425T190217Z
DESCRIPTION:17/50 Sokol Havl. Brod B - Školní sportovní klub Demlova Jihlav
 a\, z.s. 3:2 (-22\,-18\,9\,10\,2)
DTSTART;TZID=Europe/Berlin:20240106T100000
DTEND;TZID=Europe/Berlin:20240106T120000
LOCATION:Střední zdravotnická škola Havlíčkův Brod\, Masarykova 2033 Havlíč
 kův Brod
SUMMARY:VY-Z-JIH: Sokol Havl. Brod B-Školní sportovní klub Demlova Jihlava\
 , z.s.
END:VEVENT
BEGIN:VEVENT
UID:62363265-3633-4466-a330-396331383432
DTSTAMP:20260425T190217Z
DESCRIPTION:18/53 Sokol Havl. Brod B - Školní sportovní klub Demlova Jihlav
 a\, z.s. 3:1 (-20\,21\,15\,10)
DTSTART;TZID=Europe/Berlin:20240106T130000
DTEND;TZID=Europe/Berlin:20240106T150000
LOCATION:Střední zdravotnická škola Havlíčkův Brod\, Masarykova 2033 Havlíč
 kův Brod
SUMMARY:VY-Z-JIH: Sokol Havl. Brod B-Školní sportovní klub Demlova Jihlava\
 , z.s.
END:VEVENT
BEGIN:VEVENT
UID:30343362-6265-4462-b933-373231373365
DTSTAMP:20260425T190217Z
DESCRIPTION:1/3 Tělovýchovná jednota Spartak Pelhřimov\, z.s. - Sokol Havl.
  Brod B 2:3 (-22\,-25\,22\,23\,-16)
DTSTART;TZID=Europe/Berlin:20231022T100000
DTEND;TZID=Europe/Berlin:20231022T120000
LOCATION:Základní škola Pelhřimov\, Osvobození\, Osvobození 1881 Pelhřimov
SUMMARY:VY-Z-JIH: Tělovýchovná jednota Spartak Pelhřimov\, z.s.-Sokol Havl.
  Brod B
END:VEVENT
BEGIN:VEVENT
UID:66363633-3564-4534-a266-363766333530
DTSTAMP:20260425T190217Z
DESCRIPTION:2/6 Tělovýchovná jednota Spartak Pelhřimov\, z.s. - Sokol Havl.
  Brod B 1:3 (-10\,15\,-23\,-17)
DTSTART;TZID=Europe/Berlin:20231022T130000
DTEND;TZID=Europe/Berlin:20231022T150000
LOCATION:Základní škola Pelhřimov\, Osvobození\, Osvobození 1881 Pelhřimov
SUMMARY:VY-Z-JIH: Tělovýchovná jednota Spartak Pelhřimov\, z.s.-Sokol Havl.
  Brod B
END:VEVENT
BEGIN:VEVENT
UID:31333834-3530-4639-a439-333233626466
DTSTAMP:20260425T190217Z
DESCRIPTION:7/20 Školní sportovní klub Demlova Jihlava\, z.s. - Sokol Havl.
  Brod B 2:3 (16\,22\,-18\,-22\,-8)
DTSTART;TZID=Europe/Berlin:20231021T100000
DTEND;TZID=Europe/Berlin:20231021T120000
LOCATION:ZŠ Jihlava Demlova\, Demlova 4178 Jihlava
SUMMARY:VY-Z-JIH: Školní sportovní klub Demlova Jihlava\, z.s.-Sokol Havl. 
 Brod B
END:VEVENT
BEGIN:VEVENT
UID:33303062-6662-4332-b039-303166376339
DTSTAMP:20260425T190217Z
DESCRIPTION:8/23 Školní sportovní klub Demlova Jihlava\, z.s. - Sokol Havl.
  Brod B 2:3 (-20\,11\,20\,-15\,-12)
DTSTART;TZID=Europe/Berlin:20231021T130000
DTEND;TZID=Europe/Berlin:20231021T150000
LOCATION:ZŠ Jihlava Demlova\, Demlova 4178 Jihlava
SUMMARY:VY-Z-JIH: Školní sportovní klub Demlova Jihlava\, z.s.-Sokol Havl. 
 Brod B
END:VEVENT
BEGIN:VEVENT
UID:65636162-6134-4365-b262-366132633438
DTSTAMP:20260425T190217Z
DESCRIPTION:15/45 TJ Náměšť nad Oslavou z.s. - Sokol Havl. Brod B 0:3 (-15\
 ,-21\,-22)
DTSTART;TZID=Europe/Berlin:20231209T100000
DTEND;TZID=Europe/Berlin:20231209T120000
LOCATION:ZŠ Komenského\, Komenského nám. 53 Náměšť nad Oslavou
SUMMARY:VY-Z-JIH: TJ Náměšť nad Oslavou z.s.-Sokol Havl. Brod B
END:VEVENT
BEGIN:VEVENT
UID:65656366-3033-4562-a236-663461643365
DTSTAMP:20260425T190217Z
DESCRIPTION:16/48 TJ Náměšť nad Oslavou z.s. - Sokol Havl. Brod B 0:3 (-23\
 ,-17\,-13)
DTSTART;TZID=Europe/Berlin:20231209T130000
DTEND;TZID=Europe/Berlin:20231209T150000
LOCATION:ZŠ Komenského\, Komenského nám. 53 Náměšť nad Oslavou
SUMMARY:VY-Z-JIH: TJ Náměšť nad Oslavou z.s.-Sokol Havl. Brod B
END:VEVENT
BEGIN:VEVENT
UID:64653465-6330-4039-a338-333266636163
DTSTAMP:20260425T190217Z
DESCRIPTION:19/56 Volejbalový klub Třebíč - Sokol Havl. Brod B 3:2 (-18\,16
 \,23\,-22\,10)
DTSTART;TZID=Europe/Berlin:20240113T090000
DTEND;TZID=Europe/Berlin:20240113T110000
LOCATION:hala ZŠ TGM\, Komenského nám. 61 Třebíč - Horka-Domky
SUMMARY:VY-Z-JIH: Volejbalový klub Třebíč-Sokol Havl. Brod B
END:VEVENT
BEGIN:VEVENT
UID:35363434-3061-4163-b362-383436346338
DTSTAMP:20260425T190217Z
DESCRIPTION:20/59 Volejbalový klub Třebíč - Sokol Havl. Brod B 1:3 (17\,-23
 \,-23\,-18)
DTSTART;TZID=Europe/Berlin:20240113T120000
DTEND;TZID=Europe/Berlin:20240113T140000
LOCATION:hala ZŠ TGM\, Komenského nám. 61 Třebíč - Horka-Domky
SUMMARY:VY-Z-JIH: Volejbalový klub Třebíč-Sokol Havl. Brod B
END:VEVENT
BEGIN:VEVENT
UID:64376130-6638-4661-b933-323730376537
DTSTAMP:20260425T190217Z
DESCRIPTION:3/6 Sokol Havl. Brod B - Sokol Havl. Brod 3:2 (14\,-22\,22\,-20
 \,12)
DTSTART;TZID=Europe/Berlin:20240224T100000
DTEND;TZID=Europe/Berlin:20240224T120000
LOCATION:Střední zdravotnická škola Havlíčkův Brod\, Masarykova 2033 Havlíč
 kův Brod
SUMMARY:VY-Z-A: Sokol Havl. Brod B-Sokol Havl. Brod
END:VEVENT
BEGIN:VEVENT
UID:31613936-3834-4331-b033-633362386333
DTSTAMP:20260425T190217Z
DESCRIPTION:4/8 Sokol Havl. Brod B - Sokol Havl. Brod 1:3 (21\,-14\,-17\,-1
 8)
DTSTART;TZID=Europe/Berlin:20240224T130000
DTEND;TZID=Europe/Berlin:20240224T150000
LOCATION:Střední zdravotnická škola Havlíčkův Brod\, Masarykova 2033 Havlíč
 kův Brod
SUMMARY:VY-Z-A: Sokol Havl. Brod B-Sokol Havl. Brod
END:VEVENT
BEGIN:VEVENT
UID:38353361-3765-4237-b834-613238303035
DTSTAMP:20260425T190217Z
DESCRIPTION:5/10 Sokol Havl. Brod B - TJ Jiskra Humpolec\, z.s. 3:2 (24\,23
 \,-14\,-17\,12)
DTSTART;TZID=Europe/Berlin:20240302T100000
DTEND;TZID=Europe/Berlin:20240302T120000
LOCATION:Střední zdravotnická škola Havlíčkův Brod\, Masarykova 2033 Havlíč
 kův Brod
SUMMARY:VY-Z-A: Sokol Havl. Brod B-TJ Jiskra Humpolec\, z.s.
END:VEVENT
BEGIN:VEVENT
UID:32633139-3831-4632-b033-306231666335
DTSTAMP:20260425T190217Z
DESCRIPTION:6/12 Sokol Havl. Brod B - TJ Jiskra Humpolec\, z.s. 3:0 (23\,16
 \,17)
DTSTART;TZID=Europe/Berlin:20240302T130000
DTEND;TZID=Europe/Berlin:20240302T150000
LOCATION:Střední zdravotnická škola Havlíčkův Brod\, Masarykova 2033 Havlíč
 kův Brod
SUMMARY:VY-Z-A: Sokol Havl. Brod B-TJ Jiskra Humpolec\, z.s.
END:VEVENT
BEGIN:VEVENT
UID:37393639-3530-4663-b132-333965306435
DTSTAMP:20260425T190217Z
DESCRIPTION:1/2 TJ Jiskra Humpolec\, z.s. - Sokol Havl. Brod B 3:2 (-21\,14
 \,20\,-21\,6)
DTSTART;TZID=Europe/Berlin:20240127T090000
DTEND;TZID=Europe/Berlin:20240127T110000
LOCATION:TJ Jiskra Humpolec\, Tyršovo náměstí 745 Humpolec
SUMMARY:VY-Z-A: TJ Jiskra Humpolec\, z.s.-Sokol Havl. Brod B
END:VEVENT
BEGIN:VEVENT
UID:64343338-6264-4634-a363-396462633332
DTSTAMP:20260425T190217Z
DESCRIPTION:2/4 TJ Jiskra Humpolec\, z.s. - Sokol Havl. Brod B 1:3 (23\,-13
 \,-20\,-20)
DTSTART;TZID=Europe/Berlin:20240127T120000
DTEND;TZID=Europe/Berlin:20240127T140000
LOCATION:TJ Jiskra Humpolec\, Tyršovo náměstí 745 Humpolec
SUMMARY:VY-Z-A: TJ Jiskra Humpolec\, z.s.-Sokol Havl. Brod B
END:VEVENT
BEGIN:VEVENT
UID:62326638-3139-4666-a638-613233643834
DTSTAMP:20260425T190217Z
DESCRIPTION:7/14 Sokol Havl. Brod - Sokol Havl. Brod B 1:3 (-15\,23\,-15\,-
 11)
DTSTART;TZID=Europe/Berlin:20240316T100000
DTEND;TZID=Europe/Berlin:20240316T120000
LOCATION:Střední zdravotnická škola Havlíčkův Brod\, Masarykova 2033 Havlíč
 kův Brod
SUMMARY:VY-Z-A: Sokol Havl. Brod-Sokol Havl. Brod B
END:VEVENT
BEGIN:VEVENT
UID:61333064-6564-4236-b236-393635353735
DTSTAMP:20260425T190217Z
DESCRIPTION:8/16 Sokol Havl. Brod - Sokol Havl. Brod B 0:3 (-11\,-15\,-17)
DTSTART;TZID=Europe/Berlin:20240316T130000
DTEND;TZID=Europe/Berlin:20240316T150000
LOCATION:Střední zdravotnická škola Havlíčkův Brod\, Masarykova 2033 Havlíč
 kův Brod
SUMMARY:VY-Z-A: Sokol Havl. Brod-Sokol Havl. Brod B
END:VEVENT
BEGIN:VEVENT
UID:62393539-6466-4632-b339-303064663764
DTSTAMP:20260425T190217Z
DESCRIPTION:1/1 Sokol Havl. Brod B - Svitavy 3:1 (16\,20\,-19\,15)
DTSTART;TZID=Europe/Berlin:20240420T100000
DTEND;TZID=Europe/Berlin:20240420T120000
LOCATION:Střední zdravotnická škola Havlíčkův Brod\, Masarykova 2033 Havlíč
 kův Brod
SUMMARY:2-Z-KB: Sokol Havl. Brod B-Svitavy
END:VEVENT
BEGIN:VEVENT
UID:38323733-6231-4837-b963-326237663761
DTSTAMP:20260425T190217Z
DESCRIPTION:2/4 Sokol Havl. Brod B - Jihočeský volejbal 0:3 (-15\,-23\,-24)
DTSTART;TZID=Europe/Berlin:20240420T170000
DTEND;TZID=Europe/Berlin:20240420T190000
LOCATION:Střední zdravotnická škola Havlíčkův Brod\, Masarykova 2033 Havlíč
 kův Brod
SUMMARY:2-Z-KB: Sokol Havl. Brod B-Jihočeský volejbal
END:VEVENT
BEGIN:VEVENT
UID:65386634-3334-4435-b661-386130386432
DTSTAMP:20260425T190217Z
DESCRIPTION:3/6 Staré Město - Náchod - Sokol Havl. Brod B 3:1 (-17\,20\,17\
 ,21)
DTSTART;TZID=Europe/Berlin:20240421T120000
DTEND;TZID=Europe/Berlin:20240421T140000
LOCATION:Střední zdravotnická škola Havlíčkův Brod\, Masarykova 2033 Havlíč
 kův Brod
SUMMARY:2-Z-KB: Staré Město - Náchod-Sokol Havl. Brod B
END:VEVENT
END:VCALENDAR
