BEGIN:VCALENDAR
VERSION:2.0
PRODID:-//TJ Sokol Bohuňovice, z.s.83125//NONSGML kigkonsult.se iCalcreator 2.41.80//
CALSCALE:GREGORIAN
UID:61313537-3035-4530-a566-303136383632
BEGIN:VEVENT
UID:61323163-6230-4735-b263-633966653137
DTSTAMP:20260423T030611Z
DESCRIPTION:9/44 TJ Sokol Bohuňovice - Olomouc UP B 3:0 (14\,15\,15)
DTSTART;TZID=Europe/Berlin:20231015T100000
DTEND;TZID=Europe/Berlin:20231015T120000
LOCATION:ZŠ a MŠ Aloise Štěpánka\,  Dolany174
SUMMARY:OLK-Z: TJ Sokol Bohuňovice-Olomouc UP B
END:VEVENT
BEGIN:VEVENT
UID:37656165-3239-4264-a435-653831376331
DTSTAMP:20260423T030611Z
DESCRIPTION:10/49 TJ Sokol Bohuňovice - Olomouc UP B 3:0 (21\,15\,17)
DTSTART;TZID=Europe/Berlin:20231015T140000
DTEND;TZID=Europe/Berlin:20231015T160000
LOCATION:ZŠ a MŠ Aloise Štěpánka\,  Dolany174
SUMMARY:OLK-Z: TJ Sokol Bohuňovice-Olomouc UP B
END:VEVENT
BEGIN:VEVENT
UID:39646433-3965-4832-b837-656665323538
DTSTAMP:20260423T030611Z
DESCRIPTION:13/63 TJ Sokol Bohuňovice - SK Kojetín 2016\, z.s. 3:2 (-11\,-2
 2\,17\,25\,12)
DTSTART;TZID=Europe/Berlin:20231112T100000
DTEND;TZID=Europe/Berlin:20231112T120000
LOCATION:ZŠ a MŠ Aloise Štěpánka\,  Dolany174
SUMMARY:OLK-Z: TJ Sokol Bohuňovice-SK Kojetín 2016\, z.s.
END:VEVENT
BEGIN:VEVENT
UID:33333037-3535-4631-b538-333439653434
DTSTAMP:20260423T030611Z
DESCRIPTION:14/68 TJ Sokol Bohuňovice - SK Kojetín 2016\, z.s. 3:0 (20\,19\
 ,16)
DTSTART;TZID=Europe/Berlin:20231112T140000
DTEND;TZID=Europe/Berlin:20231112T160000
LOCATION:ZŠ a MŠ Aloise Štěpánka\,  Dolany174
SUMMARY:OLK-Z: TJ Sokol Bohuňovice-SK Kojetín 2016\, z.s.
END:VEVENT
BEGIN:VEVENT
UID:39666130-6165-4965-b664-636533653130
DTSTAMP:20260423T030611Z
DESCRIPTION:17/82 TJ Sokol Bohuňovice - TJ Šumperk\, z.s. 3:0 (22\,17\,17)
DTSTART;TZID=Europe/Berlin:20231202T100000
DTEND;TZID=Europe/Berlin:20231202T120000
LOCATION:ZŠ a MŠ Aloise Štěpánka\,  Dolany174
SUMMARY:OLK-Z: TJ Sokol Bohuňovice-TJ Šumperk\, z.s.
END:VEVENT
BEGIN:VEVENT
UID:36633938-3932-4235-b939-373235646233
DTSTAMP:20260423T030611Z
DESCRIPTION:18/87 TJ Sokol Bohuňovice - TJ Šumperk\, z.s. 3:2 (17\,-21\,-22
 \,22\,3)
DTSTART;TZID=Europe/Berlin:20231202T140000
DTEND;TZID=Europe/Berlin:20231202T160000
LOCATION:ZŠ a MŠ Aloise Štěpánka\,  Dolany174
SUMMARY:OLK-Z: TJ Sokol Bohuňovice-TJ Šumperk\, z.s.
END:VEVENT
BEGIN:VEVENT
UID:32626133-3166-4232-a662-373262363535
DTSTAMP:20260423T030611Z
DESCRIPTION:19/95 TJ Sokol Bohuňovice - TJ TATRAN LITOVEL\, z.s. 1:3 (-16\,
 -10\,20\,-23)
DTSTART;TZID=Europe/Berlin:20231210T100000
DTEND;TZID=Europe/Berlin:20231210T120000
LOCATION:ZŠ a MŠ Aloise Štěpánka\,  Dolany174
SUMMARY:OLK-Z: TJ Sokol Bohuňovice-TJ TATRAN LITOVEL\, z.s.
END:VEVENT
BEGIN:VEVENT
UID:30356631-3761-4533-a638-396536656632
DTSTAMP:20260423T030611Z
DESCRIPTION:20/100 TJ Sokol Bohuňovice - TJ TATRAN LITOVEL\, z.s. 0:3 (-22\
 ,-15\,-13)
DTSTART;TZID=Europe/Berlin:20231210T140000
DTEND;TZID=Europe/Berlin:20231210T160000
LOCATION:ZŠ a MŠ Aloise Štěpánka\,  Dolany174
SUMMARY:OLK-Z: TJ Sokol Bohuňovice-TJ TATRAN LITOVEL\, z.s.
END:VEVENT
BEGIN:VEVENT
UID:32643830-3861-4461-b831-303633313936
DTSTAMP:20260423T030611Z
DESCRIPTION:21/101 TJ Sokol Bohuňovice - Přerov B 0:3 (-21\,-16\,-14)
DTSTART;TZID=Europe/Berlin:20240106T100000
DTEND;TZID=Europe/Berlin:20240106T120000
LOCATION:ZŠ a MŠ Aloise Štěpánka\,  Dolany174
SUMMARY:OLK-Z: TJ Sokol Bohuňovice-Přerov B
END:VEVENT
BEGIN:VEVENT
UID:38326137-6237-4036-a137-373866343136
DTSTAMP:20260423T030611Z
DESCRIPTION:22/106 TJ Sokol Bohuňovice - Přerov B 1:3 (-20\,-13\,22\,-21)
DTSTART;TZID=Europe/Berlin:20240106T140000
DTEND;TZID=Europe/Berlin:20240106T160000
LOCATION:ZŠ a MŠ Aloise Štěpánka\,  Dolany174
SUMMARY:OLK-Z: TJ Sokol Bohuňovice-Přerov B
END:VEVENT
BEGIN:VEVENT
UID:35353264-3931-4066-a230-656432373635
DTSTAMP:20260423T030611Z
DESCRIPTION:23/115 TJ Sokol Bohuňovice - Klub rekreačního sportu Uničov\, s
 polek 3:2 (-17\,-23\,21\,14\,6)
DTSTART;TZID=Europe/Berlin:20240114T100000
DTEND;TZID=Europe/Berlin:20240114T120000
LOCATION:ZŠ a MŠ Aloise Štěpánka\,  Dolany174
SUMMARY:OLK-Z: TJ Sokol Bohuňovice-Klub rekreačního sportu Uničov\, spolek
END:VEVENT
BEGIN:VEVENT
UID:36326639-6330-4333-a531-303165336130
DTSTAMP:20260423T030611Z
DESCRIPTION:24/120 TJ Sokol Bohuňovice - Klub rekreačního sportu Uničov\, s
 polek 0:3 (-21\,-18\,-20)
DTSTART;TZID=Europe/Berlin:20240114T140000
DTEND;TZID=Europe/Berlin:20240114T160000
LOCATION:ZŠ a MŠ Aloise Štěpánka\,  Dolany174
SUMMARY:OLK-Z: TJ Sokol Bohuňovice-Klub rekreačního sportu Uničov\, spolek
END:VEVENT
BEGIN:VEVENT
UID:38316561-3738-4165-a338-666435653538
DTSTAMP:20260423T030611Z
DESCRIPTION:25/122 TJ Sokol Bohuňovice - TJ OP Prostějov 3:0 (15\,14\,22)
DTSTART;TZID=Europe/Berlin:20240127T100000
DTEND;TZID=Europe/Berlin:20240127T120000
LOCATION:ZŠ a MŠ Aloise Štěpánka\,  Dolany174
SUMMARY:OLK-Z: TJ Sokol Bohuňovice-TJ OP Prostějov
END:VEVENT
BEGIN:VEVENT
UID:38386563-3763-4233-a530-656462616633
DTSTAMP:20260423T030611Z
DESCRIPTION:26/127 TJ Sokol Bohuňovice - TJ OP Prostějov 3:0 (17\,20\,12)
DTSTART;TZID=Europe/Berlin:20240127T140000
DTEND;TZID=Europe/Berlin:20240127T160000
LOCATION:ZŠ a MŠ Aloise Štěpánka\,  Dolany174
SUMMARY:OLK-Z: TJ Sokol Bohuňovice-TJ OP Prostějov
END:VEVENT
BEGIN:VEVENT
UID:66353135-3632-4365-b664-313036633437
DTSTAMP:20260423T030611Z
DESCRIPTION:29/143 TJ Sokol Bohuňovice - VK Prostějov C 3:1 (16\,19\,-10\,1
 2)
DTSTART;TZID=Europe/Berlin:20240211T090000
DTEND;TZID=Europe/Berlin:20240211T110000
LOCATION:ZŠ a MŠ Aloise Štěpánka\,  Dolany174
SUMMARY:OLK-Z: TJ Sokol Bohuňovice-VK Prostějov C
END:VEVENT
BEGIN:VEVENT
UID:65386631-3531-4831-b063-326366333733
DTSTAMP:20260423T030611Z
DESCRIPTION:30/148 TJ Sokol Bohuňovice - VK Prostějov C 3:0 (1\,0\,0)
DTSTART;TZID=Europe/Berlin:20240211T130000
DTEND;TZID=Europe/Berlin:20240211T150000
LOCATION:ZŠ a MŠ Aloise Štěpánka\,  Dolany174
SUMMARY:OLK-Z: TJ Sokol Bohuňovice-VK Prostějov C
END:VEVENT
BEGIN:VEVENT
UID:63303861-3263-4165-b965-373561373536
DTSTAMP:20260423T030611Z
DESCRIPTION:33/164 TJ Sokol Bohuňovice - TJ Slavoj Loštice\, z.s. 1:3 (-12\
 ,25\,-23\,-16)
DTSTART;TZID=Europe/Berlin:20240310T100000
DTEND;TZID=Europe/Berlin:20240310T120000
LOCATION:ZŠ a MŠ Aloise Štěpánka\,  Dolany174
SUMMARY:OLK-Z: TJ Sokol Bohuňovice-TJ Slavoj Loštice\, z.s.
END:VEVENT
BEGIN:VEVENT
UID:61663964-6434-4266-a337-653532633338
DTSTAMP:20260423T030611Z
DESCRIPTION:34/169 TJ Sokol Bohuňovice - TJ Slavoj Loštice\, z.s. 0:3 (-20\
 ,-19\,-14)
DTSTART;TZID=Europe/Berlin:20240310T140000
DTEND;TZID=Europe/Berlin:20240310T160000
LOCATION:ZŠ a MŠ Aloise Štěpánka\,  Dolany174
SUMMARY:OLK-Z: TJ Sokol Bohuňovice-TJ Slavoj Loštice\, z.s.
END:VEVENT
BEGIN:VEVENT
UID:35623031-6235-4362-b339-303266376664
DTSTAMP:20260423T030611Z
DESCRIPTION:1/5 TJ TATRAN LITOVEL\, z.s. - TJ Sokol Bohuňovice 0:3 (-21\,-1
 8\,-22)
DTSTART;TZID=Europe/Berlin:20230909T100000
DTEND;TZID=Europe/Berlin:20230909T120000
LOCATION:Hala ZŠ Vítězná Litovel\, Vítězná 1250 Litovel
SUMMARY:OLK-Z: TJ TATRAN LITOVEL\, z.s.-TJ Sokol Bohuňovice
END:VEVENT
BEGIN:VEVENT
UID:61636336-3761-4762-a164-643566386531
DTSTAMP:20260423T030611Z
DESCRIPTION:2/10 TJ TATRAN LITOVEL\, z.s. - TJ Sokol Bohuňovice 2:3 (16\,17
 \,-19\,-22\,-13)
DTSTART;TZID=Europe/Berlin:20230909T140000
DTEND;TZID=Europe/Berlin:20230909T160000
LOCATION:Hala ZŠ Vítězná Litovel\, Vítězná 1250 Litovel
SUMMARY:OLK-Z: TJ TATRAN LITOVEL\, z.s.-TJ Sokol Bohuňovice
END:VEVENT
BEGIN:VEVENT
UID:61393538-3138-4161-a463-313032346361
DTSTAMP:20260423T030611Z
DESCRIPTION:3/11 Přerov B - TJ Sokol Bohuňovice 3:0 (19\,10\,22)
DTSTART;TZID=Europe/Berlin:20230916T090000
DTEND;TZID=Europe/Berlin:20230916T110000
LOCATION:Městská sportovní hala\, Petřivalského 2884 Přerov - Přerov I-Měst
 o
SUMMARY:OLK-Z: Přerov B-TJ Sokol Bohuňovice
END:VEVENT
BEGIN:VEVENT
UID:37376132-3031-4764-b963-383338353134
DTSTAMP:20260423T030611Z
DESCRIPTION:4/16 Přerov B - TJ Sokol Bohuňovice 3:0 (15\,15\,13)
DTSTART;TZID=Europe/Berlin:20230916T130000
DTEND;TZID=Europe/Berlin:20230916T150000
LOCATION:Městská sportovní hala\, Petřivalského 2884 Přerov - Přerov I-Měst
 o
SUMMARY:OLK-Z: Přerov B-TJ Sokol Bohuňovice
END:VEVENT
BEGIN:VEVENT
UID:66666664-6362-4639-b033-616632343562
DTSTAMP:20260423T030611Z
DESCRIPTION:5/25 Klub rekreačního sportu Uničov\, spolek - TJ Sokol Bohuňov
 ice 1:3 (-23\,-24\,20\,-21)
DTSTART;TZID=Europe/Berlin:20230930T100000
DTEND;TZID=Europe/Berlin:20230930T120000
LOCATION:tělocvična\, U Stadionu 849 Uničov
SUMMARY:OLK-Z: Klub rekreačního sportu Uničov\, spolek-TJ Sokol Bohuňovice
END:VEVENT
BEGIN:VEVENT
UID:36653632-6662-4536-b334-303732323538
DTSTAMP:20260423T030611Z
DESCRIPTION:6/30 Klub rekreačního sportu Uničov\, spolek - TJ Sokol Bohuňov
 ice 3:2 (14\,22\,-22\,-16\,12)
DTSTART;TZID=Europe/Berlin:20230930T140000
DTEND;TZID=Europe/Berlin:20230930T160000
LOCATION:tělocvična\, U Stadionu 849 Uničov
SUMMARY:OLK-Z: Klub rekreačního sportu Uničov\, spolek-TJ Sokol Bohuňovice
END:VEVENT
BEGIN:VEVENT
UID:64643961-6564-4139-a438-323564666435
DTSTAMP:20260423T030611Z
DESCRIPTION:7/32 TJ OP Prostějov - TJ Sokol Bohuňovice 1:3 (-23\,-26\,18\,-
 19)
DTSTART;TZID=Europe/Berlin:20231007T100000
DTEND;TZID=Europe/Berlin:20231007T120000
LOCATION:Letní hala u zimního stadionu\, Kostelecká 3113 Prostějov
SUMMARY:OLK-Z: TJ OP Prostějov-TJ Sokol Bohuňovice
END:VEVENT
BEGIN:VEVENT
UID:64646637-6335-4863-a464-653961316331
DTSTAMP:20260423T030611Z
DESCRIPTION:8/37 TJ OP Prostějov - TJ Sokol Bohuňovice 2:3 (-13\,18\,22\,-1
 5\,-10)
DTSTART;TZID=Europe/Berlin:20231007T140000
DTEND;TZID=Europe/Berlin:20231007T160000
LOCATION:Letní hala u zimního stadionu\, Kostelecká 3113 Prostějov
SUMMARY:OLK-Z: TJ OP Prostějov-TJ Sokol Bohuňovice
END:VEVENT
BEGIN:VEVENT
UID:36336136-6239-4330-b439-616132393032
DTSTAMP:20260423T030612Z
DESCRIPTION:11/53 VK Prostějov C - TJ Sokol Bohuňovice 3:0 (18\,14\,23)
DTSTART;TZID=Europe/Berlin:20231028T100000
DTEND;TZID=Europe/Berlin:20231028T120000
LOCATION:Národní sportovní centrum\, Za velodromem 4187 Prostějov
SUMMARY:OLK-Z: VK Prostějov C-TJ Sokol Bohuňovice
END:VEVENT
BEGIN:VEVENT
UID:37353438-6235-4533-b138-383165613236
DTSTAMP:20260423T030612Z
DESCRIPTION:12/58 VK Prostějov C - TJ Sokol Bohuňovice 1:3 (-21\,21\,-24\,-
 22)
DTSTART;TZID=Europe/Berlin:20231028T140000
DTEND;TZID=Europe/Berlin:20231028T160000
LOCATION:Národní sportovní centrum\, Za velodromem 4187 Prostějov
SUMMARY:OLK-Z: VK Prostějov C-TJ Sokol Bohuňovice
END:VEVENT
BEGIN:VEVENT
UID:38346265-3537-4262-b837-626163626236
DTSTAMP:20260423T030612Z
DESCRIPTION:15/74 TJ Slavoj Loštice\, z.s. - TJ Sokol Bohuňovice 3:1 (21\,-
 23\,23\,26)
DTSTART;TZID=Europe/Berlin:20231125T100000
DTEND;TZID=Europe/Berlin:20231125T120000
LOCATION:Hala ZŠ Loštice\, Komenského 17 Loštice
SUMMARY:OLK-Z: TJ Slavoj Loštice\, z.s.-TJ Sokol Bohuňovice
END:VEVENT
BEGIN:VEVENT
UID:39386261-6338-4566-a261-386133623334
DTSTAMP:20260423T030612Z
DESCRIPTION:16/79 TJ Slavoj Loštice\, z.s. - TJ Sokol Bohuňovice 2:3 (-15\,
 23\,-23\,18\,-3)
DTSTART;TZID=Europe/Berlin:20231125T140000
DTEND;TZID=Europe/Berlin:20231125T160000
LOCATION:Hala ZŠ Loštice\, Komenského 17 Loštice
SUMMARY:OLK-Z: TJ Slavoj Loštice\, z.s.-TJ Sokol Bohuňovice
END:VEVENT
BEGIN:VEVENT
UID:32616264-3263-4537-a135-666336623461
DTSTAMP:20260423T030612Z
DESCRIPTION:27/134 Olomouc UP B - TJ Sokol Bohuňovice 3:0 (16\,18\,16)
DTSTART;TZID=Europe/Berlin:20240203T100000
DTEND;TZID=Europe/Berlin:20240203T120000
LOCATION:Tělocvična SŠGaS\, Šířava 670 Přerov - Přerov I-Město
SUMMARY:OLK-Z: Olomouc UP B-TJ Sokol Bohuňovice
END:VEVENT
BEGIN:VEVENT
UID:66633439-3665-4131-a435-343037303061
DTSTAMP:20260423T030612Z
DESCRIPTION:28/139 Olomouc UP B - TJ Sokol Bohuňovice 2:3 (-22\,21\,18\,-22
 \,-14)
DTSTART;TZID=Europe/Berlin:20240203T140000
DTEND;TZID=Europe/Berlin:20240203T160000
LOCATION:Tělocvična SŠGaS\, Šířava 670 Přerov - Přerov I-Město
SUMMARY:OLK-Z: Olomouc UP B-TJ Sokol Bohuňovice
END:VEVENT
BEGIN:VEVENT
UID:39316130-3233-4564-b363-663835623333
DTSTAMP:20260423T030612Z
DESCRIPTION:31/153 SK Kojetín 2016\, z.s. - TJ Sokol Bohuňovice 2:3 (19\,22
 \,-17\,-20\,-10)
DTSTART;TZID=Europe/Berlin:20240224T100000
DTEND;TZID=Europe/Berlin:20240224T120000
LOCATION:Městská sportovní hala\, Hanusíkova 1476 Kojetín - Kojetín I-Město
SUMMARY:OLK-Z: SK Kojetín 2016\, z.s.-TJ Sokol Bohuňovice
END:VEVENT
BEGIN:VEVENT
UID:65393666-3238-4730-a464-373663393233
DTSTAMP:20260423T030612Z
DESCRIPTION:32/158 SK Kojetín 2016\, z.s. - TJ Sokol Bohuňovice 3:1 (-21\,1
 3\,20\,22)
DTSTART;TZID=Europe/Berlin:20240224T140000
DTEND;TZID=Europe/Berlin:20240224T160000
LOCATION:Městská sportovní hala\, Hanusíkova 1476 Kojetín - Kojetín I-Město
SUMMARY:OLK-Z: SK Kojetín 2016\, z.s.-TJ Sokol Bohuňovice
END:VEVENT
BEGIN:VEVENT
UID:65613135-3865-4132-b962-663162653637
DTSTAMP:20260423T030612Z
DESCRIPTION:35/172 TJ Šumperk\, z.s. - TJ Sokol Bohuňovice 3:0 (19\,22\,22)
DTSTART;TZID=Europe/Berlin:20240323T100000
DTEND;TZID=Europe/Berlin:20240323T120000
LOCATION:3. ZŠ Šumperk\, 8. května 870 Šumperk
SUMMARY:OLK-Z: TJ Šumperk\, z.s.-TJ Sokol Bohuňovice
END:VEVENT
BEGIN:VEVENT
UID:34323038-3435-4237-b832-616664313564
DTSTAMP:20260423T030612Z
DESCRIPTION:36/177 TJ Šumperk\, z.s. - TJ Sokol Bohuňovice 3:0 (10\,23\,25)
DTSTART;TZID=Europe/Berlin:20240323T140000
DTEND;TZID=Europe/Berlin:20240323T160000
LOCATION:3. ZŠ Šumperk\, 8. května 870 Šumperk
SUMMARY:OLK-Z: TJ Šumperk\, z.s.-TJ Sokol Bohuňovice
END:VEVENT
END:VCALENDAR
