BEGIN:VCALENDAR
VERSION:2.0
PRODID:-//SK Volejbal Klatovy B83137//NONSGML kigkonsult.se iCalcreator 2.41.80//
CALSCALE:GREGORIAN
UID:61626537-6235-4563-a564-393266636230
BEGIN:VEVENT
UID:30623762-6136-4264-a562-646132626161
DTSTAMP:20260423T042903Z
DESCRIPTION:1/2 Klatovy B - Mirošov A 0:2 (-26\,-18)
DTSTART;TZID=Europe/Berlin:20240114T090000
DTEND;TZID=Europe/Berlin:20240114T110000
LOCATION:Hala Gymnázia Rokycany\, Mládežníků 1115 Rokycany - Nové Město
SUMMARY:P-U16Z-4B: Klatovy B-Mirošov A
END:VEVENT
BEGIN:VEVENT
UID:33623164-6632-4861-b165-646439643332
DTSTAMP:20260423T042903Z
DESCRIPTION:2/4 Klatovy B - Slavia Plzeň B 2:0 (22\,10)
DTSTART;TZID=Europe/Berlin:20240114T100000
DTEND;TZID=Europe/Berlin:20240114T120000
LOCATION:Hala Gymnázia Rokycany\, Mládežníků 1115 Rokycany - Nové Město
SUMMARY:P-U16Z-4B: Klatovy B-Slavia Plzeň B
END:VEVENT
BEGIN:VEVENT
UID:37323865-3438-4462-a462-316335383361
DTSTAMP:20260423T042903Z
DESCRIPTION:3/5 Lhota - Klatovy B 2:0 (16\,19)
DTSTART;TZID=Europe/Berlin:20240114T110000
DTEND;TZID=Europe/Berlin:20240114T130000
LOCATION:Hala Gymnázia Rokycany\, Mládežníků 1115 Rokycany - Nové Město
SUMMARY:P-U16Z-4B: Lhota-Klatovy B
END:VEVENT
BEGIN:VEVENT
UID:64356636-6333-4363-b161-346136353033
DTSTAMP:20260423T042903Z
DESCRIPTION:1/1 Domažlice - Klatovy B 2:0 (20\,17)
DTSTART;TZID=Europe/Berlin:20231105T100000
DTEND;TZID=Europe/Berlin:20231105T120000
LOCATION:Sportovní hala ZŠ Komenského Domažlice\, Komenského 17 Domažlice -
  Týnské Předměstí
SUMMARY:P-U16Z-2B: Domažlice-Klatovy B
END:VEVENT
BEGIN:VEVENT
UID:35366666-3661-4565-a131-653638316262
DTSTAMP:20260423T042903Z
DESCRIPTION:2/4 Slavia Plzeň B - Klatovy B 1:2 (12\,-13\,-9)
DTSTART;TZID=Europe/Berlin:20231105T110000
DTEND;TZID=Europe/Berlin:20231105T130000
LOCATION:Tělocvična 15.ZŠ\, Terezie Brzkové 863 Plzeň - Skvrňany
SUMMARY:P-U16Z-2B: Slavia Plzeň B-Klatovy B
END:VEVENT
BEGIN:VEVENT
UID:64356432-6138-4134-b266-396338386538
DTSTAMP:20260423T042903Z
DESCRIPTION:3/6 Vejprnice - Klatovy B 2:1 (-21\,16\,4)
DTSTART;TZID=Europe/Berlin:20231105T120000
DTEND;TZID=Europe/Berlin:20231105T140000
LOCATION:Tělocvična ZŠ Vejprnice\, Jakuba Husníka 527 Vejprnice
SUMMARY:P-U16Z-2B: Vejprnice-Klatovy B
END:VEVENT
BEGIN:VEVENT
UID:66326133-3837-4834-b761-626230656137
DTSTAMP:20260423T042903Z
DESCRIPTION:3/6 Klatovy B - Mirošov A 2:0 (22\,24)
DTSTART;TZID=Europe/Berlin:20231203T120000
DTEND;TZID=Europe/Berlin:20231203T140000
LOCATION:Sportovní hala ZŠ Čapkova\, Čapkova 136 Klatovy - Klatovy V
SUMMARY:P-U16Z-3B: Klatovy B-Mirošov A
END:VEVENT
BEGIN:VEVENT
UID:36653939-3537-4363-b934-306633666661
DTSTAMP:20260423T042903Z
DESCRIPTION:1/2 Vejprnice - Klatovy B 2:1 (-16\,13\,7)
DTSTART;TZID=Europe/Berlin:20231203T100000
DTEND;TZID=Europe/Berlin:20231203T120000
LOCATION:Tělocvična ZŠ Vejprnice\, Jakuba Husníka 527 Vejprnice
SUMMARY:P-U16Z-3B: Vejprnice-Klatovy B
END:VEVENT
BEGIN:VEVENT
UID:31396433-3232-4165-b533-303333333366
DTSTAMP:20260423T042903Z
DESCRIPTION:2/3 Šťáhlavy - Klatovy B 0:2 (-16\,-15)
DTSTART;TZID=Europe/Berlin:20231203T110000
DTEND;TZID=Europe/Berlin:20231203T130000
LOCATION:Sportovní hala Šťáhlavy\, U hřiště 525 Šťáhlavy
SUMMARY:P-U16Z-3B: Šťáhlavy-Klatovy B
END:VEVENT
BEGIN:VEVENT
UID:32656432-6363-4636-b334-646335373361
DTSTAMP:20260423T042903Z
DESCRIPTION:3/6 Klatovy B - Šťáhlavy 1:2 (-16\,22\,-11)
DTSTART;TZID=Europe/Berlin:20240211T120000
DTEND;TZID=Europe/Berlin:20240211T140000
LOCATION:Sportovní hala ZŠ Čapkova\, Čapkova 136 Klatovy - Klatovy V
SUMMARY:P-U16Z-5B: Klatovy B-Šťáhlavy
END:VEVENT
BEGIN:VEVENT
UID:37303638-3265-4234-a639-656337646634
DTSTAMP:20260423T042903Z
DESCRIPTION:1/2 Lhota - Klatovy B 2:0 (8\,20)
DTSTART;TZID=Europe/Berlin:20240211T100000
DTEND;TZID=Europe/Berlin:20240211T120000
LOCATION:Sokolovna Lhota\, Kolem Zahrad 558 Plzeň - Lhota
SUMMARY:P-U16Z-5B: Lhota-Klatovy B
END:VEVENT
BEGIN:VEVENT
UID:37323764-3833-4334-b436-306132623230
DTSTAMP:20260423T042903Z
DESCRIPTION:2/3 Vejprnice - Klatovy B 2:0 (21\,18)
DTSTART;TZID=Europe/Berlin:20240211T110000
DTEND;TZID=Europe/Berlin:20240211T130000
LOCATION:Tělocvična ZŠ Vejprnice\, Jakuba Husníka 527 Vejprnice
SUMMARY:P-U16Z-5B: Vejprnice-Klatovy B
END:VEVENT
BEGIN:VEVENT
UID:31346430-6334-4436-a664-633338613661
DTSTAMP:20260423T042903Z
DESCRIPTION:1/1 Klatovy B - Mirošov B 2:0 (6\,18)
DTSTART;TZID=Europe/Berlin:20240303T100000
DTEND;TZID=Europe/Berlin:20240303T120000
LOCATION:Sportovní hala ZŠ Čapkova\, Čapkova 136 Klatovy - Klatovy V
SUMMARY:P-U16Z-6C: Klatovy B-Mirošov B
END:VEVENT
BEGIN:VEVENT
UID:66616331-6331-4437-a230-383435363437
DTSTAMP:20260423T042903Z
DESCRIPTION:2/3 Klatovy B - Rokycany 2:0 (17\,16)
DTSTART;TZID=Europe/Berlin:20240303T110000
DTEND;TZID=Europe/Berlin:20240303T130000
LOCATION:Sportovní hala ZŠ Čapkova\, Čapkova 136 Klatovy - Klatovy V
SUMMARY:P-U16Z-6C: Klatovy B-Rokycany
END:VEVENT
BEGIN:VEVENT
UID:36373065-3232-4366-a330-633139366630
DTSTAMP:20260423T042903Z
DESCRIPTION:3/5 Klatovy B - Město Touškov 2:1 (-18\,24\,11)
DTSTART;TZID=Europe/Berlin:20240303T120000
DTEND;TZID=Europe/Berlin:20240303T140000
LOCATION:Sportovní hala ZŠ Čapkova\, Čapkova 136 Klatovy - Klatovy V
SUMMARY:P-U16Z-6C: Klatovy B-Město Touškov
END:VEVENT
END:VCALENDAR
