BEGIN:VCALENDAR
VERSION:2.0
PRODID:-//Lokomotiva Fosfa Břeclav83173//NONSGML kigkonsult.se iCalcreator 2.41.80//
CALSCALE:GREGORIAN
UID:34666538-6233-4064-b936-646334613265
BEGIN:VEVENT
UID:34323764-6132-4066-a335-366635306665
DTSTAMP:20260422T093650Z
DESCRIPTION:5/6 Lokomotiva Fosfa Břeclav - VK Raškovice 0:2 (-16\,-24)
DTSTART;TZID=Europe/Berlin:20230923T144500
DTEND;TZID=Europe/Berlin:20230923T164500
LOCATION:TJ Lokomotiva Břeclav\, Veslařská 2753 Břeclav
SUMMARY:CP-U16Z-V1E: Lokomotiva Fosfa Břeclav-VK Raškovice
END:VEVENT
BEGIN:VEVENT
UID:37623432-6365-4433-b962-333666323236
DTSTAMP:20260422T093650Z
DESCRIPTION:6/8 Lokomotiva Fosfa Břeclav - VK Napajedla 2:0 (17\,18)
DTSTART;TZID=Europe/Berlin:20230923T160000
DTEND;TZID=Europe/Berlin:20230923T180000
LOCATION:TJ Lokomotiva Břeclav\, Veslařská 2753 Břeclav
SUMMARY:CP-U16Z-V1E: Lokomotiva Fosfa Břeclav-VK Napajedla
END:VEVENT
BEGIN:VEVENT
UID:32306139-3461-4835-b261-353063313731
DTSTAMP:20260422T093650Z
DESCRIPTION:3/3 TJ Slovácká Slavia U. Hradiště - Lokomotiva Fosfa Břeclav 1
 :2 (20\,-20\,-11)
DTSTART;TZID=Europe/Berlin:20230923T121500
DTEND;TZID=Europe/Berlin:20230923T141500
LOCATION:Městská sportovní hala\, Stonky 860 Uherské Hradiště
SUMMARY:CP-U16Z-V1E: TJ Slovácká Slavia U. Hradiště-Lokomotiva Fosfa Břecla
 v
END:VEVENT
BEGIN:VEVENT
UID:66663336-3166-4366-b235-663538383462
DTSTAMP:20260422T093650Z
DESCRIPTION:8/11 Volejbal Vyškov D - Lokomotiva Fosfa Břeclav 1:2 (21\,-15\
 ,-15)
DTSTART;TZID=Europe/Berlin:20230924T083000
DTEND;TZID=Europe/Berlin:20230924T103000
LOCATION:Tělocvična ZŠ Nádražní\, Nádražní 5 Vyškov - Vyškov-Město
SUMMARY:CP-U16Z-V1E: Volejbal Vyškov D-Lokomotiva Fosfa Břeclav
END:VEVENT
BEGIN:VEVENT
UID:33656566-3162-4532-a461-386139313561
DTSTAMP:20260422T093650Z
DESCRIPTION:10/13 KP Brno A - Lokomotiva Fosfa Břeclav 2:0 (14\,15)
DTSTART;TZID=Europe/Berlin:20230924T111500
DTEND;TZID=Europe/Berlin:20230924T131500
LOCATION:Sportovní gymnázium Ludvíka Daňka\, Botanická 63 Brno - Ponava
SUMMARY:CP-U16Z-V1E: KP Brno A-Lokomotiva Fosfa Břeclav
END:VEVENT
BEGIN:VEVENT
UID:63633638-3463-4461-b364-366438633832
DTSTAMP:20260422T093650Z
DESCRIPTION:3/5 Lokomotiva Fosfa Břeclav - TJ Jičín 1:2 (-20\,22\,-11)
DTSTART;TZID=Europe/Berlin:20231014T123000
DTEND;TZID=Europe/Berlin:20231014T143000
LOCATION:TJ Lokomotiva Břeclav\, Veslařská 2753 Břeclav
SUMMARY:CP-U16Z-V2D: Lokomotiva Fosfa Břeclav-TJ Jičín
END:VEVENT
BEGIN:VEVENT
UID:34613632-3564-4861-b037-336466343361
DTSTAMP:20260422T093650Z
DESCRIPTION:5/10 Lokomotiva Fosfa Břeclav - VoCe 0:2 (-17\,-20)
DTSTART;TZID=Europe/Berlin:20231014T144500
DTEND;TZID=Europe/Berlin:20231014T164500
LOCATION:TJ Lokomotiva Břeclav\, Veslařská 2753 Břeclav
SUMMARY:CP-U16Z-V2D: Lokomotiva Fosfa Břeclav-VoCe
END:VEVENT
BEGIN:VEVENT
UID:38356536-3738-4536-a462-656631306334
DTSTAMP:20260422T093650Z
DESCRIPTION:9/18 Lokomotiva Fosfa Břeclav - Orel Letohrad 2:1 (19\,-19\,10)
DTSTART;TZID=Europe/Berlin:20231015T101500
DTEND;TZID=Europe/Berlin:20231015T121500
LOCATION:TJ Lokomotiva Břeclav\, Veslařská 2753 Břeclav
SUMMARY:CP-U16Z-V2D: Lokomotiva Fosfa Břeclav-Orel Letohrad
END:VEVENT
BEGIN:VEVENT
UID:36616666-3838-4362-b837-383866623134
DTSTAMP:20260422T093650Z
DESCRIPTION:2/4 Volejbal Znojmo - Lokomotiva Fosfa Břeclav 2:0 (22\,24)
DTSTART;TZID=Europe/Berlin:20231014T111500
DTEND;TZID=Europe/Berlin:20231014T131500
LOCATION:Tělocvična ZŠ Prokopa Diviše a MŠ\, Ke Škole 569 Znojmo - Přímětic
 e
SUMMARY:CP-U16Z-V2D: Volejbal Znojmo-Lokomotiva Fosfa Břeclav
END:VEVENT
BEGIN:VEVENT
UID:31343763-3166-4336-a538-386635366663
DTSTAMP:20260422T093650Z
DESCRIPTION:7/13 SVK Nový Jičín - Lokomotiva Fosfa Břeclav 2:0 (15\,20)
DTSTART;TZID=Europe/Berlin:20231014T171500
DTEND;TZID=Europe/Berlin:20231014T191500
LOCATION:Hala ABC\, Purkyňova 116 Nový Jičín
SUMMARY:CP-U16Z-V2D: SVK Nový Jičín-Lokomotiva Fosfa Břeclav
END:VEVENT
BEGIN:VEVENT
UID:39363362-3365-4163-b636-383364303664
DTSTAMP:20260422T093650Z
DESCRIPTION:8/15 Sokol Pouchov - Lokomotiva Fosfa Břeclav 0:2 (-18\,-20)
DTSTART;TZID=Europe/Berlin:20231015T090000
DTEND;TZID=Europe/Berlin:20231015T110000
LOCATION:Hala Pouchov\, K Sokolovně 544 Hradec Králové - Pouchov
SUMMARY:CP-U16Z-V2D: Sokol Pouchov-Lokomotiva Fosfa Břeclav
END:VEVENT
BEGIN:VEVENT
UID:66643130-3661-4266-a531-373032646165
DTSTAMP:20260422T093650Z
DESCRIPTION:1/2 Lokomotiva Fosfa Břeclav - Volejbal Vyškov D 2:0 (10\,16)
DTSTART;TZID=Europe/Berlin:20231118T100000
DTEND;TZID=Europe/Berlin:20231118T120000
LOCATION:TJ Lokomotiva Břeclav\, Veslařská 2753 Břeclav
SUMMARY:CP-U16Z-V3E: Lokomotiva Fosfa Břeclav-Volejbal Vyškov D
END:VEVENT
BEGIN:VEVENT
UID:33303562-3634-4731-a666-643038613632
DTSTAMP:20260422T093650Z
DESCRIPTION:4/8 Lokomotiva Fosfa Břeclav - Volejbal Vyškov C 2:0 (12\,20)
DTSTART;TZID=Europe/Berlin:20231118T133000
DTEND;TZID=Europe/Berlin:20231118T153000
LOCATION:TJ Lokomotiva Břeclav\, Veslařská 2753 Břeclav
SUMMARY:CP-U16Z-V3E: Lokomotiva Fosfa Břeclav-Volejbal Vyškov C
END:VEVENT
BEGIN:VEVENT
UID:61616566-6663-4739-a366-316237653332
DTSTAMP:20260422T093650Z
DESCRIPTION:8/15 Lokomotiva Fosfa Břeclav - Volejbal Přerov 2:0 (18\,13)
DTSTART;TZID=Europe/Berlin:20231119T091500
DTEND;TZID=Europe/Berlin:20231119T111500
LOCATION:TJ Lokomotiva Břeclav\, Veslařská 2753 Břeclav
SUMMARY:CP-U16Z-V3E: Lokomotiva Fosfa Břeclav-Volejbal Přerov
END:VEVENT
BEGIN:VEVENT
UID:65366363-3932-4532-b231-313462373362
DTSTAMP:20260422T093650Z
DESCRIPTION:5/10 Sokol Pouchov - Lokomotiva Fosfa Břeclav 2:1 (-22\,19\,12)
DTSTART;TZID=Europe/Berlin:20231118T144500
DTEND;TZID=Europe/Berlin:20231118T164500
LOCATION:Hala Pouchov\, K Sokolovně 544 Hradec Králové - Pouchov
SUMMARY:CP-U16Z-V3E: Sokol Pouchov-Lokomotiva Fosfa Břeclav
END:VEVENT
BEGIN:VEVENT
UID:33326236-6330-4737-a462-643763656565
DTSTAMP:20260422T093650Z
DESCRIPTION:7/14 TJ Žďár nad Sázavou - Lokomotiva Fosfa Břeclav 0:2 (-16\,-
 19)
DTSTART;TZID=Europe/Berlin:20231118T171500
DTEND;TZID=Europe/Berlin:20231118T191500
LOCATION:ZŠ Palachova\, Palachova 1757 Žďár nad Sázavou - Žďár nad Sázavou 
 6
SUMMARY:CP-U16Z-V3E: TJ Žďár nad Sázavou-Lokomotiva Fosfa Břeclav
END:VEVENT
BEGIN:VEVENT
UID:63646533-6135-4937-b566-366661306233
DTSTAMP:20260422T093650Z
DESCRIPTION:9/17 VO TJ Lanškroun B - Lokomotiva Fosfa Břeclav 0:2 (-24\,-12
 )
DTSTART;TZID=Europe/Berlin:20231119T103000
DTEND;TZID=Europe/Berlin:20231119T123000
LOCATION:SOŠ a SOU Lanškroun\, Sokolská 288 Lanškroun - Ostrovské Předměstí
SUMMARY:CP-U16Z-V3E: VO TJ Lanškroun B-Lokomotiva Fosfa Břeclav
END:VEVENT
BEGIN:VEVENT
UID:31343263-3436-4538-b538-636238366263
DTSTAMP:20260422T093650Z
DESCRIPTION:7/13 Lokomotiva Fosfa Břeclav - SC SPIRIT Říčany 2:0 (19\,17)
DTSTART;TZID=Europe/Berlin:20240127T163000
DTEND;TZID=Europe/Berlin:20240127T183000
LOCATION:TJ Lokomotiva Břeclav\, Veslařská 2753 Břeclav
SUMMARY:CP-U16Z-F1H: Lokomotiva Fosfa Břeclav-SC SPIRIT Říčany
END:VEVENT
BEGIN:VEVENT
UID:37663138-6433-4762-a638-353532623733
DTSTAMP:20260422T093650Z
DESCRIPTION:12/24 Lokomotiva Fosfa Břeclav - VK Madeta 0:2 (-22\,-24)
DTSTART;TZID=Europe/Berlin:20240128T113000
DTEND;TZID=Europe/Berlin:20240128T133000
LOCATION:TJ Lokomotiva Břeclav\, Veslařská 2753 Břeclav
SUMMARY:CP-U16Z-F1H: Lokomotiva Fosfa Břeclav-VK Madeta
END:VEVENT
BEGIN:VEVENT
UID:32656337-3431-4134-b339-363534626434
DTSTAMP:20260422T093650Z
DESCRIPTION:1/1 VO TJ Lanškroun B - Lokomotiva Fosfa Břeclav 0:2 (-10\,-23)
DTSTART;TZID=Europe/Berlin:20240127T090000
DTEND;TZID=Europe/Berlin:20240127T110000
LOCATION:SOŠ a SOU Lanškroun\, Sokolská 288 Lanškroun - Ostrovské Předměstí
SUMMARY:CP-U16Z-F1H: VO TJ Lanškroun B-Lokomotiva Fosfa Břeclav
END:VEVENT
BEGIN:VEVENT
UID:35653334-6464-4162-a231-343531623064
DTSTAMP:20260422T093650Z
DESCRIPTION:4/7 SK Ještědská Liberec - Lokomotiva Fosfa Břeclav 2:0 (18\,18
 )
DTSTART;TZID=Europe/Berlin:20240127T124500
DTEND;TZID=Europe/Berlin:20240127T144500
LOCATION:ZŠ Ještědská\, Ještědská 354 Liberec - Liberec VIII-Dolní Hanychov
SUMMARY:CP-U16Z-F1H: SK Ještědská Liberec-Lokomotiva Fosfa Břeclav
END:VEVENT
BEGIN:VEVENT
UID:39643763-6336-4938-a638-336338613535
DTSTAMP:20260422T093650Z
DESCRIPTION:6/11 VK Karlovy Vary B - Lokomotiva Fosfa Břeclav 2:1 (13\,-19\
 ,14)
DTSTART;TZID=Europe/Berlin:20240127T151500
DTEND;TZID=Europe/Berlin:20240127T171500
LOCATION:Mattoni Arena Hala míčových sportů\, Západní 1812 Karlovy Vary
SUMMARY:CP-U16Z-F1H: VK Karlovy Vary B-Lokomotiva Fosfa Břeclav
END:VEVENT
BEGIN:VEVENT
UID:63666638-3762-4835-b537-653963343034
DTSTAMP:20260422T093650Z
DESCRIPTION:10/19 Sokol Pouchov - Lokomotiva Fosfa Břeclav 0:2 (-18\,-26)
DTSTART;TZID=Europe/Berlin:20240128T090000
DTEND;TZID=Europe/Berlin:20240128T110000
LOCATION:Hala Pouchov\, K Sokolovně 544 Hradec Králové - Pouchov
SUMMARY:CP-U16Z-F1H: Sokol Pouchov-Lokomotiva Fosfa Břeclav
END:VEVENT
BEGIN:VEVENT
UID:36373164-6138-4137-b963-383532353837
DTSTAMP:20260422T093650Z
DESCRIPTION:14/28 Volejbal Vyškov D - Lokomotiva Fosfa Břeclav 2:1 (-22\,11
 \,10)
DTSTART;TZID=Europe/Berlin:20240128T140000
DTEND;TZID=Europe/Berlin:20240128T160000
LOCATION:Tělocvična ZŠ Nádražní\, Nádražní 5 Vyškov - Vyškov-Město
SUMMARY:CP-U16Z-F1H: Volejbal Vyškov D-Lokomotiva Fosfa Břeclav
END:VEVENT
BEGIN:VEVENT
UID:65316439-6539-4230-b033-626665353064
DTSTAMP:20260422T093650Z
DESCRIPTION:1/2 VK Madeta - Lokomotiva Fosfa Břeclav 2:0 (16\,15)\nhala Hoř
 ičky
DTSTART;TZID=Europe/Berlin:20240217T090000
DTEND;TZID=Europe/Berlin:20240217T110000
LOCATION:Sportovní hala\, Stromovka 1216 České Budějovice - České Budějovic
 e 2
SUMMARY:CP-U16Z-F2H: VK Madeta-Lokomotiva Fosfa Břeclav
END:VEVENT
BEGIN:VEVENT
UID:39323066-3739-4163-b332-363163623431
DTSTAMP:20260422T093650Z
DESCRIPTION:3/6 VK Karlovy Vary B - Lokomotiva Fosfa Břeclav 0:2 (-16\,-22)
 \nhala Hořičky
DTSTART;TZID=Europe/Berlin:20240217T114000
DTEND;TZID=Europe/Berlin:20240217T134000
LOCATION:Mattoni Arena Hala míčových sportů\, Západní 1812 Karlovy Vary
SUMMARY:CP-U16Z-F2H: VK Karlovy Vary B-Lokomotiva Fosfa Břeclav
END:VEVENT
BEGIN:VEVENT
UID:35386563-3633-4538-b634-363062656536
DTSTAMP:20260422T093650Z
DESCRIPTION:4/8 SK Slavia Praha - volejbal - Lokomotiva Fosfa Břeclav 2:1 (
 -14\,15\,14)\nhala Hořičky
DTSTART;TZID=Europe/Berlin:20240217T130000
DTEND;TZID=Europe/Berlin:20240217T150000
LOCATION:Jana\, Vladivostocká 1460 Praha - Vršovice
SUMMARY:CP-U16Z-F2H: SK Slavia Praha - volejbal-Lokomotiva Fosfa Břeclav
END:VEVENT
BEGIN:VEVENT
UID:66613864-6661-4533-b766-653266663538
DTSTAMP:20260422T093650Z
DESCRIPTION:8/16 VSK Baník Sokolov - Lokomotiva Fosfa Břeclav 2:0 (9\,22)\n
 hala Hořičky
DTSTART;TZID=Europe/Berlin:20240217T182000
DTEND;TZID=Europe/Berlin:20240217T202000
LOCATION:Jiskra\, Maxima Gorkého 280 Sokolov
SUMMARY:CP-U16Z-F2H: VSK Baník Sokolov-Lokomotiva Fosfa Břeclav
END:VEVENT
BEGIN:VEVENT
UID:39363139-3839-4861-a539-363631343436
DTSTAMP:20260422T093650Z
DESCRIPTION:10/20 Sokol Pouchov - Lokomotiva Fosfa Břeclav 2:0 (16\,20)\nha
 la Hořičky
DTSTART;TZID=Europe/Berlin:20240218T102000
DTEND;TZID=Europe/Berlin:20240218T122000
LOCATION:Hala Pouchov\, K Sokolovně 544 Hradec Králové - Pouchov
SUMMARY:CP-U16Z-F2H: Sokol Pouchov-Lokomotiva Fosfa Břeclav
END:VEVENT
BEGIN:VEVENT
UID:39353037-3935-4438-b939-326563306263
DTSTAMP:20260422T093650Z
DESCRIPTION:12/23 SK Ruchadlo Zájezd - Lokomotiva Fosfa Břeclav 2:0 (18\,16
 )\nhala Česká Skalice
DTSTART;TZID=Europe/Berlin:20240218T130000
DTEND;TZID=Europe/Berlin:20240218T150000
LOCATION:Sportovní hala\, Sportovní 38 Česká Skalice
SUMMARY:CP-U16Z-F2H: SK Ruchadlo Zájezd-Lokomotiva Fosfa Břeclav
END:VEVENT
BEGIN:VEVENT
UID:61303561-6161-4334-b330-303761396266
DTSTAMP:20260422T093650Z
DESCRIPTION:14/28 Volejbal Přerov - Lokomotiva Fosfa Břeclav 2:0 (17\,9)\nh
 ala Hořičky
DTSTART;TZID=Europe/Berlin:20240218T154000
DTEND;TZID=Europe/Berlin:20240218T174000
LOCATION:Městská sportovní hala\, Petřivalského 2884 Přerov - Přerov I-Měst
 o
SUMMARY:CP-U16Z-F2H: Volejbal Přerov-Lokomotiva Fosfa Břeclav
END:VEVENT
BEGIN:VEVENT
UID:36386335-3139-4931-a632-373762663338
DTSTAMP:20260422T093650Z
DESCRIPTION:4/8 Lokomotiva Fosfa Břeclav - SC SPIRIT Říčany 2:1 (-20\,21\,7
 )
DTSTART;TZID=Europe/Berlin:20240316T130000
DTEND;TZID=Europe/Berlin:20240316T150000
LOCATION:TJ Lokomotiva Břeclav\, Veslařská 2753 Břeclav
SUMMARY:CP-U16Z-F3I: Lokomotiva Fosfa Břeclav-SC SPIRIT Říčany
END:VEVENT
BEGIN:VEVENT
UID:64323065-3761-4938-a666-333933623863
DTSTAMP:20260422T093650Z
DESCRIPTION:8/16 Lokomotiva Fosfa Břeclav - TJ Sokol Újezd u Brna 2:0 (23\,
 17)
DTSTART;TZID=Europe/Berlin:20240317T090000
DTEND;TZID=Europe/Berlin:20240317T110000
LOCATION:TJ Lokomotiva Břeclav\, Veslařská 2753 Břeclav
SUMMARY:CP-U16Z-F3I: Lokomotiva Fosfa Břeclav-TJ Sokol Újezd u Brna
END:VEVENT
BEGIN:VEVENT
UID:63346137-3663-4137-a232-663932353538
DTSTAMP:20260422T093650Z
DESCRIPTION:10/20 Lokomotiva Fosfa Břeclav - VO TJ Lanškroun B 1:2 (-22\,12
 \,-10)
DTSTART;TZID=Europe/Berlin:20240317T114000
DTEND;TZID=Europe/Berlin:20240317T134000
LOCATION:TJ Lokomotiva Břeclav\, Veslařská 2753 Břeclav
SUMMARY:CP-U16Z-F3I: Lokomotiva Fosfa Břeclav-VO TJ Lanškroun B
END:VEVENT
BEGIN:VEVENT
UID:64616631-3562-4936-b466-386236613034
DTSTAMP:20260422T093650Z
DESCRIPTION:1/1 VK Karlovy Vary B - Lokomotiva Fosfa Břeclav 2:0 (20\,20)\n
 hraje se hala Tubex - každý zápas označen lichým číslem
DTSTART;TZID=Europe/Berlin:20240316T090000
DTEND;TZID=Europe/Berlin:20240316T110000
LOCATION:Mattoni Arena Hala míčových sportů\, Západní 1812 Karlovy Vary
SUMMARY:CP-U16Z-F3I: VK Karlovy Vary B-Lokomotiva Fosfa Břeclav
END:VEVENT
BEGIN:VEVENT
UID:61353134-3465-4231-b764-346634363436
DTSTAMP:20260422T093650Z
DESCRIPTION:2/4 VK Hronov - Lokomotiva Fosfa Břeclav 2:1 (-21\,22\,13)\nadr
 esa tělocvičny Policie - Závodní 386/100\, 360 06 Karlovy Vary 6
DTSTART;TZID=Europe/Berlin:20240316T102000
DTEND;TZID=Europe/Berlin:20240316T122000
LOCATION:ZŠ Hronov\, Palackého 162 Hronov
SUMMARY:CP-U16Z-F3I: VK Hronov-Lokomotiva Fosfa Břeclav
END:VEVENT
BEGIN:VEVENT
UID:33343363-3633-4231-b234-623932393735
DTSTAMP:20260422T093650Z
DESCRIPTION:6/12 Loko Plzeň   B - Lokomotiva Fosfa Břeclav 2:1 (25\,-20\,10
 )
DTSTART;TZID=Europe/Berlin:20240316T154000
DTEND;TZID=Europe/Berlin:20240316T174000
LOCATION:Městská sportovní hala  -  hala 2\, Úslavská 2357 Plzeň - Východní
  Předměstí
SUMMARY:CP-U16Z-F3I: Loko Plzeň   B-Lokomotiva Fosfa Břeclav
END:VEVENT
END:VCALENDAR
