BEGIN:VCALENDAR
VERSION:2.0
PRODID:-//TJ Slovácká Slavia U. Hradiště83175//NONSGML kigkonsult.se iCalcreator 2.41.80//
CALSCALE:GREGORIAN
UID:38643338-3563-4761-b365-653338336666
BEGIN:VEVENT
UID:31356631-3632-4464-b835-613138383736
DTSTAMP:20260422T033943Z
DESCRIPTION:3/3 TJ Slovácká Slavia U. Hradiště - Lokomotiva Fosfa Břeclav 1
 :2 (20\,-20\,-11)
DTSTART;TZID=Europe/Berlin:20230923T121500
DTEND;TZID=Europe/Berlin:20230923T141500
LOCATION:Městská sportovní hala\, Stonky 860 Uherské Hradiště
SUMMARY:CP-U16Z-V1E: TJ Slovácká Slavia U. Hradiště-Lokomotiva Fosfa Břecla
 v
END:VEVENT
BEGIN:VEVENT
UID:65323535-3961-4538-a661-626635623338
DTSTAMP:20260422T033943Z
DESCRIPTION:7/9 TJ Slovácká Slavia U. Hradiště - KP Brno A 0:2 (-8\,-13)
DTSTART;TZID=Europe/Berlin:20230923T171500
DTEND;TZID=Europe/Berlin:20230923T191500
LOCATION:Městská sportovní hala\, Stonky 860 Uherské Hradiště
SUMMARY:CP-U16Z-V1E: TJ Slovácká Slavia U. Hradiště-KP Brno A
END:VEVENT
BEGIN:VEVENT
UID:65636238-6530-4236-b162-383133363265
DTSTAMP:20260422T033943Z
DESCRIPTION:9/12 TJ Slovácká Slavia U. Hradiště - VK Napajedla 2:0 (15\,8)
DTSTART;TZID=Europe/Berlin:20230924T100000
DTEND;TZID=Europe/Berlin:20230924T120000
LOCATION:Městská sportovní hala\, Stonky 860 Uherské Hradiště
SUMMARY:CP-U16Z-V1E: TJ Slovácká Slavia U. Hradiště-VK Napajedla
END:VEVENT
BEGIN:VEVENT
UID:37623233-6336-4135-a563-303438363364
DTSTAMP:20260422T033943Z
DESCRIPTION:5/7 Volejbal Vyškov D - TJ Slovácká Slavia U. Hradiště 1:2 (13\
 ,-18\,-6)
DTSTART;TZID=Europe/Berlin:20230923T144500
DTEND;TZID=Europe/Berlin:20230923T164500
LOCATION:Tělocvična ZŠ Nádražní\, Nádražní 5 Vyškov - Vyškov-Město
SUMMARY:CP-U16Z-V1E: Volejbal Vyškov D-TJ Slovácká Slavia U. Hradiště
END:VEVENT
BEGIN:VEVENT
UID:62356364-3661-4130-b632-343939323439
DTSTAMP:20260422T033943Z
DESCRIPTION:11/14 VK Raškovice - TJ Slovácká Slavia U. Hradiště 1:2 (19\,-1
 3\,-14)
DTSTART;TZID=Europe/Berlin:20230924T123000
DTEND;TZID=Europe/Berlin:20230924T143000
LOCATION:Víceúčelová sportovní hala\,  Raškovice18
SUMMARY:CP-U16Z-V1E: VK Raškovice-TJ Slovácká Slavia U. Hradiště
END:VEVENT
BEGIN:VEVENT
UID:36386530-6436-4234-b364-336134386261
DTSTAMP:20260422T033943Z
DESCRIPTION:1/2 TJ Slovácká Slavia U. Hradiště - KP Brno B 2:1 (9\,-22\,11)
DTSTART;TZID=Europe/Berlin:20231014T093000
DTEND;TZID=Europe/Berlin:20231014T113000
LOCATION:Městská sportovní hala\, Stonky 860 Uherské Hradiště
SUMMARY:CP-U16Z-V2C: TJ Slovácká Slavia U. Hradiště-KP Brno B
END:VEVENT
BEGIN:VEVENT
UID:34313863-3062-4563-a636-666563623663
DTSTAMP:20260422T033943Z
DESCRIPTION:2/4 TJ Slovácká Slavia U. Hradiště - RÉMA Rychnov 0:2 (-21\,-24
 )
DTSTART;TZID=Europe/Berlin:20231014T110000
DTEND;TZID=Europe/Berlin:20231014T130000
LOCATION:Městská sportovní hala\, Stonky 860 Uherské Hradiště
SUMMARY:CP-U16Z-V2C: TJ Slovácká Slavia U. Hradiště-RÉMA Rychnov
END:VEVENT
BEGIN:VEVENT
UID:38396364-3362-4535-b465-376536316332
DTSTAMP:20260422T033943Z
DESCRIPTION:4/7 TJ Slovácká Slavia U. Hradiště - TJ Jiskra Havlíčkův Brod 1
 :2 (23\,-22\,-9)
DTSTART;TZID=Europe/Berlin:20231014T140000
DTEND;TZID=Europe/Berlin:20231014T160000
LOCATION:Městská sportovní hala\, Stonky 860 Uherské Hradiště
SUMMARY:CP-U16Z-V2C: TJ Slovácká Slavia U. Hradiště-TJ Jiskra Havlíčkův Bro
 d
END:VEVENT
BEGIN:VEVENT
UID:30383734-6138-4361-b334-633532336165
DTSTAMP:20260422T033943Z
DESCRIPTION:5/10 TJ Slovácká Slavia U. Hradiště - VSC Zlín 0:2 (-11\,-15)
DTSTART;TZID=Europe/Berlin:20231014T153000
DTEND;TZID=Europe/Berlin:20231014T173000
LOCATION:Městská sportovní hala\, Stonky 860 Uherské Hradiště
SUMMARY:CP-U16Z-V2C: TJ Slovácká Slavia U. Hradiště-VSC Zlín
END:VEVENT
BEGIN:VEVENT
UID:66663165-6634-4132-a537-333362663361
DTSTAMP:20260422T033943Z
DESCRIPTION:8/19 TJ Slovácká Slavia U. Hradiště - TJ Sokol Předklášteří 1:2
  (24\,-15\,-13)
DTSTART;TZID=Europe/Berlin:20231015T103000
DTEND;TZID=Europe/Berlin:20231015T123000
LOCATION:Městská sportovní hala\, Stonky 860 Uherské Hradiště
SUMMARY:CP-U16Z-V2C: TJ Slovácká Slavia U. Hradiště-TJ Sokol Předklášteří
END:VEVENT
BEGIN:VEVENT
UID:39336431-3233-4537-b963-633962353361
DTSTAMP:20260422T033943Z
DESCRIPTION:7/16 TJ Jiskra Nový Bor B - TJ Slovácká Slavia U. Hradiště 2:0 
 (20\,10)
DTSTART;TZID=Europe/Berlin:20231015T090000
DTEND;TZID=Europe/Berlin:20231015T110000
LOCATION:Sportovní hala Františka Arnošta Nový Bor\, U hřiště 1391 Nový Bor
SUMMARY:CP-U16Z-V2C: TJ Jiskra Nový Bor B-TJ Slovácká Slavia U. Hradiště
END:VEVENT
BEGIN:VEVENT
UID:62613438-6132-4237-b734-663765663430
DTSTAMP:20260422T033943Z
DESCRIPTION:1/1 TJ Slovácká Slavia U. Hradiště - SK Ruchadlo Zájezd 2:1 (-1
 7\,24\,7)\nMOA 17.listopadu 220\, Jičín
DTSTART;TZID=Europe/Berlin:20231118T100000
DTEND;TZID=Europe/Berlin:20231118T120000
LOCATION:Městská sportovní hala\, Stonky 860 Uherské Hradiště
SUMMARY:CP-U16Z-V3D: TJ Slovácká Slavia U. Hradiště-SK Ruchadlo Zájezd
END:VEVENT
BEGIN:VEVENT
UID:32333339-3138-4637-b532-623035646166
DTSTAMP:20260422T033943Z
DESCRIPTION:4/8 TJ Slovácká Slavia U. Hradiště - TJ Junior Brno 2:1 (26\,-2
 2\,9)\n1.ZŠ17.listopadu 109
DTSTART;TZID=Europe/Berlin:20231118T140000
DTEND;TZID=Europe/Berlin:20231118T160000
LOCATION:Městská sportovní hala\, Stonky 860 Uherské Hradiště
SUMMARY:CP-U16Z-V3D: TJ Slovácká Slavia U. Hradiště-TJ Junior Brno
END:VEVENT
BEGIN:VEVENT
UID:38333861-3139-4364-a162-626437366338
DTSTAMP:20260422T033943Z
DESCRIPTION:8/15 TJ Slovácká Slavia U. Hradiště - TJ Sokol Předklášteří 2:1
  (18\,-18\,6)\nMOA 17.listopadu 220\, Jičín
DTSTART;TZID=Europe/Berlin:20231119T090000
DTEND;TZID=Europe/Berlin:20231119T110000
LOCATION:Městská sportovní hala\, Stonky 860 Uherské Hradiště
SUMMARY:CP-U16Z-V3D: TJ Slovácká Slavia U. Hradiště-TJ Sokol Předklášteří
END:VEVENT
BEGIN:VEVENT
UID:63646232-3138-4638-b739-333738626533
DTSTAMP:20260422T033943Z
DESCRIPTION:3/6 Orel Letohrad - TJ Slovácká Slavia U. Hradiště 2:1 (-18\,15
 \,7)\n1.ZŠ17.listopadu 109
DTSTART;TZID=Europe/Berlin:20231118T124500
DTEND;TZID=Europe/Berlin:20231118T144500
LOCATION:TJ Spartak Letohrad\, Jilemnického 341 Letohrad
SUMMARY:CP-U16Z-V3D: Orel Letohrad-TJ Slovácká Slavia U. Hradiště
END:VEVENT
BEGIN:VEVENT
UID:32326336-3563-4066-a330-613631663361
DTSTAMP:20260422T033943Z
DESCRIPTION:7/14 TJ Jičín - TJ Slovácká Slavia U. Hradiště 2:0 (16\,24)\n1.
 ZŠ17.listopadu 109
DTSTART;TZID=Europe/Berlin:20231118T174500
DTEND;TZID=Europe/Berlin:20231118T194500
LOCATION:hala Masarykovy obchodní akademie\, 17. listopadu 220 Jičín - Vald
 ické Předměstí
SUMMARY:CP-U16Z-V3D: TJ Jičín-TJ Slovácká Slavia U. Hradiště
END:VEVENT
BEGIN:VEVENT
UID:39646262-6364-4130-b936-396537626234
DTSTAMP:20260422T033943Z
DESCRIPTION:10/19 VoCe - TJ Slovácká Slavia U. Hradiště 2:0 (18\,19)\nMOA 1
 7.listopadu 220\, Jičín
DTSTART;TZID=Europe/Berlin:20231119T114500
DTEND;TZID=Europe/Berlin:20231119T134500
LOCATION:Tělocvična ZŠ Černčice\,  Černčice68
SUMMARY:CP-U16Z-V3D: VoCe-TJ Slovácká Slavia U. Hradiště
END:VEVENT
BEGIN:VEVENT
UID:30643035-3166-4064-b264-663430636336
DTSTAMP:20260422T033943Z
DESCRIPTION:3/7 TJ Slovácká Slavia U. Hradiště - SK Španielka Řepy 1:2 (-17
 \,23\,-11)
DTSTART;TZID=Europe/Berlin:20240127T113000
DTEND;TZID=Europe/Berlin:20240127T133000
LOCATION:Městská sportovní hala\, Stonky 860 Uherské Hradiště
SUMMARY:CP-U16Z-F1F: TJ Slovácká Slavia U. Hradiště-SK Španielka Řepy
END:VEVENT
BEGIN:VEVENT
UID:30303435-6539-4337-b538-396537633561
DTSTAMP:20260422T033943Z
DESCRIPTION:6/16 TJ Slovácká Slavia U. Hradiště - Volejbal Ústí n. L. 0:2 (
 -15\,-23)
DTSTART;TZID=Europe/Berlin:20240127T150000
DTEND;TZID=Europe/Berlin:20240127T170000
LOCATION:Městská sportovní hala\, Stonky 860 Uherské Hradiště
SUMMARY:CP-U16Z-F1F: TJ Slovácká Slavia U. Hradiště-Volejbal Ústí n. L.
END:VEVENT
BEGIN:VEVENT
UID:64346563-6662-4662-b362-373136356232
DTSTAMP:20260422T033943Z
DESCRIPTION:8/22 TJ Slovácká Slavia U. Hradiště - Orel Letohrad 0:2 (-18\,-
 24)
DTSTART;TZID=Europe/Berlin:20240128T100000
DTEND;TZID=Europe/Berlin:20240128T120000
LOCATION:Městská sportovní hala\, Stonky 860 Uherské Hradiště
SUMMARY:CP-U16Z-F1F: TJ Slovácká Slavia U. Hradiště-Orel Letohrad
END:VEVENT
BEGIN:VEVENT
UID:39306231-3231-4339-a166-343034313639
DTSTAMP:20260422T033943Z
DESCRIPTION:9/25 TJ Slovácká Slavia U. Hradiště - TJ Jičín 1:2 (-22\,19\,-1
 7)
DTSTART;TZID=Europe/Berlin:20240128T110000
DTEND;TZID=Europe/Berlin:20240128T130000
LOCATION:Městská sportovní hala\, Stonky 860 Uherské Hradiště
SUMMARY:CP-U16Z-F1F: TJ Slovácká Slavia U. Hradiště-TJ Jičín
END:VEVENT
BEGIN:VEVENT
UID:33393533-6537-4265-b733-326539353034
DTSTAMP:20260422T033943Z
DESCRIPTION:1/2 Střešovice - TJ Slovácká Slavia U. Hradiště 2:1 (24\,-15\,6
 )
DTSTART;TZID=Europe/Berlin:20240127T093000
DTEND;TZID=Europe/Berlin:20240127T113000
LOCATION:TJ Tatran Střešovice\, Sibeliova 368 Praha - Střešovice
SUMMARY:CP-U16Z-F1F: Střešovice-TJ Slovácká Slavia U. Hradiště
END:VEVENT
BEGIN:VEVENT
UID:38306433-6431-4032-b461-306438336339
DTSTAMP:20260422T033943Z
DESCRIPTION:4/12 TJ ABC Braník - TJ Slovácká Slavia U. Hradiště 2:0 (22\,21
 )
DTSTART;TZID=Europe/Berlin:20240127T130000
DTEND;TZID=Europe/Berlin:20240127T150000
LOCATION:Sokolovna Braník\, Branická 275 Praha - Braník
SUMMARY:CP-U16Z-F1F: TJ ABC Braník-TJ Slovácká Slavia U. Hradiště
END:VEVENT
BEGIN:VEVENT
UID:65303032-6265-4430-a437-366238356633
DTSTAMP:20260422T033943Z
DESCRIPTION:7/19 TJ Jiskra Havlíčkův Brod - TJ Slovácká Slavia U. Hradiště 
 2:1 (16\,-13\,15)
DTSTART;TZID=Europe/Berlin:20240128T090000
DTEND;TZID=Europe/Berlin:20240128T110000
LOCATION:Sportovní hala TJ Jiskra\, Ledečská 3028 Havlíčkův Brod
SUMMARY:CP-U16Z-F1F: TJ Jiskra Havlíčkův Brod-TJ Slovácká Slavia U. Hradišt
 ě
END:VEVENT
BEGIN:VEVENT
UID:36646237-6438-4965-a131-303233326232
DTSTAMP:20260422T033943Z
DESCRIPTION:4/8 TJ Slovácká Slavia U. Hradiště - VoCe 2:1 (17\,-17\,13)\nma
 lá hala
DTSTART;TZID=Europe/Berlin:20240217T123000
DTEND;TZID=Europe/Berlin:20240217T143000
LOCATION:Městská sportovní hala\, Stonky 860 Uherské Hradiště
SUMMARY:CP-U16Z-F2G: TJ Slovácká Slavia U. Hradiště-VoCe
END:VEVENT
BEGIN:VEVENT
UID:64316438-3466-4435-b665-316237373363
DTSTAMP:20260422T033943Z
DESCRIPTION:6/12 TJ Slovácká Slavia U. Hradiště - TJ Jiskra Havlíčkův Brod 
 0:2 (-22\,-20)\nmalá hala
DTSTART;TZID=Europe/Berlin:20240217T145000
DTEND;TZID=Europe/Berlin:20240217T165000
LOCATION:Městská sportovní hala\, Stonky 860 Uherské Hradiště
SUMMARY:CP-U16Z-F2G: TJ Slovácká Slavia U. Hradiště-TJ Jiskra Havlíčkův Bro
 d
END:VEVENT
BEGIN:VEVENT
UID:39613934-3132-4235-a439-373431363764
DTSTAMP:20260422T033943Z
DESCRIPTION:7/14 TJ Slovácká Slavia U. Hradiště - TJ Sokol Předklášteří 2:0
  (14\,12)\nmalá hala
DTSTART;TZID=Europe/Berlin:20240217T160000
DTEND;TZID=Europe/Berlin:20240217T180000
LOCATION:Městská sportovní hala\, Stonky 860 Uherské Hradiště
SUMMARY:CP-U16Z-F2G: TJ Slovácká Slavia U. Hradiště-TJ Sokol Předklášteří
END:VEVENT
BEGIN:VEVENT
UID:65313666-3363-4235-a438-663431623932
DTSTAMP:20260422T033943Z
DESCRIPTION:11/21 TJ Slovácká Slavia U. Hradiště - SK Ještědská Liberec 1:2
  (-20\,10\,-10)\nmalá hala
DTSTART;TZID=Europe/Berlin:20240218T101000
DTEND;TZID=Europe/Berlin:20240218T121000
LOCATION:Městská sportovní hala\, Stonky 860 Uherské Hradiště
SUMMARY:CP-U16Z-F2G: TJ Slovácká Slavia U. Hradiště-SK Ještědská Liberec
END:VEVENT
BEGIN:VEVENT
UID:31666333-3461-4838-a237-656365663839
DTSTAMP:20260422T033943Z
DESCRIPTION:1/2 Volejbal Vyškov D - TJ Slovácká Slavia U. Hradiště 2:1 (22\
 ,-22\,11)\nmalá hala
DTSTART;TZID=Europe/Berlin:20240217T090000
DTEND;TZID=Europe/Berlin:20240217T110000
LOCATION:Tělocvična ZŠ Nádražní\, Nádražní 5 Vyškov - Vyškov-Město
SUMMARY:CP-U16Z-F2G: Volejbal Vyškov D-TJ Slovácká Slavia U. Hradiště
END:VEVENT
BEGIN:VEVENT
UID:34386665-6462-4031-b039-313334613030
DTSTAMP:20260422T033943Z
DESCRIPTION:9/17 Žatec - TJ Slovácká Slavia U. Hradiště 2:0 (13\,15)\nvelká
  hala
DTSTART;TZID=Europe/Berlin:20240217T182000
DTEND;TZID=Europe/Berlin:20240217T202000
LOCATION:Sportovní hala TJ Sever Žatec\, Plzeňská 2787 Žatec
SUMMARY:CP-U16Z-F2G: Žatec-TJ Slovácká Slavia U. Hradiště
END:VEVENT
BEGIN:VEVENT
UID:35616239-3533-4232-b634-343464303762
DTSTAMP:20260422T033943Z
DESCRIPTION:13/25 Neratovice - TJ Slovácká Slavia U. Hradiště 1:2 (19\,-18\
 ,-13)\nmalá hala
DTSTART;TZID=Europe/Berlin:20240218T123000
DTEND;TZID=Europe/Berlin:20240218T143000
LOCATION:sportovní hala TJ Neratovice \, Kpt. Jaroše 233 Neratovice
SUMMARY:CP-U16Z-F2G: Neratovice-TJ Slovácká Slavia U. Hradiště
END:VEVENT
BEGIN:VEVENT
UID:61613531-3937-4162-b161-653164646630
DTSTAMP:20260422T033943Z
DESCRIPTION:1/2 TJ Slovácká Slavia U. Hradiště - Neratovice 0:2 (-17\,-14)
DTSTART;TZID=Europe/Berlin:20240316T090000
DTEND;TZID=Europe/Berlin:20240316T110000
LOCATION:Městská sportovní hala\, Stonky 860 Uherské Hradiště
SUMMARY:CP-U16Z-F3G: TJ Slovácká Slavia U. Hradiště-Neratovice
END:VEVENT
BEGIN:VEVENT
UID:37633530-6161-4763-a264-393631386434
DTSTAMP:20260422T033943Z
DESCRIPTION:5/15 TJ Slovácká Slavia U. Hradiště - Volejbal Znojmo 2:0 (23\,
 10)
DTSTART;TZID=Europe/Berlin:20240316T144500
DTEND;TZID=Europe/Berlin:20240316T164500
LOCATION:Městská sportovní hala\, Stonky 860 Uherské Hradiště
SUMMARY:CP-U16Z-F3G: TJ Slovácká Slavia U. Hradiště-Volejbal Znojmo
END:VEVENT
BEGIN:VEVENT
UID:64393533-6633-4565-a238-326437373338
DTSTAMP:20260422T033943Z
DESCRIPTION:8/23 TJ Slovácká Slavia U. Hradiště - Volejbal Vyškov D 2:1 (-1
 6\,21\,9)
DTSTART;TZID=Europe/Berlin:20240317T090000
DTEND;TZID=Europe/Berlin:20240317T110000
LOCATION:Městská sportovní hala\, Stonky 860 Uherské Hradiště
SUMMARY:CP-U16Z-F3G: TJ Slovácká Slavia U. Hradiště-Volejbal Vyškov D
END:VEVENT
BEGIN:VEVENT
UID:64643566-3262-4264-b332-366331626330
DTSTAMP:20260422T033943Z
DESCRIPTION:2/5 SK Ještědská Liberec - TJ Slovácká Slavia U. Hradiště 0:2 (
 -20\,-21)
DTSTART;TZID=Europe/Berlin:20240316T101500
DTEND;TZID=Europe/Berlin:20240316T121500
LOCATION:ZŠ Ještědská\, Ještědská 354 Liberec - Liberec VIII-Dolní Hanychov
SUMMARY:CP-U16Z-F3G: SK Ještědská Liberec-TJ Slovácká Slavia U. Hradiště
END:VEVENT
BEGIN:VEVENT
UID:62353366-3762-4562-b733-373863353261
DTSTAMP:20260422T033943Z
DESCRIPTION:4/10 VK Madeta - TJ Slovácká Slavia U. Hradiště 2:0 (21\,23)
DTSTART;TZID=Europe/Berlin:20240316T133000
DTEND;TZID=Europe/Berlin:20240316T153000
LOCATION:Sportovní hala\, Stromovka 1216 České Budějovice - České Budějovic
 e 2
SUMMARY:CP-U16Z-F3G: VK Madeta-TJ Slovácká Slavia U. Hradiště
END:VEVENT
BEGIN:VEVENT
UID:30353265-3564-4134-b034-363432633465
DTSTAMP:20260422T033943Z
DESCRIPTION:7/20 Volejbal Přerov - TJ Slovácká Slavia U. Hradiště 2:1 (-13\
 ,17\,6)
DTSTART;TZID=Europe/Berlin:20240316T171500
DTEND;TZID=Europe/Berlin:20240316T191500
LOCATION:Městská sportovní hala\, Petřivalského 2884 Přerov - Přerov I-Měst
 o
SUMMARY:CP-U16Z-F3G: Volejbal Přerov-TJ Slovácká Slavia U. Hradiště
END:VEVENT
BEGIN:VEVENT
UID:38326666-3637-4635-b435-316637326162
DTSTAMP:20260422T033943Z
DESCRIPTION:9/26 Střešovice - TJ Slovácká Slavia U. Hradiště 2:1 (-16\,19\,
 3)
DTSTART;TZID=Europe/Berlin:20240317T101500
DTEND;TZID=Europe/Berlin:20240317T121500
LOCATION:TJ Tatran Střešovice\, Sibeliova 368 Praha - Střešovice
SUMMARY:CP-U16Z-F3G: Střešovice-TJ Slovácká Slavia U. Hradiště
END:VEVENT
END:VCALENDAR
