BEGIN:VCALENDAR
VERSION:2.0
PRODID:-//SK TŘEBÍN83177//NONSGML kigkonsult.se iCalcreator 2.41.80//
CALSCALE:GREGORIAN
UID:63326632-3534-4134-b437-653538663732
BEGIN:VEVENT
UID:31356335-3737-4736-a165-366562343533
DTSTAMP:20260422T033947Z
DESCRIPTION:3/5 SK Třebín - SC SPIRIT Říčany 1:2 (-15\,23\,-9)
DTSTART;TZID=Europe/Berlin:20230923T114000
DTEND;TZID=Europe/Berlin:20230923T134000
LOCATION:ZŠ Máj I\, M. Chlajna 1319 České Budějovice - České Budějovice 2
SUMMARY:CP-U16Z-Z1D: SK Třebín-SC SPIRIT Říčany
END:VEVENT
BEGIN:VEVENT
UID:37333666-3563-4463-b433-636563373130
DTSTAMP:20260422T033947Z
DESCRIPTION:7/11 SK Třebín - Neratovice 0:2 (-18\,-10)
DTSTART;TZID=Europe/Berlin:20230924T090000
DTEND;TZID=Europe/Berlin:20230924T110000
LOCATION:ZŠ Máj I\, M. Chlajna 1319 České Budějovice - České Budějovice 2
SUMMARY:CP-U16Z-Z1D: SK Třebín-Neratovice
END:VEVENT
BEGIN:VEVENT
UID:32393363-6335-4861-a638-636630626530
DTSTAMP:20260422T033947Z
DESCRIPTION:1/1 TJ Baník Příbram - SK Třebín 2:0 (18\,18)
DTSTART;TZID=Europe/Berlin:20230923T090000
DTEND;TZID=Europe/Berlin:20230923T110000
LOCATION:Tělocvična ZŠ Balbínova\, Balbínova 328 Příbram - Příbram II
SUMMARY:CP-U16Z-Z1D: TJ Baník Příbram-SK Třebín
END:VEVENT
BEGIN:VEVENT
UID:32623935-3365-4239-b963-626435353162
DTSTAMP:20260422T033947Z
DESCRIPTION:5/8 SK Meteor Praha - SK Třebín 2:0 (24\,25)
DTSTART;TZID=Europe/Berlin:20230923T142000
DTEND;TZID=Europe/Berlin:20230923T162000
LOCATION:ZŠ Žernosecká\, Žernosecká 1597 Praha - Kobylisy
SUMMARY:CP-U16Z-Z1D: SK Meteor Praha-SK Třebín
END:VEVENT
BEGIN:VEVENT
UID:64346233-6137-4534-a434-316330333639
DTSTAMP:20260422T033947Z
DESCRIPTION:9/14 Mikulova B - SK Třebín 2:0 (12\,17)
DTSTART;TZID=Europe/Berlin:20230924T114000
DTEND;TZID=Europe/Berlin:20230924T134000
LOCATION:tělocvičny ZŠ Mikulova\, Mikulova 1594 Praha - Chodov
SUMMARY:CP-U16Z-Z1D: Mikulova B-SK Třebín
END:VEVENT
BEGIN:VEVENT
UID:36373737-3432-4736-b337-636132613836
DTSTAMP:20260422T033947Z
DESCRIPTION:1/2 SK Třebín - TJ Lokomotiva Česká Lípa 0:2 (-20\,-19)
DTSTART;TZID=Europe/Berlin:20231014T093000
DTEND;TZID=Europe/Berlin:20231014T113000
LOCATION:ZŠ Máj I\, M. Chlajna 1319 České Budějovice - České Budějovice 2
SUMMARY:CP-U16Z-Z2F: SK Třebín-TJ Lokomotiva Česká Lípa
END:VEVENT
BEGIN:VEVENT
UID:36366435-3035-4430-b466-616265653461
DTSTAMP:20260422T033947Z
DESCRIPTION:5/15 SK Třebín - TJ Sokol Brandýs n. L. 2:1 (24\,-17\,15)
DTSTART;TZID=Europe/Berlin:20231014T153000
DTEND;TZID=Europe/Berlin:20231014T173000
LOCATION:ZŠ Máj I\, M. Chlajna 1319 České Budějovice - České Budějovice 2
SUMMARY:CP-U16Z-Z2F: SK Třebín-TJ Sokol Brandýs n. L.
END:VEVENT
BEGIN:VEVENT
UID:64653061-3766-4633-b363-656661303565
DTSTAMP:20260422T033947Z
DESCRIPTION:9/24 SK Třebín - Radotín 0:2 (-10\,-25)
DTSTART;TZID=Europe/Berlin:20231015T120000
DTEND;TZID=Europe/Berlin:20231015T140000
LOCATION:ZŠ Máj I\, M. Chlajna 1319 České Budějovice - České Budějovice 2
SUMMARY:CP-U16Z-Z2F: SK Třebín-Radotín
END:VEVENT
BEGIN:VEVENT
UID:30333263-3762-4266-b531-323361313233
DTSTAMP:20260422T033947Z
DESCRIPTION:2/5 TJ Slavia Liberec - SK Třebín 1:2 (26\,-9\,-10)
DTSTART;TZID=Europe/Berlin:20231014T110000
DTEND;TZID=Europe/Berlin:20231014T130000
LOCATION:Základní škola\, Liberec\, Švermova 403/40\, Švermova 403 Liberec 
 - Liberec X-Františkov
SUMMARY:CP-U16Z-Z2F: TJ Slavia Liberec-SK Třebín
END:VEVENT
BEGIN:VEVENT
UID:31646139-6139-4437-b836-616536383364
DTSTAMP:20260422T033947Z
DESCRIPTION:4/11 VSK Baník Sokolov - SK Třebín 2:0 (9\,20)
DTSTART;TZID=Europe/Berlin:20231014T140000
DTEND;TZID=Europe/Berlin:20231014T160000
LOCATION:Jiskra\, Maxima Gorkého 280 Sokolov
SUMMARY:CP-U16Z-Z2F: VSK Baník Sokolov-SK Třebín
END:VEVENT
BEGIN:VEVENT
UID:33616533-3561-4538-a366-663638313835
DTSTAMP:20260422T033947Z
DESCRIPTION:7/17 TJ Jiskra Nový Bor. A - SK Třebín 2:0 (20\,16)
DTSTART;TZID=Europe/Berlin:20231015T090000
DTEND;TZID=Europe/Berlin:20231015T110000
LOCATION:Sportovní hala Františka Arnošta Nový Bor\, U hřiště 1391 Nový Bor
SUMMARY:CP-U16Z-Z2F: TJ Jiskra Nový Bor. A-SK Třebín
END:VEVENT
BEGIN:VEVENT
UID:63616563-3534-4934-b064-323032656132
DTSTAMP:20260422T033947Z
DESCRIPTION:8/20 Mikulova C - SK Třebín 2:0 (7\,20)
DTSTART;TZID=Europe/Berlin:20231015T103000
DTEND;TZID=Europe/Berlin:20231015T123000
LOCATION:tělocvičny ZŠ Mikulova\, Mikulova 1594 Praha - Chodov
SUMMARY:CP-U16Z-Z2F: Mikulova C-SK Třebín
END:VEVENT
BEGIN:VEVENT
UID:37396139-3030-4335-b161-346336323934
DTSTAMP:20260422T033947Z
DESCRIPTION:5/18 SK Třebín - TJ Jiskra Nový Bor. A 2:0 (23\,14)
DTSTART;TZID=Europe/Berlin:20231118T110100
DTEND;TZID=Europe/Berlin:20231118T130100
LOCATION:ZŠ Máj I\, M. Chlajna 1319 České Budějovice - České Budějovice 2
SUMMARY:CP-U16Z-Z3F: SK Třebín-TJ Jiskra Nový Bor. A
END:VEVENT
BEGIN:VEVENT
UID:34616239-3738-4635-a566-653138303366
DTSTAMP:20260422T033947Z
DESCRIPTION:6/23 SK Třebín - Loko Plzeň   B 1:2 (-19\,21\,-9)
DTSTART;TZID=Europe/Berlin:20231118T130000
DTEND;TZID=Europe/Berlin:20231118T150000
LOCATION:ZŠ Máj I\, M. Chlajna 1319 České Budějovice - České Budějovice 2
SUMMARY:CP-U16Z-Z3F: SK Třebín-Loko Plzeň   B
END:VEVENT
BEGIN:VEVENT
UID:38386661-6235-4236-b264-656638373136
DTSTAMP:20260422T033947Z
DESCRIPTION:7/28 SK Třebín - TJ Slavia Liberec 2:1 (8\,-25\,14)\nSH-Jungman
 nova 1557
DTSTART;TZID=Europe/Berlin:20231118T140000
DTEND;TZID=Europe/Berlin:20231118T160000
LOCATION:ZŠ Máj I\, M. Chlajna 1319 České Budějovice - České Budějovice 2
SUMMARY:CP-U16Z-Z3F: SK Třebín-TJ Slavia Liberec
END:VEVENT
BEGIN:VEVENT
UID:37653765-3733-4331-b736-653263643564
DTSTAMP:20260422T033947Z
DESCRIPTION:1/3 Radotín - SK Třebín 2:0 (21\,16)
DTSTART;TZID=Europe/Berlin:20231117T144400
DTEND;TZID=Europe/Berlin:20231117T164400
LOCATION:Sportovní hala Radotín\, U starého stadiónu 1585 Praha - Radotín
SUMMARY:CP-U16Z-Z3F: Radotín-SK Třebín
END:VEVENT
BEGIN:VEVENT
UID:62346532-3236-4333-a230-636166613933
DTSTAMP:20260422T033947Z
DESCRIPTION:2/6 TJ Lokomotiva Česká Lípa - SK Třebín 2:0 (15\,18)
DTSTART;TZID=Europe/Berlin:20231117T170000
DTEND;TZID=Europe/Berlin:20231117T190000
LOCATION:ZŠ Lada\, Šluknovská 2904 Česká Lípa
SUMMARY:CP-U16Z-Z3F: TJ Lokomotiva Česká Lípa-SK Třebín
END:VEVENT
BEGIN:VEVENT
UID:31343337-3439-4865-b165-356564633533
DTSTAMP:20260422T033947Z
DESCRIPTION:3/9 VK Tuchlovice - SK Třebín 2:0 (19\,17)
DTSTART;TZID=Europe/Berlin:20231117T185900
DTEND;TZID=Europe/Berlin:20231117T205900
LOCATION:Přetlaková sportovní hala Brjanská\, Severní 3127 Kladno
SUMMARY:CP-U16Z-Z3F: VK Tuchlovice-SK Třebín
END:VEVENT
BEGIN:VEVENT
UID:66613235-6330-4262-b430-383238353565
DTSTAMP:20260422T033947Z
DESCRIPTION:4/16 TJ Sokol Brandýs n. L. - SK Třebín 0:2 (-24\,-22)\nSH-Jung
 mannova 1557
DTSTART;TZID=Europe/Berlin:20231118T083000
DTEND;TZID=Europe/Berlin:20231118T103000
LOCATION:Sokolovna\, Zápská 329 Brandýs nad Labem-Stará Boleslav - Brandýs 
 nad Labem
SUMMARY:CP-U16Z-Z3F: TJ Sokol Brandýs n. L.-SK Třebín
END:VEVENT
BEGIN:VEVENT
UID:32393530-3865-4633-b735-373561326531
DTSTAMP:20260422T033947Z
DESCRIPTION:2/4 SK Třebín - TJ Slovan Varnsdorf z.s. 1:2 (-14\,16\,-9)
DTSTART;TZID=Europe/Berlin:20240127T101500
DTEND;TZID=Europe/Berlin:20240127T121500
LOCATION:ZŠ Máj I\, M. Chlajna 1319 České Budějovice - České Budějovice 2
SUMMARY:CP-U16Z-F1K: SK Třebín-TJ Slovan Varnsdorf z.s.
END:VEVENT
BEGIN:VEVENT
UID:33303664-3839-4263-a363-313361343764
DTSTAMP:20260422T033947Z
DESCRIPTION:6/11 SK Třebín - VK Hronov 0:2 (-9\,-11)
DTSTART;TZID=Europe/Berlin:20240127T151500
DTEND;TZID=Europe/Berlin:20240127T171500
LOCATION:ZŠ Máj I\, M. Chlajna 1319 České Budějovice - České Budějovice 2
SUMMARY:CP-U16Z-F1K: SK Třebín-VK Hronov
END:VEVENT
BEGIN:VEVENT
UID:62373662-3333-4638-b231-343338316634
DTSTAMP:20260422T033947Z
DESCRIPTION:7/14 SK Třebín - TJ Slavia Liberec 2:0 (17\,12)
DTSTART;TZID=Europe/Berlin:20240127T163000
DTEND;TZID=Europe/Berlin:20240127T183000
LOCATION:ZŠ Máj I\, M. Chlajna 1319 České Budějovice - České Budějovice 2
SUMMARY:CP-U16Z-F1K: SK Třebín-TJ Slavia Liberec
END:VEVENT
BEGIN:VEVENT
UID:36393639-3131-4365-a432-633932643165
DTSTAMP:20260422T033947Z
DESCRIPTION:4/8 VK Brno - SK Třebín 0:2 (-21\,-18)
DTSTART;TZID=Europe/Berlin:20240127T124500
DTEND;TZID=Europe/Berlin:20240127T144500
LOCATION:ZŠ Vejrostova\, Vejrostova 1066 Brno - Bystrc
SUMMARY:CP-U16Z-F1K: VK Brno-SK Třebín
END:VEVENT
BEGIN:VEVENT
UID:39313032-3762-4035-b565-353764353735
DTSTAMP:20260422T033947Z
DESCRIPTION:8/16 TJ Lokomotiva Česká Lípa - SK Třebín 1:2 (13\,-23\,-13)
DTSTART;TZID=Europe/Berlin:20240128T093000
DTEND;TZID=Europe/Berlin:20240128T113000
LOCATION:ZŠ Lada\, Šluknovská 2904 Česká Lípa
SUMMARY:CP-U16Z-F1K: TJ Lokomotiva Česká Lípa-SK Třebín
END:VEVENT
BEGIN:VEVENT
UID:64653562-6165-4135-a538-383936363733
DTSTAMP:20260422T033947Z
DESCRIPTION:11/21 TJ Jiskra Nový Bor. A - SK Třebín 1:2 (-14\,22\,-9)
DTSTART;TZID=Europe/Berlin:20240128T131500
DTEND;TZID=Europe/Berlin:20240128T151500
LOCATION:Sportovní hala Františka Arnošta Nový Bor\, U hřiště 1391 Nový Bor
SUMMARY:CP-U16Z-F1K: TJ Jiskra Nový Bor. A-SK Třebín
END:VEVENT
BEGIN:VEVENT
UID:36343336-6431-4664-b663-353138393339
DTSTAMP:20260422T033947Z
DESCRIPTION:2/4 SK Třebín - TJ Slovan Varnsdorf z.s. 1:2 (-24\,17\,-10)
DTSTART;TZID=Europe/Berlin:20240217T101500
DTEND;TZID=Europe/Berlin:20240217T121500
LOCATION:ZŠ Máj I\, M. Chlajna 1319 České Budějovice - České Budějovice 2
SUMMARY:CP-U16Z-F2K: SK Třebín-TJ Slovan Varnsdorf z.s.
END:VEVENT
BEGIN:VEVENT
UID:39303462-3536-4739-b362-306465663934
DTSTAMP:20260422T033947Z
DESCRIPTION:3/6 TJ Slavia Liberec - SK Třebín 0:2 (-13\,-20)
DTSTART;TZID=Europe/Berlin:20240217T113000
DTEND;TZID=Europe/Berlin:20240217T133000
LOCATION:Základní škola\, Liberec\, Švermova 403/40\, Švermova 403 Liberec 
 - Liberec X-Františkov
SUMMARY:CP-U16Z-F2K: TJ Slavia Liberec-SK Třebín
END:VEVENT
BEGIN:VEVENT
UID:33303039-6434-4666-a463-326261313462
DTSTAMP:20260422T033947Z
DESCRIPTION:5/10 TJ Sokol Dolní Újezd - SK Třebín 0:2 (-17\,-27)
DTSTART;TZID=Europe/Berlin:20240217T140000
DTEND;TZID=Europe/Berlin:20240217T160000
LOCATION:tělocvična Základní školy\,  Dolní Újezd342
SUMMARY:CP-U16Z-F2K: TJ Sokol Dolní Újezd-SK Třebín
END:VEVENT
BEGIN:VEVENT
UID:36376464-6365-4163-b563-653234333164
DTSTAMP:20260422T033947Z
DESCRIPTION:8/13 TJ Jiskra Nový Bor. A - SK Třebín 0:2 (-21\,-6)
DTSTART;TZID=Europe/Berlin:20240218T093000
DTEND;TZID=Europe/Berlin:20240218T113000
LOCATION:Sportovní hala Františka Arnošta Nový Bor\, U hřiště 1391 Nový Bor
SUMMARY:CP-U16Z-F2K: TJ Jiskra Nový Bor. A-SK Třebín
END:VEVENT
BEGIN:VEVENT
UID:62316338-3963-4666-b136-646365633563
DTSTAMP:20260422T033947Z
DESCRIPTION:10/18 VK Napajedla - SK Třebín 0:2 (-13\,-17)
DTSTART;TZID=Europe/Berlin:20240218T120000
DTEND;TZID=Europe/Berlin:20240218T140000
LOCATION:2.ZŠ Napajedla\, Komenského 298 Napajedla
SUMMARY:CP-U16Z-F2K: VK Napajedla-SK Třebín
END:VEVENT
BEGIN:VEVENT
UID:32336230-3561-4337-b235-636133643763
DTSTAMP:20260422T033947Z
DESCRIPTION:11/20 TJ Lokomotiva Česká Lípa - SK Třebín 0:2 (-19\,-12)
DTSTART;TZID=Europe/Berlin:20240218T131500
DTEND;TZID=Europe/Berlin:20240218T151500
LOCATION:ZŠ Lada\, Šluknovská 2904 Česká Lípa
SUMMARY:CP-U16Z-F2K: TJ Lokomotiva Česká Lípa-SK Třebín
END:VEVENT
BEGIN:VEVENT
UID:31393536-3739-4130-b064-613166333864
DTSTAMP:20260422T033947Z
DESCRIPTION:3/6 SK Třebín - Radotín 0:2 (-15\,-7)
DTSTART;TZID=Europe/Berlin:20240316T120000
DTEND;TZID=Europe/Berlin:20240316T140000
LOCATION:ZŠ Máj I\, M. Chlajna 1319 České Budějovice - České Budějovice 2
SUMMARY:CP-U16Z-F3J: SK Třebín-Radotín
END:VEVENT
BEGIN:VEVENT
UID:32343136-6131-4132-b562-643330333430
DTSTAMP:20260422T033947Z
DESCRIPTION:5/10 SK Třebín - VK Brno 0:2 (-10\,-4)
DTSTART;TZID=Europe/Berlin:20240316T143000
DTEND;TZID=Europe/Berlin:20240316T163000
LOCATION:ZŠ Máj I\, M. Chlajna 1319 České Budějovice - České Budějovice 2
SUMMARY:CP-U16Z-F3J: SK Třebín-VK Brno
END:VEVENT
BEGIN:VEVENT
UID:66646163-6363-4233-b536-636632623731
DTSTAMP:20260422T033947Z
DESCRIPTION:2/3 VK Tuchlovice - SK Třebín 2:0 (19\,13)
DTSTART;TZID=Europe/Berlin:20240316T104500
DTEND;TZID=Europe/Berlin:20240316T124500
LOCATION:Přetlaková sportovní hala Brjanská\, Severní 3127 Kladno
SUMMARY:CP-U16Z-F3J: VK Tuchlovice-SK Třebín
END:VEVENT
BEGIN:VEVENT
UID:37643531-3835-4139-b434-646162663865
DTSTAMP:20260422T033947Z
DESCRIPTION:7/14 VK Napajedla - SK Třebín 2:0 (13\,17)
DTSTART;TZID=Europe/Berlin:20240316T170000
DTEND;TZID=Europe/Berlin:20240316T190000
LOCATION:2.ZŠ Napajedla\, Komenského 298 Napajedla
SUMMARY:CP-U16Z-F3J: VK Napajedla-SK Třebín
END:VEVENT
BEGIN:VEVENT
UID:61643133-3436-4238-a639-356638613233
DTSTAMP:20260422T033947Z
DESCRIPTION:10/20 Mikulova C - SK Třebín 2:0 (14\,19)
DTSTART;TZID=Europe/Berlin:20240317T113000
DTEND;TZID=Europe/Berlin:20240317T133000
LOCATION:tělocvičny ZŠ Mikulova\, Mikulova 1594 Praha - Chodov
SUMMARY:CP-U16Z-F3J: Mikulova C-SK Třebín
END:VEVENT
BEGIN:VEVENT
UID:33316330-3735-4435-a339-616235363834
DTSTAMP:20260422T033947Z
DESCRIPTION:11/21 TJ Žďár nad Sázavou - SK Třebín 2:0 (17\,17)
DTSTART;TZID=Europe/Berlin:20240317T124500
DTEND;TZID=Europe/Berlin:20240317T144500
LOCATION:ZŠ Palachova\, Palachova 1757 Žďár nad Sázavou - Žďár nad Sázavou 
 6
SUMMARY:CP-U16Z-F3J: TJ Žďár nad Sázavou-SK Třebín
END:VEVENT
END:VCALENDAR
