BEGIN:VCALENDAR
VERSION:2.0
PRODID:-//TJ Sokol Plzeň Letná83204//NONSGML kigkonsult.se iCalcreator 2.41.80//
CALSCALE:GREGORIAN
UID:30303465-6164-4566-b531-663030613735
BEGIN:VEVENT
UID:62613037-3134-4464-b164-353965333965
DTSTAMP:20260423T005254Z
DESCRIPTION:1/1 Letná - Domažlice 1:2 (25\,-25\,-15)\npořadatel Domažlice
DTSTART;TZID=Europe/Berlin:20231015T090000
DTEND;TZID=Europe/Berlin:20231015T110000
LOCATION:Tělocvična 28. ZŠ Plzeň\, Rodinná 965 Plzeň - Lobzy
SUMMARY:P-U20Z: Letná-Domažlice
END:VEVENT
BEGIN:VEVENT
UID:66646235-6333-4165-b264-356234653333
DTSTAMP:20260423T005254Z
DESCRIPTION:1/5 Letná - Šťáhlavy 2:0 (23\,8)
DTSTART;TZID=Europe/Berlin:20231015T120000
DTEND;TZID=Europe/Berlin:20231015T140000
LOCATION:Tělocvična 28. ZŠ Plzeň\, Rodinná 965 Plzeň - Lobzy
SUMMARY:P-U20Z: Letná-Šťáhlavy
END:VEVENT
BEGIN:VEVENT
UID:66383931-3235-4234-a137-623535393732
DTSTAMP:20260423T005254Z
DESCRIPTION:2/7 Letná - Šťáhlavy 2:1 (13\,-19\,13)\npořadatel Šťáhlavy
DTSTART;TZID=Europe/Berlin:20231112T090000
DTEND;TZID=Europe/Berlin:20231112T110000
LOCATION:Tělocvična 28. ZŠ Plzeň\, Rodinná 965 Plzeň - Lobzy
SUMMARY:P-U20Z: Letná-Šťáhlavy
END:VEVENT
BEGIN:VEVENT
UID:38626539-3962-4539-b837-376537343532
DTSTAMP:20260423T005254Z
DESCRIPTION:2/11 Letná - Domažlice 0:2 (-21\,-16)
DTSTART;TZID=Europe/Berlin:20231112T120000
DTEND;TZID=Europe/Berlin:20231112T140000
LOCATION:Tělocvična 28. ZŠ Plzeň\, Rodinná 965 Plzeň - Lobzy
SUMMARY:P-U20Z: Letná-Domažlice
END:VEVENT
BEGIN:VEVENT
UID:32303764-3764-4335-a665-373863303430
DTSTAMP:20260423T005254Z
DESCRIPTION:3/16 Letná - Vejprnice B 0:2 (-21\,-24)
DTSTART;TZID=Europe/Berlin:20231210T120000
DTEND;TZID=Europe/Berlin:20231210T140000
LOCATION:Tělocvična 28. ZŠ Plzeň\, Rodinná 965 Plzeň - Lobzy
SUMMARY:P-U20Z: Letná-Vejprnice B
END:VEVENT
BEGIN:VEVENT
UID:38363065-6235-4162-a563-353436633036
DTSTAMP:20260423T005254Z
DESCRIPTION:4/21 Letná - Vejprnice B 1:2 (20\,-20\,-13)
DTSTART;TZID=Europe/Berlin:20240114T110000
DTEND;TZID=Europe/Berlin:20240114T130000
LOCATION:Tělocvična 28. ZŠ Plzeň\, Rodinná 965 Plzeň - Lobzy
SUMMARY:P-U20Z: Letná-Vejprnice B
END:VEVENT
BEGIN:VEVENT
UID:39636632-6636-4265-b561-356261373766
DTSTAMP:20260423T005254Z
DESCRIPTION:5/27 Letná - Vejprnice B 2:0 (19\,19)
DTSTART;TZID=Europe/Berlin:20240204T103000
DTEND;TZID=Europe/Berlin:20240204T123000
LOCATION:Tělocvična 28. ZŠ Plzeň\, Rodinná 965 Plzeň - Lobzy
SUMMARY:P-U20Z: Letná-Vejprnice B
END:VEVENT
BEGIN:VEVENT
UID:66623538-6333-4166-b136-316136656331
DTSTAMP:20260423T005254Z
DESCRIPTION:6/31 Letná - Domažlice 1:2 (16\,-12\,-9)\npořadatel Domažlice
DTSTART;TZID=Europe/Berlin:20240310T090000
DTEND;TZID=Europe/Berlin:20240310T110000
LOCATION:Tělocvična 28. ZŠ Plzeň\, Rodinná 965 Plzeň - Lobzy
SUMMARY:P-U20Z: Letná-Domažlice
END:VEVENT
BEGIN:VEVENT
UID:61366165-3736-4737-b538-393063653066
DTSTAMP:20260423T005254Z
DESCRIPTION:6/35 Letná - Šťáhlavy 1:2 (-21\,16\,-10)
DTSTART;TZID=Europe/Berlin:20240310T120000
DTEND;TZID=Europe/Berlin:20240310T140000
LOCATION:Tělocvična 28. ZŠ Plzeň\, Rodinná 965 Plzeň - Lobzy
SUMMARY:P-U20Z: Letná-Šťáhlavy
END:VEVENT
BEGIN:VEVENT
UID:66373864-6636-4236-b935-346362376136
DTSTAMP:20260423T005254Z
DESCRIPTION:1/3 Vejprnice B - Letná 0:2 (-20\,-26)
DTSTART;TZID=Europe/Berlin:20231015T103000
DTEND;TZID=Europe/Berlin:20231015T123000
LOCATION:Tělocvična ZŠ Vejprnice\, Jakuba Husníka 527 Vejprnice
SUMMARY:P-U20Z: Vejprnice B-Letná
END:VEVENT
BEGIN:VEVENT
UID:66666266-3363-4366-b966-653662653139
DTSTAMP:20260423T005254Z
DESCRIPTION:2/9 Vejprnice B - Letná 0:2 (-8\,-6)
DTSTART;TZID=Europe/Berlin:20231112T103000
DTEND;TZID=Europe/Berlin:20231112T123000
LOCATION:Tělocvična ZŠ Vejprnice\, Jakuba Husníka 527 Vejprnice
SUMMARY:P-U20Z: Vejprnice B-Letná
END:VEVENT
BEGIN:VEVENT
UID:37306630-6235-4532-a365-643565303661
DTSTAMP:20260423T005254Z
DESCRIPTION:3/14 Šťáhlavy - Letná 0:2 (-13\,-18)
DTSTART;TZID=Europe/Berlin:20231210T100000
DTEND;TZID=Europe/Berlin:20231210T120000
LOCATION:Sportovní hala Šťáhlavy\, U hřiště 525 Šťáhlavy
SUMMARY:P-U20Z: Šťáhlavy-Letná
END:VEVENT
BEGIN:VEVENT
UID:65306531-3261-4865-a637-323334386264
DTSTAMP:20260423T005254Z
DESCRIPTION:3/17 Domažlice - Letná 0:2 (-19\,-17)
DTSTART;TZID=Europe/Berlin:20231210T130000
DTEND;TZID=Europe/Berlin:20231210T150000
LOCATION:Sportovní hala ZŠ Komenského Domažlice\, Komenského 17 Domažlice -
  Týnské Předměstí
SUMMARY:P-U20Z: Domažlice-Letná
END:VEVENT
BEGIN:VEVENT
UID:36393864-3536-4662-b538-333332656235
DTSTAMP:20260423T005254Z
DESCRIPTION:4/19 Domažlice - Letná 1:2 (-18\,17\,-13)\npořadatel Letná
DTSTART;TZID=Europe/Berlin:20240114T090000
DTEND;TZID=Europe/Berlin:20240114T110000
LOCATION:Sportovní hala ZŠ Komenského Domažlice\, Komenského 17 Domažlice -
  Týnské Předměstí
SUMMARY:P-U20Z: Domažlice-Letná
END:VEVENT
BEGIN:VEVENT
UID:33366638-6561-4437-a531-613633383833
DTSTAMP:20260423T005254Z
DESCRIPTION:4/24 Šťáhlavy - Letná 0:2 (-21\,-21)
DTSTART;TZID=Europe/Berlin:20240114T140000
DTEND;TZID=Europe/Berlin:20240114T160000
LOCATION:Sportovní hala Šťáhlavy\, U hřiště 525 Šťáhlavy
SUMMARY:P-U20Z: Šťáhlavy-Letná
END:VEVENT
BEGIN:VEVENT
UID:36346239-3638-4034-b131-616333386366
DTSTAMP:20260423T005254Z
DESCRIPTION:5/26 Domažlice - Letná 0:2 (-23\,-27)
DTSTART;TZID=Europe/Berlin:20240204T090000
DTEND;TZID=Europe/Berlin:20240204T110000
LOCATION:Sportovní hala ZŠ Komenského Domažlice\, Komenského 17 Domažlice -
  Týnské Předměstí
SUMMARY:P-U20Z: Domažlice-Letná
END:VEVENT
BEGIN:VEVENT
UID:66333839-3035-4136-b035-356230333834
DTSTAMP:20260423T005254Z
DESCRIPTION:5/30 Šťáhlavy - Letná 2:0 (26\,19)
DTSTART;TZID=Europe/Berlin:20240204T120000
DTEND;TZID=Europe/Berlin:20240204T140000
LOCATION:Sportovní hala Šťáhlavy\, U hřiště 525 Šťáhlavy
SUMMARY:P-U20Z: Šťáhlavy-Letná
END:VEVENT
BEGIN:VEVENT
UID:64396135-6639-4537-a633-646362363437
DTSTAMP:20260423T005254Z
DESCRIPTION:6/33 Vejprnice B - Letná 0:2 (-24\,-17)
DTSTART;TZID=Europe/Berlin:20240310T103000
DTEND;TZID=Europe/Berlin:20240310T123000
LOCATION:Tělocvična ZŠ Vejprnice\, Jakuba Husníka 527 Vejprnice
SUMMARY:P-U20Z: Vejprnice B-Letná
END:VEVENT
BEGIN:VEVENT
UID:62383362-6535-4330-a137-666566616637
DTSTAMP:20260423T005254Z
DESCRIPTION:1/2 Letná - Vejprnice 0:3 (-14\,-21\,-11)
DTSTART;TZID=Europe/Berlin:20240504T110000
DTEND;TZID=Europe/Berlin:20240504T130000
LOCATION:ZŠ Za Nádražím Český Krumlov\, Za Nádražím 222 Český Krumlov - Nád
 ražní Předměstí
SUMMARY:2-U20Z-KA: Letná-Vejprnice
END:VEVENT
BEGIN:VEVENT
UID:37333832-6339-4635-b135-323461366536
DTSTAMP:20260423T005254Z
DESCRIPTION:2/9 Letná - Třebíč 0:3 (-16\,-17\,-16)
DTSTART;TZID=Europe/Berlin:20240505T150000
DTEND;TZID=Europe/Berlin:20240505T170000
LOCATION:ZŠ Za Nádražím Český Krumlov\, Za Nádražím 222 Český Krumlov - Nád
 ražní Předměstí
SUMMARY:2-U20Z-KA: Letná-Třebíč
END:VEVENT
BEGIN:VEVENT
UID:65376565-3934-4064-a638-633537343262
DTSTAMP:20260423T005254Z
DESCRIPTION:1/4 Český Krumlov - Letná 3:0 (11\,13\,12)
DTSTART;TZID=Europe/Berlin:20240504T150000
DTEND;TZID=Europe/Berlin:20240504T170000
LOCATION:ZŠ Za Nádražím Český Krumlov\, Za Nádražím 222 Český Krumlov - Nád
 ražní Předměstí
SUMMARY:2-U20Z-KA: Český Krumlov-Letná
END:VEVENT
BEGIN:VEVENT
UID:66306439-6637-4435-a138-633961353664
DTSTAMP:20260423T005254Z
DESCRIPTION:2/6 České Budějovice - Letná 3:0 (20\,17\,8)
DTSTART;TZID=Europe/Berlin:20240505T090000
DTEND;TZID=Europe/Berlin:20240505T110000
LOCATION:ZŠ Za Nádražím Český Krumlov\, Za Nádražím 222 Český Krumlov - Nád
 ražní Předměstí
SUMMARY:2-U20Z-KA: České Budějovice-Letná
END:VEVENT
END:VCALENDAR
