BEGIN:VCALENDAR
VERSION:2.0
PRODID:-//TJ Ostrava83219//NONSGML kigkonsult.se iCalcreator 2.41.80//
CALSCALE:GREGORIAN
UID:35306631-3961-4564-b562-363364356337
BEGIN:VEVENT
UID:63663836-3436-4638-b363-353463306137
DTSTAMP:20260422T033917Z
DESCRIPTION:1/1 TJ Ostrava - Volejbal Přerov 2:0 (25\,11)
DTSTART;TZID=Europe/Berlin:20230923T093000
DTEND;TZID=Europe/Berlin:20230923T113000
LOCATION:Hala mládeže\, Gajdošova 1893 Ostrava - Moravská Ostrava
SUMMARY:CP-U16Z-V1F: TJ Ostrava-Volejbal Přerov
END:VEVENT
BEGIN:VEVENT
UID:35393438-3431-4566-b230-616430333932
DTSTAMP:20260422T033917Z
DESCRIPTION:11/15 TJ Ostrava - VK UP Olomouc 0:2 (-15\,-23)
DTSTART;TZID=Europe/Berlin:20230924T134500
DTEND;TZID=Europe/Berlin:20230924T154500
LOCATION:Hala mládeže\, Gajdošova 1893 Ostrava - Moravská Ostrava
SUMMARY:CP-U16Z-V1F: TJ Ostrava-VK UP Olomouc
END:VEVENT
BEGIN:VEVENT
UID:37333333-6636-4363-a132-376533663138
DTSTAMP:20260422T033917Z
DESCRIPTION:3/4 Orel Letohrad - TJ Ostrava 0:2 (-15\,-21)
DTSTART;TZID=Europe/Berlin:20230923T133000
DTEND;TZID=Europe/Berlin:20230923T153000
LOCATION:TJ Spartak Letohrad\, Jilemnického 341 Letohrad
SUMMARY:CP-U16Z-V1F: Orel Letohrad-TJ Ostrava
END:VEVENT
BEGIN:VEVENT
UID:65636665-3932-4933-b739-363832333237
DTSTAMP:20260422T033917Z
DESCRIPTION:5/7 VSC Zlín - TJ Ostrava 1:2 (-19\,15\,-13)
DTSTART;TZID=Europe/Berlin:20230923T160000
DTEND;TZID=Europe/Berlin:20230923T180000
LOCATION:ZŠ Okružní Zlín\, Okružní 4685 Zlín
SUMMARY:CP-U16Z-V1F: VSC Zlín-TJ Ostrava
END:VEVENT
BEGIN:VEVENT
UID:37646332-3732-4161-b836-643164326162
DTSTAMP:20260422T033917Z
DESCRIPTION:9/12 TJ Junior Brno - TJ Ostrava 1:2 (-20\,10\,-6)
DTSTART;TZID=Europe/Berlin:20230924T111500
DTEND;TZID=Europe/Berlin:20230924T131500
LOCATION:tělocvičny ZŠ Novolíšeňská\, Brno\, Novolíšeňská 2411 Brno - Líšeň
SUMMARY:CP-U16Z-V1F: TJ Junior Brno-TJ Ostrava
END:VEVENT
BEGIN:VEVENT
UID:37363432-6635-4332-a564-653838613730
DTSTAMP:20260422T033917Z
DESCRIPTION:1/2 TJ Ostrava - TJ Jiskra Jaroměř 2:1 (16\,-24\,8)
DTSTART;TZID=Europe/Berlin:20231014T093000
DTEND;TZID=Europe/Berlin:20231014T113000
LOCATION:Hala mládeže\, Gajdošova 1893 Ostrava - Moravská Ostrava
SUMMARY:CP-U16Z-V2B: TJ Ostrava-TJ Jiskra Jaroměř
END:VEVENT
BEGIN:VEVENT
UID:36326664-3462-4462-a433-313139643430
DTSTAMP:20260422T033917Z
DESCRIPTION:6/15 TJ Ostrava - Volejbal Rudolfov 1:2 (17\,-19\,-13)
DTSTART;TZID=Europe/Berlin:20231015T090000
DTEND;TZID=Europe/Berlin:20231015T110000
LOCATION:Hala mládeže\, Gajdošova 1893 Ostrava - Moravská Ostrava
SUMMARY:CP-U16Z-V2B: TJ Ostrava-Volejbal Rudolfov
END:VEVENT
BEGIN:VEVENT
UID:64613762-3962-4135-a136-393931663666
DTSTAMP:20260422T033917Z
DESCRIPTION:8/21 TJ Ostrava - Happy Sport Opava 2:0 (17\,17)
DTSTART;TZID=Europe/Berlin:20231015T120000
DTEND;TZID=Europe/Berlin:20231015T140000
LOCATION:Hala mládeže\, Gajdošova 1893 Ostrava - Moravská Ostrava
SUMMARY:CP-U16Z-V2B: TJ Ostrava-Happy Sport Opava
END:VEVENT
BEGIN:VEVENT
UID:61633133-3837-4266-a634-356632343632
DTSTAMP:20260422T033917Z
DESCRIPTION:3/7 TJ Svitavy - TJ Ostrava 2:0 (20\,22)
DTSTART;TZID=Europe/Berlin:20231014T123000
DTEND;TZID=Europe/Berlin:20231014T143000
LOCATION:Sportovní hala Na Střelnici\, Pražská 2162 Svitavy - Předměstí
SUMMARY:CP-U16Z-V2B: TJ Svitavy-TJ Ostrava
END:VEVENT
BEGIN:VEVENT
UID:35356166-6330-4464-b935-633434623263
DTSTAMP:20260422T033917Z
DESCRIPTION:4/8 VK Raškovice - TJ Ostrava 1:2 (22\,-16\,-6)
DTSTART;TZID=Europe/Berlin:20231014T140000
DTEND;TZID=Europe/Berlin:20231014T160000
LOCATION:Víceúčelová sportovní hala\,  Raškovice18
SUMMARY:CP-U16Z-V2B: VK Raškovice-TJ Ostrava
END:VEVENT
BEGIN:VEVENT
UID:35643066-3833-4265-b633-306465363138
DTSTAMP:20260422T033917Z
DESCRIPTION:7/19 SK Volejbal Kolín - TJ Ostrava 2:0 (11\,20)
DTSTART;TZID=Europe/Berlin:20231015T103000
DTEND;TZID=Europe/Berlin:20231015T123000
LOCATION:hala STAV\, SOŠ Kolín\, Brankovická 1417 Kolín - Kolín V
SUMMARY:CP-U16Z-V2B: SK Volejbal Kolín-TJ Ostrava
END:VEVENT
BEGIN:VEVENT
UID:39303637-3236-4430-b635-373637646666
DTSTAMP:20260422T033917Z
DESCRIPTION:1/1 TJ Ostrava - VSC Zlín 2:0 (23\,23)
DTSTART;TZID=Europe/Berlin:20231117T133000
DTEND;TZID=Europe/Berlin:20231117T153000
LOCATION:Hala mládeže\, Gajdošova 1893 Ostrava - Moravská Ostrava
SUMMARY:CP-U16Z-V3B: TJ Ostrava-VSC Zlín
END:VEVENT
BEGIN:VEVENT
UID:63383033-3066-4931-b938-333864343561
DTSTAMP:20260422T033917Z
DESCRIPTION:2/5 TJ Ostrava - TJ Svitavy 0:2 (-25\,-20)
DTSTART;TZID=Europe/Berlin:20231117T160000
DTEND;TZID=Europe/Berlin:20231117T180000
LOCATION:Hala mládeže\, Gajdošova 1893 Ostrava - Moravská Ostrava
SUMMARY:CP-U16Z-V3B: TJ Ostrava-TJ Svitavy
END:VEVENT
BEGIN:VEVENT
UID:35333534-3237-4632-a337-373631653635
DTSTAMP:20260422T033917Z
DESCRIPTION:3/9 TJ Ostrava - RÉMA Rychnov 2:0 (23\,22)
DTSTART;TZID=Europe/Berlin:20231117T175900
DTEND;TZID=Europe/Berlin:20231117T195900
LOCATION:Hala mládeže\, Gajdošova 1893 Ostrava - Moravská Ostrava
SUMMARY:CP-U16Z-V3B: TJ Ostrava-RÉMA Rychnov
END:VEVENT
BEGIN:VEVENT
UID:30393166-3062-4932-a335-383231393865
DTSTAMP:20260422T033917Z
DESCRIPTION:7/19 TJ Ostrava - ŠSK Bílovec 2:0 (17\,13)
DTSTART;TZID=Europe/Berlin:20231118T155500
DTEND;TZID=Europe/Berlin:20231118T175500
LOCATION:Hala mládeže\, Gajdošova 1893 Ostrava - Moravská Ostrava
SUMMARY:CP-U16Z-V3B: TJ Ostrava-ŠSK Bílovec
END:VEVENT
BEGIN:VEVENT
UID:30366137-3031-4766-a161-613038643031
DTSTAMP:20260422T033917Z
DESCRIPTION:4/11 Happy Sport Opava - TJ Ostrava 0:2 (-16\,-15)
DTSTART;TZID=Europe/Berlin:20231118T094500
DTEND;TZID=Europe/Berlin:20231118T114500
LOCATION:Sportovní hala Slezského gymnázia v Opavě\, Zámecký okruh 461 Opav
 a - Město
SUMMARY:CP-U16Z-V3B: Happy Sport Opava-TJ Ostrava
END:VEVENT
BEGIN:VEVENT
UID:61326137-6439-4038-b938-613533343239
DTSTAMP:20260422T033917Z
DESCRIPTION:6/17 TJ Sokol Pardubice I. - TJ Ostrava 1:2 (22\,-14\,-4)
DTSTART;TZID=Europe/Berlin:20231118T140000
DTEND;TZID=Europe/Berlin:20231118T160000
LOCATION:Sokolovna\, Jiráskova 29 Pardubice - Zelené Předměstí
SUMMARY:CP-U16Z-V3B: TJ Sokol Pardubice I.-TJ Ostrava
END:VEVENT
BEGIN:VEVENT
UID:64623135-6339-4363-b862-613832333832
DTSTAMP:20260422T033917Z
DESCRIPTION:3/5 TJ Ostrava - SK Volejbal Ústí n.L. 2:0 (16\,18)
DTSTART;TZID=Europe/Berlin:20240127T120000
DTEND;TZID=Europe/Berlin:20240127T140000
LOCATION:Hala mládeže\, Gajdošova 1893 Ostrava - Moravská Ostrava
SUMMARY:CP-U16Z-F1C: TJ Ostrava-SK Volejbal Ústí n.L.
END:VEVENT
BEGIN:VEVENT
UID:31336337-6664-4334-b338-643063343535
DTSTAMP:20260422T033917Z
DESCRIPTION:7/13 TJ Ostrava - TJ Svitavy 2:0 (23\,19)
DTSTART;TZID=Europe/Berlin:20240127T180000
DTEND;TZID=Europe/Berlin:20240127T200000
LOCATION:Hala mládeže\, Gajdošova 1893 Ostrava - Moravská Ostrava
SUMMARY:CP-U16Z-F1C: TJ Ostrava-TJ Svitavy
END:VEVENT
BEGIN:VEVENT
UID:31663331-3631-4666-b236-366139363765
DTSTAMP:20260422T033917Z
DESCRIPTION:11/21 TJ Ostrava - Happy Sport Opava 2:0 (8\,23)
DTSTART;TZID=Europe/Berlin:20240128T130000
DTEND;TZID=Europe/Berlin:20240128T150000
LOCATION:Hala mládeže\, Gajdošova 1893 Ostrava - Moravská Ostrava
SUMMARY:CP-U16Z-F1C: TJ Ostrava-Happy Sport Opava
END:VEVENT
BEGIN:VEVENT
UID:32303631-6437-4035-a535-353836326464
DTSTAMP:20260422T033917Z
DESCRIPTION:1/1 Nymburské BOMBY - TJ Ostrava 2:1 (-18\,21\,7)
DTSTART;TZID=Europe/Berlin:20240127T090000
DTEND;TZID=Europe/Berlin:20240127T110000
LOCATION:Bios\, V Kolonii 1804 Nymburk
SUMMARY:CP-U16Z-F1C: Nymburské BOMBY-TJ Ostrava
END:VEVENT
BEGIN:VEVENT
UID:32616464-6136-4530-b431-346637653465
DTSTAMP:20260422T033917Z
DESCRIPTION:5/9 BVC Chodov - TJ Ostrava 2:0 (19\,21)
DTSTART;TZID=Europe/Berlin:20240127T150000
DTEND;TZID=Europe/Berlin:20240127T170000
LOCATION:Městská sportovní hala Chodov\, Tyršova 1201 Chodov
SUMMARY:CP-U16Z-F1C: BVC Chodov-TJ Ostrava
END:VEVENT
BEGIN:VEVENT
UID:34353265-3737-4632-b863-306439373332
DTSTAMP:20260422T033917Z
DESCRIPTION:9/17 TJ Sokol Pardubice I. - TJ Ostrava 0:2 (-23\,-12)
DTSTART;TZID=Europe/Berlin:20240128T100000
DTEND;TZID=Europe/Berlin:20240128T120000
LOCATION:Sokolovna\, Jiráskova 29 Pardubice - Zelené Předměstí
SUMMARY:CP-U16Z-F1C: TJ Sokol Pardubice I.-TJ Ostrava
END:VEVENT
BEGIN:VEVENT
UID:33616238-6537-4461-b735-633865396365
DTSTAMP:20260422T033917Z
DESCRIPTION:13/25 Mikulova A - TJ Ostrava 1:2 (-22\,14\,-10)
DTSTART;TZID=Europe/Berlin:20240128T160000
DTEND;TZID=Europe/Berlin:20240128T180000
LOCATION:tělocvičny ZŠ Mikulova\, Mikulova 1594 Praha - Chodov
SUMMARY:CP-U16Z-F1C: Mikulova A-TJ Ostrava
END:VEVENT
BEGIN:VEVENT
UID:31646339-3763-4435-a338-383331613737
DTSTAMP:20260422T033917Z
DESCRIPTION:2/4 TJ Ostrava - BVC Chodov 2:1 (-16\,22\,8)
DTSTART;TZID=Europe/Berlin:20240217T103000
DTEND;TZID=Europe/Berlin:20240217T123000
LOCATION:Hala mládeže\, Gajdošova 1893 Ostrava - Moravská Ostrava
SUMMARY:CP-U16Z-F2B: TJ Ostrava-BVC Chodov
END:VEVENT
BEGIN:VEVENT
UID:62373064-3739-4531-b132-333333376238
DTSTAMP:20260422T033917Z
DESCRIPTION:4/10 TJ Ostrava - VK Prostějov 2:0 (7\,17)
DTSTART;TZID=Europe/Berlin:20240217T140000
DTEND;TZID=Europe/Berlin:20240217T160000
LOCATION:Hala mládeže\, Gajdošova 1893 Ostrava - Moravská Ostrava
SUMMARY:CP-U16Z-F2B: TJ Ostrava-VK Prostějov
END:VEVENT
BEGIN:VEVENT
UID:39613830-6163-4230-b033-303562643264
DTSTAMP:20260422T033917Z
DESCRIPTION:9/23 TJ Ostrava - Volejbal Rudolfov 2:1 (10\,-22\,13)
DTSTART;TZID=Europe/Berlin:20240218T113000
DTEND;TZID=Europe/Berlin:20240218T133000
LOCATION:Hala mládeže\, Gajdošova 1893 Ostrava - Moravská Ostrava
SUMMARY:CP-U16Z-F2B: TJ Ostrava-Volejbal Rudolfov
END:VEVENT
BEGIN:VEVENT
UID:37343362-6531-4537-b862-353838363938
DTSTAMP:20260422T033917Z
DESCRIPTION:1/1 SK Volejbal Klatovy - TJ Ostrava 1:2 (21\,-9\,-10)
DTSTART;TZID=Europe/Berlin:20240217T090000
DTEND;TZID=Europe/Berlin:20240217T110000
LOCATION:Sportovní hala ZŠ Čapkova\, Čapkova 136 Klatovy - Klatovy V
SUMMARY:CP-U16Z-F2B: SK Volejbal Klatovy-TJ Ostrava
END:VEVENT
BEGIN:VEVENT
UID:30616265-6534-4932-a131-646135616464
DTSTAMP:20260422T033917Z
DESCRIPTION:5/13 VK UP Olomouc - TJ Ostrava 0:2 (-18\,-14)
DTSTART;TZID=Europe/Berlin:20240217T153000
DTEND;TZID=Europe/Berlin:20240217T173000
LOCATION:UP Olomouc\, U sportovní haly 38 Olomouc - Lazce
SUMMARY:CP-U16Z-F2B: VK UP Olomouc-TJ Ostrava
END:VEVENT
BEGIN:VEVENT
UID:37313434-6266-4335-b730-316634653263
DTSTAMP:20260422T033917Z
DESCRIPTION:7/17 VO TJ Lanškroun A - TJ Ostrava 2:1 (20\,-13\,9)
DTSTART;TZID=Europe/Berlin:20240218T083000
DTEND;TZID=Europe/Berlin:20240218T103000
LOCATION:SOŠ a SOU Lanškroun\, Sokolská 288 Lanškroun - Ostrovské Předměstí
SUMMARY:CP-U16Z-F2B: VO TJ Lanškroun A-TJ Ostrava
END:VEVENT
BEGIN:VEVENT
UID:63313762-3038-4230-a466-303733356139
DTSTAMP:20260422T033917Z
DESCRIPTION:10/26 ŠSK Bílovec - TJ Ostrava 0:2 (-16\,-18)
DTSTART;TZID=Europe/Berlin:20240218T130000
DTEND;TZID=Europe/Berlin:20240218T150000
LOCATION:Hala ZŠ Komenského\, Komenského 701 Bílovec
SUMMARY:CP-U16Z-F2B: ŠSK Bílovec-TJ Ostrava
END:VEVENT
BEGIN:VEVENT
UID:39373438-6130-4961-b538-346339633035
DTSTAMP:20260422T033917Z
DESCRIPTION:2/6 TJ Ostrava - Volleyball Nymburk 0:2 (-21\,-16)
DTSTART;TZID=Europe/Berlin:20240316T103000
DTEND;TZID=Europe/Berlin:20240316T123000
LOCATION:Hala mládeže\, Gajdošova 1893 Ostrava - Moravská Ostrava
SUMMARY:CP-U16Z-F3A: TJ Ostrava-Volleyball Nymburk
END:VEVENT
BEGIN:VEVENT
UID:37353364-3333-4732-b664-303439313361
DTSTAMP:20260422T033917Z
DESCRIPTION:6/24 TJ Ostrava - KP Brno A 1:2 (17\,-18\,-12)
DTSTART;TZID=Europe/Berlin:20240317T103000
DTEND;TZID=Europe/Berlin:20240317T123000
LOCATION:Hala mládeže\, Gajdošova 1893 Ostrava - Moravská Ostrava
SUMMARY:CP-U16Z-F3A: TJ Ostrava-KP Brno A
END:VEVENT
BEGIN:VEVENT
UID:39333231-3437-4464-b166-653338363838
DTSTAMP:20260422T033917Z
DESCRIPTION:1/3 VK Karlovy Vary A - TJ Ostrava 2:0 (18\,13)
DTSTART;TZID=Europe/Berlin:20240316T090000
DTEND;TZID=Europe/Berlin:20240316T110000
LOCATION:Mattoni Arena Hala míčových sportů\, Západní 1812 Karlovy Vary
SUMMARY:CP-U16Z-F3A: VK Karlovy Vary A-TJ Ostrava
END:VEVENT
BEGIN:VEVENT
UID:61336432-3263-4034-b436-383363663162
DTSTAMP:20260422T033917Z
DESCRIPTION:3/10 VO TJ Lanškroun A - TJ Ostrava 2:0 (14\,18)
DTSTART;TZID=Europe/Berlin:20240316T130000
DTEND;TZID=Europe/Berlin:20240316T150000
LOCATION:SOŠ a SOU Lanškroun\, Sokolská 288 Lanškroun - Ostrovské Předměstí
SUMMARY:CP-U16Z-F3A: VO TJ Lanškroun A-TJ Ostrava
END:VEVENT
BEGIN:VEVENT
UID:32326661-3239-4133-b531-303733653838
DTSTAMP:20260422T033917Z
DESCRIPTION:4/14 PVK Olymp Praha - TJ Ostrava 2:0 (15\,15)
DTSTART;TZID=Europe/Berlin:20240316T143000
DTEND;TZID=Europe/Berlin:20240316T163000
LOCATION:VCM OLYMP PRAHA \, Radlická 115 Praha - Radlice
SUMMARY:CP-U16Z-F3A: PVK Olymp Praha-TJ Ostrava
END:VEVENT
BEGIN:VEVENT
UID:39353038-6265-4932-a534-613566623165
DTSTAMP:20260422T033917Z
DESCRIPTION:5/17 TJ Orion Praha - TJ Ostrava 2:0 (20\,18)
DTSTART;TZID=Europe/Berlin:20240317T090000
DTEND;TZID=Europe/Berlin:20240317T110000
LOCATION:ZŠ Dolní Břežany\, Na Vršku 290 Dolní Břežany
SUMMARY:CP-U16Z-F3A: TJ Orion Praha-TJ Ostrava
END:VEVENT
BEGIN:VEVENT
UID:31363338-6331-4432-a136-653164663135
DTSTAMP:20260422T033917Z
DESCRIPTION:7/28 VK Dukla Liberec - TJ Ostrava 2:0 (16\,15)
DTSTART;TZID=Europe/Berlin:20240317T120000
DTEND;TZID=Europe/Berlin:20240317T140000
LOCATION:Dukla Liberec\, Jeronýmova 558 Liberec - Liberec VII-Horní Růžodol
SUMMARY:CP-U16Z-F3A: VK Dukla Liberec-TJ Ostrava
END:VEVENT
END:VCALENDAR
