BEGIN:VCALENDAR
VERSION:2.0
PRODID:-//TJ Junior Brno83220//NONSGML kigkonsult.se iCalcreator 2.41.80//
CALSCALE:GREGORIAN
UID:62643135-6662-4266-b939-303136333561
BEGIN:VEVENT
UID:64366537-3261-4339-b339-386232313463
DTSTAMP:20260422T033928Z
DESCRIPTION:2/2 TJ Junior Brno - Orel Letohrad 1:2 (-23\,11\,-7)
DTSTART;TZID=Europe/Berlin:20230923T110000
DTEND;TZID=Europe/Berlin:20230923T130000
LOCATION:tělocvičny ZŠ Novolíšeňská\, Brno\, Novolíšeňská 2411 Brno - Líšeň
SUMMARY:CP-U16Z-V1F: TJ Junior Brno-Orel Letohrad
END:VEVENT
BEGIN:VEVENT
UID:36646232-3962-4263-a462-613030353762
DTSTAMP:20260422T033928Z
DESCRIPTION:7/10 TJ Junior Brno - VSC Zlín 0:2 (-10\,-12)
DTSTART;TZID=Europe/Berlin:20230924T083000
DTEND;TZID=Europe/Berlin:20230924T103000
LOCATION:tělocvičny ZŠ Novolíšeňská\, Brno\, Novolíšeňská 2411 Brno - Líšeň
SUMMARY:CP-U16Z-V1F: TJ Junior Brno-VSC Zlín
END:VEVENT
BEGIN:VEVENT
UID:63633338-6466-4331-a364-303639366334
DTSTAMP:20260422T033928Z
DESCRIPTION:9/12 TJ Junior Brno - TJ Ostrava 1:2 (-20\,10\,-6)
DTSTART;TZID=Europe/Berlin:20230924T111500
DTEND;TZID=Europe/Berlin:20230924T131500
LOCATION:tělocvičny ZŠ Novolíšeňská\, Brno\, Novolíšeňská 2411 Brno - Líšeň
SUMMARY:CP-U16Z-V1F: TJ Junior Brno-TJ Ostrava
END:VEVENT
BEGIN:VEVENT
UID:30633465-6662-4665-b161-313936393938
DTSTAMP:20260422T033928Z
DESCRIPTION:4/6 VK UP Olomouc - TJ Junior Brno 2:0 (17\,15)
DTSTART;TZID=Europe/Berlin:20230923T144500
DTEND;TZID=Europe/Berlin:20230923T164500
LOCATION:UP Olomouc\, U sportovní haly 38 Olomouc - Lazce
SUMMARY:CP-U16Z-V1F: VK UP Olomouc-TJ Junior Brno
END:VEVENT
BEGIN:VEVENT
UID:35363833-6335-4338-b536-383038633461
DTSTAMP:20260422T033928Z
DESCRIPTION:6/8 Volejbal Přerov - TJ Junior Brno 0:2 (-16\,-12)
DTSTART;TZID=Europe/Berlin:20230923T171500
DTEND;TZID=Europe/Berlin:20230923T191500
LOCATION:Městská sportovní hala\, Petřivalského 2884 Přerov - Přerov I-Měst
 o
SUMMARY:CP-U16Z-V1F: Volejbal Přerov-TJ Junior Brno
END:VEVENT
BEGIN:VEVENT
UID:36346437-6236-4634-b737-633337333665
DTSTAMP:20260422T033928Z
DESCRIPTION:1/1 TJ Junior Brno - Volejbal Vyškov D 2:0 (14\,21)
DTSTART;TZID=Europe/Berlin:20231014T093000
DTEND;TZID=Europe/Berlin:20231014T113000
LOCATION:tělocvičny ZŠ Novolíšeňská\, Brno\, Novolíšeňská 2411 Brno - Líšeň
SUMMARY:CP-U16Z-V2E: TJ Junior Brno-Volejbal Vyškov D
END:VEVENT
BEGIN:VEVENT
UID:63373536-3931-4336-b466-656539393062
DTSTAMP:20260422T033928Z
DESCRIPTION:4/7 TJ Junior Brno - VO TJ Lanškroun B 2:0 (14\,16)
DTSTART;TZID=Europe/Berlin:20231014T133000
DTEND;TZID=Europe/Berlin:20231014T153000
LOCATION:tělocvičny ZŠ Novolíšeňská\, Brno\, Novolíšeňská 2411 Brno - Líšeň
SUMMARY:CP-U16Z-V2E: TJ Junior Brno-VO TJ Lanškroun B
END:VEVENT
BEGIN:VEVENT
UID:30373566-6661-4936-b431-653930666462
DTSTAMP:20260422T033928Z
DESCRIPTION:6/11 TJ Junior Brno - Volejbal Vyškov C 2:0 (18\,14)
DTSTART;TZID=Europe/Berlin:20231014T160000
DTEND;TZID=Europe/Berlin:20231014T180000
LOCATION:tělocvičny ZŠ Novolíšeňská\, Brno\, Novolíšeňská 2411 Brno - Líšeň
SUMMARY:CP-U16Z-V2E: TJ Junior Brno-Volejbal Vyškov C
END:VEVENT
BEGIN:VEVENT
UID:65336365-6435-4662-a536-353139333132
DTSTAMP:20260422T033928Z
DESCRIPTION:11/21 TJ Junior Brno - TJ Sokol Újezd u Brna 2:0 (21\,22)
DTSTART;TZID=Europe/Berlin:20231015T124500
DTEND;TZID=Europe/Berlin:20231015T144500
LOCATION:tělocvičny ZŠ Novolíšeňská\, Brno\, Novolíšeňská 2411 Brno - Líšeň
SUMMARY:CP-U16Z-V2E: TJ Junior Brno-TJ Sokol Újezd u Brna
END:VEVENT
BEGIN:VEVENT
UID:63376135-3837-4766-a132-653332386463
DTSTAMP:20260422T033928Z
DESCRIPTION:2/3 TJ Sokol Dolní Újezd - TJ Junior Brno 1:2 (-15\,27\,-1)
DTSTART;TZID=Europe/Berlin:20231014T110000
DTEND;TZID=Europe/Berlin:20231014T130000
LOCATION:tělocvična Základní školy\,  Dolní Újezd342
SUMMARY:CP-U16Z-V2E: TJ Sokol Dolní Újezd-TJ Junior Brno
END:VEVENT
BEGIN:VEVENT
UID:39656238-3062-4664-b962-666431343564
DTSTAMP:20260422T033928Z
DESCRIPTION:9/17 SK Ruchadlo Zájezd - TJ Junior Brno 2:1 (-15\,23\,13)
DTSTART;TZID=Europe/Berlin:20231015T101500
DTEND;TZID=Europe/Berlin:20231015T121500
LOCATION:Sportovní hala\, Sportovní 38 Česká Skalice
SUMMARY:CP-U16Z-V2E: SK Ruchadlo Zájezd-TJ Junior Brno
END:VEVENT
BEGIN:VEVENT
UID:65653564-6137-4266-b536-623962343935
DTSTAMP:20260422T033928Z
DESCRIPTION:1/2 TJ Junior Brno - TJ Jičín 1:2 (-21\,24\,-13)\n1.ZŠ17.listop
 adu 109
DTSTART;TZID=Europe/Berlin:20231118T100000
DTEND;TZID=Europe/Berlin:20231118T120000
LOCATION:tělocvičny ZŠ Novolíšeňská\, Brno\, Novolíšeňská 2411 Brno - Líšeň
SUMMARY:CP-U16Z-V3D: TJ Junior Brno-TJ Jičín
END:VEVENT
BEGIN:VEVENT
UID:38313262-6438-4130-b265-393333353431
DTSTAMP:20260422T033928Z
DESCRIPTION:5/10 TJ Junior Brno - TJ Sokol Předklášteří 2:0 (18\,19)\n1.ZŠ1
 7.listopadu 109
DTSTART;TZID=Europe/Berlin:20231118T151500
DTEND;TZID=Europe/Berlin:20231118T171500
LOCATION:tělocvičny ZŠ Novolíšeňská\, Brno\, Novolíšeňská 2411 Brno - Líšeň
SUMMARY:CP-U16Z-V3D: TJ Junior Brno-TJ Sokol Předklášteří
END:VEVENT
BEGIN:VEVENT
UID:63663964-3236-4565-b338-316338346635
DTSTAMP:20260422T033928Z
DESCRIPTION:8/16 TJ Junior Brno - SK Ruchadlo Zájezd 1:2 (15\,-22\,-2)\n1.Z
 Š17.listopadu 109
DTSTART;TZID=Europe/Berlin:20231119T090000
DTEND;TZID=Europe/Berlin:20231119T110000
LOCATION:tělocvičny ZŠ Novolíšeňská\, Brno\, Novolíšeňská 2411 Brno - Líšeň
SUMMARY:CP-U16Z-V3D: TJ Junior Brno-SK Ruchadlo Zájezd
END:VEVENT
BEGIN:VEVENT
UID:38303734-3238-4564-a634-396165633264
DTSTAMP:20260422T033928Z
DESCRIPTION:4/8 TJ Slovácká Slavia U. Hradiště - TJ Junior Brno 2:1 (26\,-2
 2\,9)\n1.ZŠ17.listopadu 109
DTSTART;TZID=Europe/Berlin:20231118T140000
DTEND;TZID=Europe/Berlin:20231118T160000
LOCATION:Městská sportovní hala\, Stonky 860 Uherské Hradiště
SUMMARY:CP-U16Z-V3D: TJ Slovácká Slavia U. Hradiště-TJ Junior Brno
END:VEVENT
BEGIN:VEVENT
UID:30373533-6661-4233-a339-633862356136
DTSTAMP:20260422T033928Z
DESCRIPTION:7/13 VoCe - TJ Junior Brno 0:2 (-21\,-18)\nMOA 17.listopadu 220
 \, Jičín
DTSTART;TZID=Europe/Berlin:20231118T174500
DTEND;TZID=Europe/Berlin:20231118T194500
LOCATION:Tělocvična ZŠ Černčice\,  Černčice68
SUMMARY:CP-U16Z-V3D: VoCe-TJ Junior Brno
END:VEVENT
BEGIN:VEVENT
UID:36313835-6663-4762-b666-306366626362
DTSTAMP:20260422T033928Z
DESCRIPTION:9/18 Orel Letohrad - TJ Junior Brno 0:2 (-14\,-22)\n1.ZŠ17.list
 opadu 109
DTSTART;TZID=Europe/Berlin:20231119T103000
DTEND;TZID=Europe/Berlin:20231119T123000
LOCATION:TJ Spartak Letohrad\, Jilemnického 341 Letohrad
SUMMARY:CP-U16Z-V3D: Orel Letohrad-TJ Junior Brno
END:VEVENT
BEGIN:VEVENT
UID:65356437-3861-4339-a664-653634386334
DTSTAMP:20260422T033928Z
DESCRIPTION:1/3 TJ Junior Brno - Žatec 2:0 (18\,17)
DTSTART;TZID=Europe/Berlin:20240127T090000
DTEND;TZID=Europe/Berlin:20240127T110000
LOCATION:tělocvičny ZŠ Novolíšeňská\, Brno\, Novolíšeňská 2411 Brno - Líšeň
SUMMARY:CP-U16Z-F1G: TJ Junior Brno-Žatec
END:VEVENT
BEGIN:VEVENT
UID:65636636-3435-4163-a663-613436643539
DTSTAMP:20260422T033928Z
DESCRIPTION:4/12 TJ Junior Brno - SK Slavia Praha - volejbal 2:0 (23\,22)
DTSTART;TZID=Europe/Berlin:20240127T133000
DTEND;TZID=Europe/Berlin:20240127T153000
LOCATION:tělocvičny ZŠ Novolíšeňská\, Brno\, Novolíšeňská 2411 Brno - Líšeň
SUMMARY:CP-U16Z-F1G: TJ Junior Brno-SK Slavia Praha - volejbal
END:VEVENT
BEGIN:VEVENT
UID:61303236-6136-4632-a163-633238316439
DTSTAMP:20260422T033928Z
DESCRIPTION:10/26 TJ Junior Brno - TJ EMĚ Mělník 2:0 (17\,17)
DTSTART;TZID=Europe/Berlin:20240128T130000
DTEND;TZID=Europe/Berlin:20240128T150000
LOCATION:tělocvičny ZŠ Novolíšeňská\, Brno\, Novolíšeňská 2411 Brno - Líšeň
SUMMARY:CP-U16Z-F1G: TJ Junior Brno-TJ EMĚ Mělník
END:VEVENT
BEGIN:VEVENT
UID:33393733-3537-4766-a233-663631353039
DTSTAMP:20260422T033928Z
DESCRIPTION:3/8 TJ Sokol Předklášteří - TJ Junior Brno 1:2 (-17\,17\,-4)
DTSTART;TZID=Europe/Berlin:20240127T114000
DTEND;TZID=Europe/Berlin:20240127T134000
LOCATION:ZŠ Předklášteří\, Komenského 1097 Předklášteří
SUMMARY:CP-U16Z-F1G: TJ Sokol Předklášteří-TJ Junior Brno
END:VEVENT
BEGIN:VEVENT
UID:64383265-3164-4961-b465-633130303634
DTSTAMP:20260422T033928Z
DESCRIPTION:5/15 Neratovice - TJ Junior Brno 2:1 (23\,-12\,14)
DTSTART;TZID=Europe/Berlin:20240127T145000
DTEND;TZID=Europe/Berlin:20240127T165000
LOCATION:sportovní hala TJ Neratovice \, Kpt. Jaroše 233 Neratovice
SUMMARY:CP-U16Z-F1G: Neratovice-TJ Junior Brno
END:VEVENT
BEGIN:VEVENT
UID:36396435-3133-4562-b939-653266316236
DTSTAMP:20260422T033928Z
DESCRIPTION:7/18 VoCe - TJ Junior Brno 1:2 (-12\,22\,-5)
DTSTART;TZID=Europe/Berlin:20240128T090000
DTEND;TZID=Europe/Berlin:20240128T110000
LOCATION:Tělocvična ZŠ Černčice\,  Černčice68
SUMMARY:CP-U16Z-F1G: VoCe-TJ Junior Brno
END:VEVENT
BEGIN:VEVENT
UID:34306238-6239-4535-a161-656534616239
DTSTAMP:20260422T033928Z
DESCRIPTION:9/24 SK Ruchadlo Zájezd - TJ Junior Brno 0:2 (-18\,-18)
DTSTART;TZID=Europe/Berlin:20240128T114000
DTEND;TZID=Europe/Berlin:20240128T134000
LOCATION:Sportovní hala\, Sportovní 38 Česká Skalice
SUMMARY:CP-U16Z-F1G: SK Ruchadlo Zájezd-TJ Junior Brno
END:VEVENT
BEGIN:VEVENT
UID:31306664-3236-4465-b136-316639383433
DTSTAMP:20260422T033928Z
DESCRIPTION:2/6 TJ Junior Brno - Volejbal Znojmo 2:0 (17\,22)
DTSTART;TZID=Europe/Berlin:20240217T110000
DTEND;TZID=Europe/Berlin:20240217T130000
LOCATION:tělocvičny ZŠ Novolíšeňská\, Brno\, Novolíšeňská 2411 Brno - Líšeň
SUMMARY:CP-U16Z-F2F: TJ Junior Brno-Volejbal Znojmo
END:VEVENT
BEGIN:VEVENT
UID:34613331-6162-4361-a634-373662346537
DTSTAMP:20260422T033928Z
DESCRIPTION:5/15 TJ Junior Brno - TJ Jičín 2:0 (21\,18)
DTSTART;TZID=Europe/Berlin:20240217T153000
DTEND;TZID=Europe/Berlin:20240217T173000
LOCATION:tělocvičny ZŠ Novolíšeňská\, Brno\, Novolíšeňská 2411 Brno - Líšeň
SUMMARY:CP-U16Z-F2F: TJ Junior Brno-TJ Jičín
END:VEVENT
BEGIN:VEVENT
UID:39323565-6630-4937-b761-316163393636
DTSTAMP:20260422T033928Z
DESCRIPTION:7/19 TJ Junior Brno - SK Španielka Řepy 0:2 (-19\,-31)
DTSTART;TZID=Europe/Berlin:20240218T083000
DTEND;TZID=Europe/Berlin:20240218T103000
LOCATION:tělocvičny ZŠ Novolíšeňská\, Brno\, Novolíšeňská 2411 Brno - Líšeň
SUMMARY:CP-U16Z-F2F: TJ Junior Brno-SK Španielka Řepy
END:VEVENT
BEGIN:VEVENT
UID:35383666-3762-4238-b433-626564353264
DTSTAMP:20260422T033928Z
DESCRIPTION:1/1 TJ EMĚ Mělník - TJ Junior Brno 1:2 (-16\,21\,-6)
DTSTART;TZID=Europe/Berlin:20240217T093000
DTEND;TZID=Europe/Berlin:20240217T113000
LOCATION:Tělocvična ZŠ J. Matiegky\, Pražská 2817 Mělník
SUMMARY:CP-U16Z-F2F: TJ EMĚ Mělník-TJ Junior Brno
END:VEVENT
BEGIN:VEVENT
UID:30326239-3262-4638-a539-363864653931
DTSTAMP:20260422T033928Z
DESCRIPTION:3/8 Střešovice - TJ Junior Brno 0:2 (-19\,-16)
DTSTART;TZID=Europe/Berlin:20240217T123000
DTEND;TZID=Europe/Berlin:20240217T143000
LOCATION:TJ Tatran Střešovice\, Sibeliova 368 Praha - Střešovice
SUMMARY:CP-U16Z-F2F: Střešovice-TJ Junior Brno
END:VEVENT
BEGIN:VEVENT
UID:30666230-3862-4336-a239-303034613962
DTSTAMP:20260422T033928Z
DESCRIPTION:8/22 TJ ABC Braník - TJ Junior Brno 0:2 (-19\,-16)
DTSTART;TZID=Europe/Berlin:20240218T100000
DTEND;TZID=Europe/Berlin:20240218T120000
LOCATION:Sokolovna Braník\, Branická 275 Praha - Braník
SUMMARY:CP-U16Z-F2F: TJ ABC Braník-TJ Junior Brno
END:VEVENT
BEGIN:VEVENT
UID:32616237-6236-4635-b837-646334613339
DTSTAMP:20260422T033928Z
DESCRIPTION:10/26 SK Meteor Praha - TJ Junior Brno 0:2 (-16\,-12)
DTSTART;TZID=Europe/Berlin:20240218T123000
DTEND;TZID=Europe/Berlin:20240218T143000
LOCATION:ZŠ Žernosecká\, Žernosecká 1597 Praha - Kobylisy
SUMMARY:CP-U16Z-F2F: SK Meteor Praha-TJ Junior Brno
END:VEVENT
BEGIN:VEVENT
UID:64663838-3261-4062-a331-633834343765
DTSTAMP:20260422T033928Z
DESCRIPTION:7/11 TJ Junior Brno - Volejbal Tábor 2:1 (13\,-19\,10)
DTSTART;TZID=Europe/Berlin:20240316T173000
DTEND;TZID=Europe/Berlin:20240316T193000
LOCATION:tělocvičny ZŠ Novolíšeňská\, Brno\, Novolíšeňská 2411 Brno - Líšeň
SUMMARY:CP-U16Z-F3E: TJ Junior Brno-Volejbal Tábor
END:VEVENT
BEGIN:VEVENT
UID:63356236-3261-4539-b335-313361326634
DTSTAMP:20260422T033928Z
DESCRIPTION:8/16 TJ Junior Brno - Happy Sport Opava 2:1 (-24\,25\,7)
DTSTART;TZID=Europe/Berlin:20240316T183000
DTEND;TZID=Europe/Berlin:20240316T203000
LOCATION:tělocvičny ZŠ Novolíšeňská\, Brno\, Novolíšeňská 2411 Brno - Líšeň
SUMMARY:CP-U16Z-F3E: TJ Junior Brno-Happy Sport Opava
END:VEVENT
BEGIN:VEVENT
UID:32363362-6335-4861-b935-626437306138
DTSTAMP:20260422T033928Z
DESCRIPTION:9/17 TJ Junior Brno - VK Slavia Plzeň 0:2 (-14\,-22)
DTSTART;TZID=Europe/Berlin:20240317T090000
DTEND;TZID=Europe/Berlin:20240317T110000
LOCATION:tělocvičny ZŠ Novolíšeňská\, Brno\, Novolíšeňská 2411 Brno - Líšeň
SUMMARY:CP-U16Z-F3E: TJ Junior Brno-VK Slavia Plzeň
END:VEVENT
BEGIN:VEVENT
UID:30323561-6665-4262-b034-643133353862
DTSTAMP:20260422T033928Z
DESCRIPTION:12/26 TJ Junior Brno - SVK Nový Jičín 2:0 (21\,25)
DTSTART;TZID=Europe/Berlin:20240317T130000
DTEND;TZID=Europe/Berlin:20240317T150000
LOCATION:tělocvičny ZŠ Novolíšeňská\, Brno\, Novolíšeňská 2411 Brno - Líšeň
SUMMARY:CP-U16Z-F3E: TJ Junior Brno-SVK Nový Jičín
END:VEVENT
BEGIN:VEVENT
UID:38636664-6363-4933-b336-656138303264
DTSTAMP:20260422T033928Z
DESCRIPTION:4/5 TJ ABC Braník - TJ Junior Brno 0:2 (-18\,-29)\nSPŠ Rychnov
DTSTART;TZID=Europe/Berlin:20240316T140000
DTEND;TZID=Europe/Berlin:20240316T160000
LOCATION:Sokolovna Braník\, Branická 275 Praha - Braník
SUMMARY:CP-U16Z-F3E: TJ ABC Braník-TJ Junior Brno
END:VEVENT
BEGIN:VEVENT
UID:34396463-6636-4630-a266-373839313463
DTSTAMP:20260422T033928Z
DESCRIPTION:6/8 Orel Letohrad - TJ Junior Brno 0:2 (-21\,-25)\nKostelec/O\,
  hř.1
DTSTART;TZID=Europe/Berlin:20240316T163000
DTEND;TZID=Europe/Berlin:20240316T183000
LOCATION:TJ Spartak Letohrad\, Jilemnického 341 Letohrad
SUMMARY:CP-U16Z-F3E: Orel Letohrad-TJ Junior Brno
END:VEVENT
BEGIN:VEVENT
UID:30396333-3265-4565-a533-353364313762
DTSTAMP:20260422T033928Z
DESCRIPTION:11/25 RÉMA Rychnov - TJ Junior Brno 0:2 (-23\,-13)
DTSTART;TZID=Europe/Berlin:20240317T120000
DTEND;TZID=Europe/Berlin:20240317T140000
LOCATION:VOŠ a SŠ zem.\, Komenského 873 Kostelec nad Orlicí
SUMMARY:CP-U16Z-F3E: RÉMA Rychnov-TJ Junior Brno
END:VEVENT
END:VCALENDAR
