BEGIN:VCALENDAR
VERSION:2.0
PRODID:-//TJ Sokol Pouchov83221//NONSGML kigkonsult.se iCalcreator 2.41.80//
CALSCALE:GREGORIAN
UID:35356463-6565-4638-b338-343836636561
BEGIN:VEVENT
UID:35306162-6461-4339-b465-393936626531
DTSTAMP:20260422T052747Z
DESCRIPTION:3/5 Sokol Pouchov - TJ Slovan Varnsdorf z.s. 2:0 (13\,16)
DTSTART;TZID=Europe/Berlin:20230923T133000
DTEND;TZID=Europe/Berlin:20230923T153000
LOCATION:Hala Pouchov\, K Sokolovně 544 Hradec Králové - Pouchov
SUMMARY:CP-U16Z-V1C: Sokol Pouchov-TJ Slovan Varnsdorf z.s.
END:VEVENT
BEGIN:VEVENT
UID:33383761-3462-4462-a562-613432666362
DTSTAMP:20260422T052747Z
DESCRIPTION:4/7 Sokol Pouchov - SK Volejbal Kolín 0:2 (-11\,-20)
DTSTART;TZID=Europe/Berlin:20230923T144500
DTEND;TZID=Europe/Berlin:20230923T164500
LOCATION:Hala Pouchov\, K Sokolovně 544 Hradec Králové - Pouchov
SUMMARY:CP-U16Z-V1C: Sokol Pouchov-SK Volejbal Kolín
END:VEVENT
BEGIN:VEVENT
UID:30643661-3931-4338-b934-373132663236
DTSTAMP:20260422T052747Z
DESCRIPTION:8/15 Sokol Pouchov - TJ Sokol Dolní Újezd 2:0 (14\,22)
DTSTART;TZID=Europe/Berlin:20230924T113000
DTEND;TZID=Europe/Berlin:20230924T133000
LOCATION:Hala Pouchov\, K Sokolovně 544 Hradec Králové - Pouchov
SUMMARY:CP-U16Z-V1C: Sokol Pouchov-TJ Sokol Dolní Újezd
END:VEVENT
BEGIN:VEVENT
UID:38653064-3939-4465-b265-633639666165
DTSTAMP:20260422T052747Z
DESCRIPTION:2/3 TJ Sokol Předklášteří - Sokol Pouchov 2:0 (19\,21)
DTSTART;TZID=Europe/Berlin:20230923T121500
DTEND;TZID=Europe/Berlin:20230923T141500
LOCATION:ZŠ Předklášteří\, Komenského 1097 Předklášteří
SUMMARY:CP-U16Z-V1C: TJ Sokol Předklášteří-Sokol Pouchov
END:VEVENT
BEGIN:VEVENT
UID:66666631-3233-4663-b038-303765313930
DTSTAMP:20260422T052747Z
DESCRIPTION:6/10 TJ Sokol Pardubice I. - Sokol Pouchov 2:0 (11\,8)
DTSTART;TZID=Europe/Berlin:20230924T090000
DTEND;TZID=Europe/Berlin:20230924T110000
LOCATION:Sokolovna\, Jiráskova 29 Pardubice - Zelené Předměstí
SUMMARY:CP-U16Z-V1C: TJ Sokol Pardubice I.-Sokol Pouchov
END:VEVENT
BEGIN:VEVENT
UID:37316532-3835-4563-b233-353261366361
DTSTAMP:20260422T052747Z
DESCRIPTION:1/1 Sokol Pouchov - TJ Jičín 1:2 (-14\,17\,-16)
DTSTART;TZID=Europe/Berlin:20231014T100000
DTEND;TZID=Europe/Berlin:20231014T120000
LOCATION:Hala Pouchov\, K Sokolovně 544 Hradec Králové - Pouchov
SUMMARY:CP-U16Z-V2D: Sokol Pouchov-TJ Jičín
END:VEVENT
BEGIN:VEVENT
UID:66326134-3864-4266-b437-653534393234
DTSTAMP:20260422T052747Z
DESCRIPTION:5/9 Sokol Pouchov - Volejbal Znojmo 0:2 (-17\,-21)
DTSTART;TZID=Europe/Berlin:20231014T144500
DTEND;TZID=Europe/Berlin:20231014T164500
LOCATION:Hala Pouchov\, K Sokolovně 544 Hradec Králové - Pouchov
SUMMARY:CP-U16Z-V2D: Sokol Pouchov-Volejbal Znojmo
END:VEVENT
BEGIN:VEVENT
UID:62363035-6339-4234-a637-303031393632
DTSTAMP:20260422T052747Z
DESCRIPTION:8/15 Sokol Pouchov - Lokomotiva Fosfa Břeclav 0:2 (-18\,-20)
DTSTART;TZID=Europe/Berlin:20231015T090000
DTEND;TZID=Europe/Berlin:20231015T110000
LOCATION:Hala Pouchov\, K Sokolovně 544 Hradec Králové - Pouchov
SUMMARY:CP-U16Z-V2D: Sokol Pouchov-Lokomotiva Fosfa Břeclav
END:VEVENT
BEGIN:VEVENT
UID:65633631-3534-4436-b564-363532633964
DTSTAMP:20260422T052747Z
DESCRIPTION:2/3 SVK Nový Jičín - Sokol Pouchov 2:1 (-21\,24\,12)
DTSTART;TZID=Europe/Berlin:20231014T111500
DTEND;TZID=Europe/Berlin:20231014T131500
LOCATION:Hala ABC\, Purkyňova 116 Nový Jičín
SUMMARY:CP-U16Z-V2D: SVK Nový Jičín-Sokol Pouchov
END:VEVENT
BEGIN:VEVENT
UID:38333463-3065-4235-a139-643664363934
DTSTAMP:20260422T052747Z
DESCRIPTION:6/11 Orel Letohrad - Sokol Pouchov 1:2 (18\,-9\,-17)
DTSTART;TZID=Europe/Berlin:20231014T160000
DTEND;TZID=Europe/Berlin:20231014T180000
LOCATION:TJ Spartak Letohrad\, Jilemnického 341 Letohrad
SUMMARY:CP-U16Z-V2D: Orel Letohrad-Sokol Pouchov
END:VEVENT
BEGIN:VEVENT
UID:66653633-3539-4337-b731-333363393931
DTSTAMP:20260422T052747Z
DESCRIPTION:12/21 VoCe - Sokol Pouchov 2:0 (14\,13)
DTSTART;TZID=Europe/Berlin:20231015T134500
DTEND;TZID=Europe/Berlin:20231015T154500
LOCATION:Tělocvična ZŠ Černčice\,  Černčice68
SUMMARY:CP-U16Z-V2D: VoCe-Sokol Pouchov
END:VEVENT
BEGIN:VEVENT
UID:39376663-6335-4163-b563-363036613631
DTSTAMP:20260422T052747Z
DESCRIPTION:5/10 Sokol Pouchov - Lokomotiva Fosfa Břeclav 2:1 (-22\,19\,12)
DTSTART;TZID=Europe/Berlin:20231118T144500
DTEND;TZID=Europe/Berlin:20231118T164500
LOCATION:Hala Pouchov\, K Sokolovně 544 Hradec Králové - Pouchov
SUMMARY:CP-U16Z-V3E: Sokol Pouchov-Lokomotiva Fosfa Břeclav
END:VEVENT
BEGIN:VEVENT
UID:38643163-3064-4430-a666-383137663932
DTSTAMP:20260422T052747Z
DESCRIPTION:9/18 Sokol Pouchov - Volejbal Vyškov D 0:2 (-21\,-23)
DTSTART;TZID=Europe/Berlin:20231119T103000
DTEND;TZID=Europe/Berlin:20231119T123000
LOCATION:Hala Pouchov\, K Sokolovně 544 Hradec Králové - Pouchov
SUMMARY:CP-U16Z-V3E: Sokol Pouchov-Volejbal Vyškov D
END:VEVENT
BEGIN:VEVENT
UID:33646436-6538-4531-a131-323762366631
DTSTAMP:20260422T052747Z
DESCRIPTION:2/4 TJ Žďár nad Sázavou - Sokol Pouchov 0:2 (-24\,-14)
DTSTART;TZID=Europe/Berlin:20231118T111500
DTEND;TZID=Europe/Berlin:20231118T131500
LOCATION:ZŠ Palachova\, Palachova 1757 Žďár nad Sázavou - Žďár nad Sázavou 
 6
SUMMARY:CP-U16Z-V3E: TJ Žďár nad Sázavou-Sokol Pouchov
END:VEVENT
BEGIN:VEVENT
UID:39643332-6266-4734-b562-366466653065
DTSTAMP:20260422T052747Z
DESCRIPTION:3/5 VO TJ Lanškroun B - Sokol Pouchov 0:2 (-25\,-21)
DTSTART;TZID=Europe/Berlin:20231118T123000
DTEND;TZID=Europe/Berlin:20231118T143000
LOCATION:SOŠ a SOU Lanškroun\, Sokolská 288 Lanškroun - Ostrovské Předměstí
SUMMARY:CP-U16Z-V3E: VO TJ Lanškroun B-Sokol Pouchov
END:VEVENT
BEGIN:VEVENT
UID:61616235-3934-4430-b232-393534383639
DTSTAMP:20260422T052747Z
DESCRIPTION:7/13 Volejbal Vyškov C - Sokol Pouchov 0:2 (-21\,-18)
DTSTART;TZID=Europe/Berlin:20231118T171500
DTEND;TZID=Europe/Berlin:20231118T191500
LOCATION:Tělocvična ZŠ Nádražní\, Nádražní 5 Vyškov - Vyškov-Město
SUMMARY:CP-U16Z-V3E: Volejbal Vyškov C-Sokol Pouchov
END:VEVENT
BEGIN:VEVENT
UID:61623738-6566-4531-a135-346239646133
DTSTAMP:20260422T052747Z
DESCRIPTION:10/20 Volejbal Přerov - Sokol Pouchov 0:2 (-22\,-18)
DTSTART;TZID=Europe/Berlin:20231119T114500
DTEND;TZID=Europe/Berlin:20231119T134500
LOCATION:Městská sportovní hala\, Petřivalského 2884 Přerov - Přerov I-Měst
 o
SUMMARY:CP-U16Z-V3E: Volejbal Přerov-Sokol Pouchov
END:VEVENT
BEGIN:VEVENT
UID:36623638-3838-4462-b431-656235353430
DTSTAMP:20260422T052747Z
DESCRIPTION:3/5 Sokol Pouchov - VO TJ Lanškroun B 0:2 (-23\,-20)
DTSTART;TZID=Europe/Berlin:20240127T113000
DTEND;TZID=Europe/Berlin:20240127T133000
LOCATION:Hala Pouchov\, K Sokolovně 544 Hradec Králové - Pouchov
SUMMARY:CP-U16Z-F1H: Sokol Pouchov-VO TJ Lanškroun B
END:VEVENT
BEGIN:VEVENT
UID:30363035-6230-4636-b464-363230383839
DTSTAMP:20260422T052747Z
DESCRIPTION:5/10 Sokol Pouchov - VK Madeta 1:2 (-26\,17\,-13)
DTSTART;TZID=Europe/Berlin:20240127T140000
DTEND;TZID=Europe/Berlin:20240127T160000
LOCATION:Hala Pouchov\, K Sokolovně 544 Hradec Králové - Pouchov
SUMMARY:CP-U16Z-F1H: Sokol Pouchov-VK Madeta
END:VEVENT
BEGIN:VEVENT
UID:32333765-3536-4132-b631-633235666130
DTSTAMP:20260422T052747Z
DESCRIPTION:10/19 Sokol Pouchov - Lokomotiva Fosfa Břeclav 0:2 (-18\,-26)
DTSTART;TZID=Europe/Berlin:20240128T090000
DTEND;TZID=Europe/Berlin:20240128T110000
LOCATION:Hala Pouchov\, K Sokolovně 544 Hradec Králové - Pouchov
SUMMARY:CP-U16Z-F1H: Sokol Pouchov-Lokomotiva Fosfa Břeclav
END:VEVENT
BEGIN:VEVENT
UID:31303036-3565-4538-a632-636333656632
DTSTAMP:20260422T052747Z
DESCRIPTION:13/25 Sokol Pouchov - VK Karlovy Vary B 2:1 (23\,-23\,6)
DTSTART;TZID=Europe/Berlin:20240128T124500
DTEND;TZID=Europe/Berlin:20240128T144500
LOCATION:Hala Pouchov\, K Sokolovně 544 Hradec Králové - Pouchov
SUMMARY:CP-U16Z-F1H: Sokol Pouchov-VK Karlovy Vary B
END:VEVENT
BEGIN:VEVENT
UID:31363431-6534-4163-b436-376538383534
DTSTAMP:20260422T052747Z
DESCRIPTION:2/4 SC SPIRIT Říčany - Sokol Pouchov 0:2 (-15\,-21)
DTSTART;TZID=Europe/Berlin:20240127T101500
DTEND;TZID=Europe/Berlin:20240127T121500
LOCATION:Sportovní hala Světice\, U Hřiště 151 Světice
SUMMARY:CP-U16Z-F1H: SC SPIRIT Říčany-Sokol Pouchov
END:VEVENT
BEGIN:VEVENT
UID:33353738-3531-4163-b564-626265373066
DTSTAMP:20260422T052747Z
DESCRIPTION:8/16 Volejbal Vyškov D - Sokol Pouchov 2:1 (17\,-17\,17)
DTSTART;TZID=Europe/Berlin:20240127T174500
DTEND;TZID=Europe/Berlin:20240127T194500
LOCATION:Tělocvična ZŠ Nádražní\, Nádražní 5 Vyškov - Vyškov-Město
SUMMARY:CP-U16Z-F1H: Volejbal Vyškov D-Sokol Pouchov
END:VEVENT
BEGIN:VEVENT
UID:63363737-6462-4930-b463-333630643834
DTSTAMP:20260422T052747Z
DESCRIPTION:11/21 SK Ještědská Liberec - Sokol Pouchov 2:0 (13\,15)
DTSTART;TZID=Europe/Berlin:20240128T101500
DTEND;TZID=Europe/Berlin:20240128T121500
LOCATION:ZŠ Ještědská\, Ještědská 354 Liberec - Liberec VIII-Dolní Hanychov
SUMMARY:CP-U16Z-F1H: SK Ještědská Liberec-Sokol Pouchov
END:VEVENT
BEGIN:VEVENT
UID:61313936-3431-4230-b064-646537353166
DTSTAMP:20260422T052747Z
DESCRIPTION:5/9 Sokol Pouchov - Volejbal Přerov 1:2 (22\,-17\,-8)\nhala Čes
 ká Skalice
DTSTART;TZID=Europe/Berlin:20240217T142000
DTEND;TZID=Europe/Berlin:20240217T162000
LOCATION:Hala Pouchov\, K Sokolovně 544 Hradec Králové - Pouchov
SUMMARY:CP-U16Z-F2H: Sokol Pouchov-Volejbal Přerov
END:VEVENT
BEGIN:VEVENT
UID:33656333-3139-4233-a166-626361646131
DTSTAMP:20260422T052747Z
DESCRIPTION:7/13 Sokol Pouchov - VK Madeta 1:2 (17\,-23\,-13)\nhala Česká S
 kalice
DTSTART;TZID=Europe/Berlin:20240217T170000
DTEND;TZID=Europe/Berlin:20240217T190000
LOCATION:Hala Pouchov\, K Sokolovně 544 Hradec Králové - Pouchov
SUMMARY:CP-U16Z-F2H: Sokol Pouchov-VK Madeta
END:VEVENT
BEGIN:VEVENT
UID:38326530-6638-4235-b463-303436303537
DTSTAMP:20260422T052747Z
DESCRIPTION:10/20 Sokol Pouchov - Lokomotiva Fosfa Břeclav 2:0 (16\,20)\nha
 la Hořičky
DTSTART;TZID=Europe/Berlin:20240218T102000
DTEND;TZID=Europe/Berlin:20240218T122000
LOCATION:Hala Pouchov\, K Sokolovně 544 Hradec Králové - Pouchov
SUMMARY:CP-U16Z-F2H: Sokol Pouchov-Lokomotiva Fosfa Břeclav
END:VEVENT
BEGIN:VEVENT
UID:38343439-3832-4561-b563-333330663161
DTSTAMP:20260422T052748Z
DESCRIPTION:12/24 Sokol Pouchov - SK Slavia Praha - volejbal 0:2 (-18\,-19)
 \nhala Hořičky
DTSTART;TZID=Europe/Berlin:20240218T130000
DTEND;TZID=Europe/Berlin:20240218T150000
LOCATION:Hala Pouchov\, K Sokolovně 544 Hradec Králové - Pouchov
SUMMARY:CP-U16Z-F2H: Sokol Pouchov-SK Slavia Praha - volejbal
END:VEVENT
BEGIN:VEVENT
UID:39646566-3763-4366-b337-313835333338
DTSTAMP:20260422T052748Z
DESCRIPTION:14/27 Sokol Pouchov - VK Karlovy Vary B 2:0 (15\,15)\nhala Česk
 á Skalice
DTSTART;TZID=Europe/Berlin:20240218T154000
DTEND;TZID=Europe/Berlin:20240218T174000
LOCATION:Hala Pouchov\, K Sokolovně 544 Hradec Králové - Pouchov
SUMMARY:CP-U16Z-F2H: Sokol Pouchov-VK Karlovy Vary B
END:VEVENT
BEGIN:VEVENT
UID:66663434-6334-4433-a336-613461666262
DTSTAMP:20260422T052748Z
DESCRIPTION:2/3 VSK Baník Sokolov - Sokol Pouchov 0:2 (-15\,-13)\nhala Česk
 á Skalice
DTSTART;TZID=Europe/Berlin:20240217T102000
DTEND;TZID=Europe/Berlin:20240217T122000
LOCATION:Jiskra\, Maxima Gorkého 280 Sokolov
SUMMARY:CP-U16Z-F2H: VSK Baník Sokolov-Sokol Pouchov
END:VEVENT
BEGIN:VEVENT
UID:34653663-3238-4161-b462-356562313961
DTSTAMP:20260422T052748Z
DESCRIPTION:4/7 SK Ruchadlo Zájezd - Sokol Pouchov 0:2 (-19\,-20)\nhala Čes
 ká Skalice
DTSTART;TZID=Europe/Berlin:20240217T130000
DTEND;TZID=Europe/Berlin:20240217T150000
LOCATION:Sportovní hala\, Sportovní 38 Česká Skalice
SUMMARY:CP-U16Z-F2H: SK Ruchadlo Zájezd-Sokol Pouchov
END:VEVENT
BEGIN:VEVENT
UID:31626232-3637-4536-b666-393130616635
DTSTAMP:20260422T052748Z
DESCRIPTION:1/4 Sokol Pouchov - TJ Sokol Předklášteří 2:1 (14\,-22\,13)
DTSTART;TZID=Europe/Berlin:20240316T101500
DTEND;TZID=Europe/Berlin:20240316T121500
LOCATION:Hala Pouchov\, K Sokolovně 544 Hradec Králové - Pouchov
SUMMARY:CP-U16Z-F3H: Sokol Pouchov-TJ Sokol Předklášteří
END:VEVENT
BEGIN:VEVENT
UID:63373266-6161-4236-b663-613462366264
DTSTAMP:20260422T052748Z
DESCRIPTION:4/14 Sokol Pouchov - VSK Baník Sokolov 2:1 (-20\,20\,10)
DTSTART;TZID=Europe/Berlin:20240316T163000
DTEND;TZID=Europe/Berlin:20240316T183000
LOCATION:Hala Pouchov\, K Sokolovně 544 Hradec Králové - Pouchov
SUMMARY:CP-U16Z-F3H: Sokol Pouchov-VSK Baník Sokolov
END:VEVENT
BEGIN:VEVENT
UID:32333339-3130-4061-a266-623232626631
DTSTAMP:20260422T052748Z
DESCRIPTION:5/17 Sokol Pouchov - TJ Sokol Šternberk 2:0 (24\,12)
DTSTART;TZID=Europe/Berlin:20240317T090000
DTEND;TZID=Europe/Berlin:20240317T110000
LOCATION:Hala Pouchov\, K Sokolovně 544 Hradec Králové - Pouchov
SUMMARY:CP-U16Z-F3H: Sokol Pouchov-TJ Sokol Šternberk
END:VEVENT
BEGIN:VEVENT
UID:61316337-6663-4236-a462-383633393332
DTSTAMP:20260422T052748Z
DESCRIPTION:6/22 Sokol Pouchov - SK Ruchadlo Zájezd 2:1 (21\,-23\,9)
DTSTART;TZID=Europe/Berlin:20240317T113000
DTEND;TZID=Europe/Berlin:20240317T133000
LOCATION:Hala Pouchov\, K Sokolovně 544 Hradec Králové - Pouchov
SUMMARY:CP-U16Z-F3H: Sokol Pouchov-SK Ruchadlo Zájezd
END:VEVENT
BEGIN:VEVENT
UID:66643361-3239-4138-a465-646366653365
DTSTAMP:20260422T052748Z
DESCRIPTION:1/1 TJ Jiskra Havlíčkův Brod - Sokol Pouchov 2:1 (14\,-16\,13)
DTSTART;TZID=Europe/Berlin:20240316T090000
DTEND;TZID=Europe/Berlin:20240316T110000
LOCATION:Sportovní hala TJ Jiskra\, Ledečská 3028 Havlíčkův Brod
SUMMARY:CP-U16Z-F3H: TJ Jiskra Havlíčkův Brod-Sokol Pouchov
END:VEVENT
BEGIN:VEVENT
UID:62323133-6234-4664-b232-386666653639
DTSTAMP:20260422T052748Z
DESCRIPTION:3/9 SK Slavia Praha - volejbal - Sokol Pouchov 0:2 (-18\,-22)
DTSTART;TZID=Europe/Berlin:20240316T140000
DTEND;TZID=Europe/Berlin:20240316T160000
LOCATION:Jana\, Vladivostocká 1460 Praha - Vršovice
SUMMARY:CP-U16Z-F3H: SK Slavia Praha - volejbal-Sokol Pouchov
END:VEVENT
BEGIN:VEVENT
UID:65366661-3065-4033-b136-663030636661
DTSTAMP:20260422T052748Z
DESCRIPTION:7/27 Škola volejbalu - Sokol Pouchov 0:2 (-18\,-15)
DTSTART;TZID=Europe/Berlin:20240317T141500
DTEND;TZID=Europe/Berlin:20240317T161500
LOCATION:Sportovní hala Hrdějovice\,  Hrdějovice597
SUMMARY:CP-U16Z-F3H: Škola volejbalu-Sokol Pouchov
END:VEVENT
END:VCALENDAR
