BEGIN:VCALENDAR
VERSION:2.0
PRODID:-//Tělovýchovná jednota Sklo Bohemia Světlá nad Sázavou, z.s.83223//NONSGML kigkonsult.se iCalcreator 2.41.80//
CALSCALE:GREGORIAN
UID:65653765-3764-4337-b638-386164656431
BEGIN:VEVENT
UID:38346530-6132-4664-b739-666664333265
DTSTAMP:20260423T042942Z
DESCRIPTION:1/1 Sklo Bohemia Světlá nad Sázavou\, z.s. - Tělovýchovná jedno
 ta Jiskra Havlíčkův Brod z.s.        'A' 0:2 (-9\,-12)\nPořadatel KCTM
DTSTART;TZID=Europe/Berlin:20231001T090000
DTEND;TZID=Europe/Berlin:20231001T110000
LOCATION:Sportovní hala\, Komenského 1256 Světlá nad Sázavou
SUMMARY:VY-U16Z: Sklo Bohemia Světlá nad Sázavou\, z.s.-Tělovýchovná jednot
 a Jiskra Havlíčkův Brod z.s.        'A'
END:VEVENT
BEGIN:VEVENT
UID:32616362-3734-4633-b236-353361376535
DTSTAMP:20260423T042942Z
DESCRIPTION:2/25 Sklo Bohemia Světlá nad Sázavou\, z.s. - Štoky 1:2 (-10\,2
 1\,-7)\nPořadatel Světlá
DTSTART;TZID=Europe/Berlin:20231022T090000
DTEND;TZID=Europe/Berlin:20231022T110000
LOCATION:Sportovní hala\, Komenského 1256 Světlá nad Sázavou
SUMMARY:VY-U16Z: Sklo Bohemia Světlá nad Sázavou\, z.s.-Štoky
END:VEVENT
BEGIN:VEVENT
UID:31306633-3831-4131-b264-373935636565
DTSTAMP:20260423T042942Z
DESCRIPTION:3/49 Sklo Bohemia Světlá nad Sázavou\, z.s. - Základní škola Př
 ibyslav 2:0 (22\,22)\nPořadatel Přibyslav
DTSTART;TZID=Europe/Berlin:20231112T090000
DTEND;TZID=Europe/Berlin:20231112T110000
LOCATION:Sportovní hala\, Komenského 1256 Světlá nad Sázavou
SUMMARY:VY-U16Z: Sklo Bohemia Světlá nad Sázavou\, z.s.-Základní škola Přib
 yslav
END:VEVENT
BEGIN:VEVENT
UID:61353332-3866-4664-b639-313431336630
DTSTAMP:20260423T042942Z
DESCRIPTION:4/73 Sklo Bohemia Světlá nad Sázavou\, z.s. - Tělovýchovná jedn
 ota Jiskra Havlíčkův Brod z.s.      'B' 1:2 (-18\,20\,-11)\nPořadatel Svět
 lá
DTSTART;TZID=Europe/Berlin:20231203T090000
DTEND;TZID=Europe/Berlin:20231203T110000
LOCATION:Sportovní hala\, Komenského 1256 Světlá nad Sázavou
SUMMARY:VY-U16Z: Sklo Bohemia Světlá nad Sázavou\, z.s.-Tělovýchovná jednot
 a Jiskra Havlíčkův Brod z.s.      'B'
END:VEVENT
BEGIN:VEVENT
UID:30363263-3530-4961-b166-356631353564
DTSTAMP:20260423T042942Z
DESCRIPTION:5/97 Sklo Bohemia Světlá nad Sázavou\, z.s. - TJ Sokol Nové Ves
 elí 0:2 (-13\,-19)\nPořadatel Pelhřimov
DTSTART;TZID=Europe/Berlin:20231217T090000
DTEND;TZID=Europe/Berlin:20231217T110000
LOCATION:Sportovní hala\, Komenského 1256 Světlá nad Sázavou
SUMMARY:VY-U16Z: Sklo Bohemia Světlá nad Sázavou\, z.s.-TJ Sokol Nové Vesel
 í
END:VEVENT
BEGIN:VEVENT
UID:34303964-3638-4635-b032-306136633564
DTSTAMP:20260423T042942Z
DESCRIPTION:1/3 KCTM Vysočina - Sklo Bohemia Světlá nad Sázavou\, z.s. 0:2 
 (-20\,-13)
DTSTART;TZID=Europe/Berlin:20231001T090000
DTEND;TZID=Europe/Berlin:20231001T110000
LOCATION:tělocvična ZŠ a MŠ v Brtnici\, Školní 725 Brtnice
SUMMARY:VY-U16Z: KCTM Vysočina-Sklo Bohemia Světlá nad Sázavou\, z.s.
END:VEVENT
BEGIN:VEVENT
UID:61316432-3665-4831-b839-326364653666
DTSTAMP:20260423T042942Z
DESCRIPTION:1/6 Jihlava - Sklo Bohemia Světlá nad Sázavou\, z.s. 2:0 (9\,7)
DTSTART;TZID=Europe/Berlin:20231001T090000
DTEND;TZID=Europe/Berlin:20231001T110000
LOCATION:ZŠ Jihlava Demlova\, Demlova 4178 Jihlava
SUMMARY:VY-U16Z: Jihlava-Sklo Bohemia Světlá nad Sázavou\, z.s.
END:VEVENT
BEGIN:VEVENT
UID:36343032-3462-4033-a330-653537616139
DTSTAMP:20260423T042942Z
DESCRIPTION:2/27 TJ Sokol Bedřichov B - Sklo Bohemia Světlá nad Sázavou\, z
 .s. 2:1 (-23\,24\,13)
DTSTART;TZID=Europe/Berlin:20231022T090000
DTEND;TZID=Europe/Berlin:20231022T110000
LOCATION:TJ Sokol Bedřichov\, Jihlava\, Sokolovská 4656 Jihlava
SUMMARY:VY-U16Z: TJ Sokol Bedřichov B-Sklo Bohemia Světlá nad Sázavou\, z.s
 .
END:VEVENT
BEGIN:VEVENT
UID:34383563-3861-4535-b666-623432663935
DTSTAMP:20260423T042942Z
DESCRIPTION:2/30 TJ Žďár nad Sázavou - Sklo Bohemia Světlá nad Sázavou\, z.
 s. 2:0 (17\,22)
DTSTART;TZID=Europe/Berlin:20231022T090000
DTEND;TZID=Europe/Berlin:20231022T110000
LOCATION:ZŠ Palachova\, Palachova 1757 Žďár nad Sázavou - Žďár nad Sázavou 
 6
SUMMARY:VY-U16Z: TJ Žďár nad Sázavou-Sklo Bohemia Světlá nad Sázavou\, z.s.
END:VEVENT
BEGIN:VEVENT
UID:30306433-3633-4933-b939-353365653565
DTSTAMP:20260423T042942Z
DESCRIPTION:3/51 SK Telč\, z.s. - Sklo Bohemia Světlá nad Sázavou\, z.s. 1:
 2 (-23\,21\,-14)
DTSTART;TZID=Europe/Berlin:20231112T090000
DTEND;TZID=Europe/Berlin:20231112T110000
LOCATION:Sokol Telč\, Masarykova 222 Telč - Telč-Podolí
SUMMARY:VY-U16Z: SK Telč\, z.s.-Sklo Bohemia Světlá nad Sázavou\, z.s.
END:VEVENT
BEGIN:VEVENT
UID:30373765-3562-4466-a130-343837663764
DTSTAMP:20260423T042942Z
DESCRIPTION:3/54 Volejbalový klub Třebíč - Sklo Bohemia Světlá nad Sázavou\
 , z.s. 2:1 (16\,-18\,7)
DTSTART;TZID=Europe/Berlin:20231112T090000
DTEND;TZID=Europe/Berlin:20231112T110000
LOCATION:hala ZŠ TGM\, Komenského nám. 61 Třebíč - Horka-Domky
SUMMARY:VY-U16Z: Volejbalový klub Třebíč-Sklo Bohemia Světlá nad Sázavou\, 
 z.s.
END:VEVENT
BEGIN:VEVENT
UID:39623532-3935-4536-b630-346330353331
DTSTAMP:20260423T042942Z
DESCRIPTION:4/75 TJ Sokol Bedřichov A - Sklo Bohemia Světlá nad Sázavou\, z
 .s. 2:0 (14\,24)
DTSTART;TZID=Europe/Berlin:20231203T090000
DTEND;TZID=Europe/Berlin:20231203T110000
LOCATION:TJ Sokol Bedřichov\, Jihlava\, Sokolovská 4656 Jihlava
SUMMARY:VY-U16Z: TJ Sokol Bedřichov A-Sklo Bohemia Světlá nad Sázavou\, z.s
 .
END:VEVENT
BEGIN:VEVENT
UID:66366431-3331-4036-b237-346664626565
DTSTAMP:20260423T042942Z
DESCRIPTION:4/78 Volejbalový klub Třebíč 'B' - Sklo Bohemia Světlá nad Sáza
 vou\, z.s. 0:2 (-23\,-12)
DTSTART;TZID=Europe/Berlin:20231203T090000
DTEND;TZID=Europe/Berlin:20231203T110000
LOCATION:hala ZŠ TGM\, Komenského nám. 61 Třebíč - Horka-Domky
SUMMARY:VY-U16Z: Volejbalový klub Třebíč 'B'-Sklo Bohemia Světlá nad Sázavo
 u\, z.s.
END:VEVENT
BEGIN:VEVENT
UID:34383261-6433-4139-a563-353139336638
DTSTAMP:20260423T042942Z
DESCRIPTION:5/99 Tělovýchovná jednota CHS Chotěboř\, z.s. - Sklo Bohemia Sv
 ětlá nad Sázavou\, z.s. 0:2 (-20\,-11)
DTSTART;TZID=Europe/Berlin:20231217T090000
DTEND;TZID=Europe/Berlin:20231217T110000
LOCATION:Sportovní hala \, Tyršova 794 Chotěboř
SUMMARY:VY-U16Z: Tělovýchovná jednota CHS Chotěboř\, z.s.-Sklo Bohemia Svět
 lá nad Sázavou\, z.s.
END:VEVENT
BEGIN:VEVENT
UID:62383834-3737-4064-b939-326631303538
DTSTAMP:20260423T042942Z
DESCRIPTION:5/102 Tělovýchovná jednota Spartak Pelhřimov\, z.s. - Sklo Bohe
 mia Světlá nad Sázavou\, z.s. 1:2 (-16\,7\,-9)
DTSTART;TZID=Europe/Berlin:20231217T090000
DTEND;TZID=Europe/Berlin:20231217T110000
LOCATION:Základní škola Pelhřimov\, Osvobození\, Osvobození 1881 Pelhřimov
SUMMARY:VY-U16Z: Tělovýchovná jednota Spartak Pelhřimov\, z.s.-Sklo Bohemia
  Světlá nad Sázavou\, z.s.
END:VEVENT
BEGIN:VEVENT
UID:39653732-3965-4335-b539-343131376335
DTSTAMP:20260423T042942Z
DESCRIPTION:1/1 Sklo Bohemia Světlá nad Sázavou\, z.s. - TJ Sokol Bedřichov
  B 2:1 (-23\,19\,15)\nPořadatel Třebíč B
DTSTART;TZID=Europe/Berlin:20240107T090000
DTEND;TZID=Europe/Berlin:20240107T110000
LOCATION:Sportovní hala\, Komenského 1256 Světlá nad Sázavou
SUMMARY:VY-U16Z-B: Sklo Bohemia Světlá nad Sázavou\, z.s.-TJ Sokol Bedřicho
 v B
END:VEVENT
BEGIN:VEVENT
UID:31393332-6436-4163-b734-653734393666
DTSTAMP:20260423T042942Z
DESCRIPTION:2/13 Sklo Bohemia Světlá nad Sázavou\, z.s. - KCTM Vysočina 2:0
  (11\,21)\nPořadatel Světlá
DTSTART;TZID=Europe/Berlin:20240121T090000
DTEND;TZID=Europe/Berlin:20240121T110000
LOCATION:Sportovní hala\, Komenského 1256 Světlá nad Sázavou
SUMMARY:VY-U16Z-B: Sklo Bohemia Světlá nad Sázavou\, z.s.-KCTM Vysočina
END:VEVENT
BEGIN:VEVENT
UID:35396337-3230-4138-b730-616231306530
DTSTAMP:20260423T042942Z
DESCRIPTION:3/25 Sklo Bohemia Světlá nad Sázavou\, z.s. - Základní škola Př
 ibyslav 1:2 (16\,-20\,-7)\nPořadatel Světlá
DTSTART;TZID=Europe/Berlin:20240204T090000
DTEND;TZID=Europe/Berlin:20240204T110000
LOCATION:Sportovní hala\, Komenského 1256 Světlá nad Sázavou
SUMMARY:VY-U16Z-B: Sklo Bohemia Světlá nad Sázavou\, z.s.-Základní škola Př
 ibyslav
END:VEVENT
BEGIN:VEVENT
UID:36616461-3435-4163-b164-613634326233
DTSTAMP:20260423T042942Z
DESCRIPTION:4/33 Sklo Bohemia Světlá nad Sázavou\, z.s. - Tělovýchovná jedn
 ota Spartak Pelhřimov\, z.s. 1:2 (18\,-17\,-6)\nPořadatel Chotěboř
DTSTART;TZID=Europe/Berlin:20240225T090000
DTEND;TZID=Europe/Berlin:20240225T110000
LOCATION:Sportovní hala\, Komenského 1256 Světlá nad Sázavou
SUMMARY:VY-U16Z-B: Sklo Bohemia Světlá nad Sázavou\, z.s.-Tělovýchovná jedn
 ota Spartak Pelhřimov\, z.s.
END:VEVENT
BEGIN:VEVENT
UID:63643537-6631-4438-b566-623033376263
DTSTAMP:20260423T042942Z
DESCRIPTION:5/45 Sklo Bohemia Světlá nad Sázavou\, z.s. - TJ Sokol Bedřicho
 v B 2:0 (21\,22)\nPořadatel Světlá
DTSTART;TZID=Europe/Berlin:20240310T090000
DTEND;TZID=Europe/Berlin:20240310T110000
LOCATION:Sportovní hala\, Komenského 1256 Světlá nad Sázavou
SUMMARY:VY-U16Z-B: Sklo Bohemia Světlá nad Sázavou\, z.s.-TJ Sokol Bedřicho
 v B
END:VEVENT
BEGIN:VEVENT
UID:31356431-3233-4761-b935-336532636239
DTSTAMP:20260423T042942Z
DESCRIPTION:1/3 Tělovýchovná jednota Spartak Pelhřimov\, z.s. - Sklo Bohemi
 a Světlá nad Sázavou\, z.s. 2:1 (-20\,20\,16)
DTSTART;TZID=Europe/Berlin:20240107T090000
DTEND;TZID=Europe/Berlin:20240107T110000
LOCATION:Základní škola Pelhřimov\, Osvobození\, Osvobození 1881 Pelhřimov
SUMMARY:VY-U16Z-B: Tělovýchovná jednota Spartak Pelhřimov\, z.s.-Sklo Bohem
 ia Světlá nad Sázavou\, z.s.
END:VEVENT
BEGIN:VEVENT
UID:66613830-6135-4239-a466-646263396332
DTSTAMP:20260423T042942Z
DESCRIPTION:1/6 Volejbalový klub Třebíč 'B' - Sklo Bohemia Světlá nad Sázav
 ou\, z.s. 2:0 (17\,16)
DTSTART;TZID=Europe/Berlin:20240107T090000
DTEND;TZID=Europe/Berlin:20240107T110000
LOCATION:hala ZŠ TGM\, Komenského nám. 61 Třebíč - Horka-Domky
SUMMARY:VY-U16Z-B: Volejbalový klub Třebíč 'B'-Sklo Bohemia Světlá nad Sáza
 vou\, z.s.
END:VEVENT
BEGIN:VEVENT
UID:31653932-3061-4437-a138-333035333032
DTSTAMP:20260423T042942Z
DESCRIPTION:2/15 Tělovýchovná jednota CHS Chotěboř\, z.s. - Sklo Bohemia Sv
 ětlá nad Sázavou\, z.s. 0:2 (-13\,-7)
DTSTART;TZID=Europe/Berlin:20240121T090000
DTEND;TZID=Europe/Berlin:20240121T110000
LOCATION:Sportovní hala \, Tyršova 794 Chotěboř
SUMMARY:VY-U16Z-B: Tělovýchovná jednota CHS Chotěboř\, z.s.-Sklo Bohemia Sv
 ětlá nad Sázavou\, z.s.
END:VEVENT
BEGIN:VEVENT
UID:31386563-3362-4064-b864-363336623966
DTSTAMP:20260423T042942Z
DESCRIPTION:2/18 Volejbalový klub Třebíč 'B' - Sklo Bohemia Světlá nad Sáza
 vou\, z.s. 1:2 (18\,-16\,-10)
DTSTART;TZID=Europe/Berlin:20240121T090000
DTEND;TZID=Europe/Berlin:20240121T110000
LOCATION:hala ZŠ TGM\, Komenského nám. 61 Třebíč - Horka-Domky
SUMMARY:VY-U16Z-B: Volejbalový klub Třebíč 'B'-Sklo Bohemia Světlá nad Sáza
 vou\, z.s.
END:VEVENT
BEGIN:VEVENT
UID:36353538-3036-4736-b661-643333353666
DTSTAMP:20260423T042942Z
DESCRIPTION:3/26 Základní škola Přibyslav - Sklo Bohemia Světlá nad Sázavou
 \, z.s. 0:2 (-18\,-19)
DTSTART;TZID=Europe/Berlin:20240204T090000
DTEND;TZID=Europe/Berlin:20240204T110000
LOCATION:Sportovní hala Přibyslav\, Česká 34 Přibyslav
SUMMARY:VY-U16Z-B: Základní škola Přibyslav-Sklo Bohemia Světlá nad Sázavou
 \, z.s.
END:VEVENT
BEGIN:VEVENT
UID:31653531-3532-4630-a662-333361633935
DTSTAMP:20260423T042942Z
DESCRIPTION:4/35 Tělovýchovná jednota CHS Chotěboř\, z.s. - Sklo Bohemia Sv
 ětlá nad Sázavou\, z.s. 0:2 (-12\,-17)
DTSTART;TZID=Europe/Berlin:20240225T090000
DTEND;TZID=Europe/Berlin:20240225T110000
LOCATION:Sportovní hala \, Tyršova 794 Chotěboř
SUMMARY:VY-U16Z-B: Tělovýchovná jednota CHS Chotěboř\, z.s.-Sklo Bohemia Sv
 ětlá nad Sázavou\, z.s.
END:VEVENT
BEGIN:VEVENT
UID:61346235-3238-4364-a239-373537376165
DTSTAMP:20260423T042942Z
DESCRIPTION:4/38 SK Telč\, z.s. - Sklo Bohemia Světlá nad Sázavou\, z.s. 2:
 0 (17\,20)
DTSTART;TZID=Europe/Berlin:20240225T090000
DTEND;TZID=Europe/Berlin:20240225T110000
LOCATION:Sokol Telč\, Masarykova 222 Telč - Telč-Podolí
SUMMARY:VY-U16Z-B: SK Telč\, z.s.-Sklo Bohemia Světlá nad Sázavou\, z.s.
END:VEVENT
BEGIN:VEVENT
UID:61663239-3466-4364-b433-613239383337
DTSTAMP:20260423T042942Z
DESCRIPTION:5/47 KCTM Vysočina - Sklo Bohemia Světlá nad Sázavou\, z.s. 0:2
  (-7\,-18)
DTSTART;TZID=Europe/Berlin:20240310T090000
DTEND;TZID=Europe/Berlin:20240310T110000
LOCATION:tělocvična ZŠ a MŠ v Brtnici\, Školní 725 Brtnice
SUMMARY:VY-U16Z-B: KCTM Vysočina-Sklo Bohemia Světlá nad Sázavou\, z.s.
END:VEVENT
BEGIN:VEVENT
UID:65326232-3434-4136-b261-336236373637
DTSTAMP:20260423T042942Z
DESCRIPTION:5/50 SK Telč\, z.s. - Sklo Bohemia Světlá nad Sázavou\, z.s. 2:
 0 (9\,17)
DTSTART;TZID=Europe/Berlin:20240310T090000
DTEND;TZID=Europe/Berlin:20240310T110000
LOCATION:Sokol Telč\, Masarykova 222 Telč - Telč-Podolí
SUMMARY:VY-U16Z-B: SK Telč\, z.s.-Sklo Bohemia Světlá nad Sázavou\, z.s.
END:VEVENT
END:VCALENDAR
