BEGIN:VCALENDAR
VERSION:2.0
PRODID:-//Tělovýchovná jednota Spartak Pelhřimov, z.s.83224//NONSGML kigkonsult.se iCalcreator 2.41.80//
CALSCALE:GREGORIAN
UID:30366263-3935-4939-a634-643330646130
BEGIN:VEVENT
UID:63386634-6661-4130-a531-663863383865
DTSTAMP:20260422T224251Z
DESCRIPTION:1/7 Tělovýchovná jednota Spartak Pelhřimov\, z.s. - Tělovýchovn
 á jednota Jiskra Havlíčkův Brod z.s.      'B' 0:2 (-10\,-23)\nPořadatel Ji
 skra 'B'
DTSTART;TZID=Europe/Berlin:20231001T090000
DTEND;TZID=Europe/Berlin:20231001T110000
LOCATION:Základní škola Pelhřimov\, Osvobození\, Osvobození 1881 Pelhřimov
SUMMARY:VY-U16Z: Tělovýchovná jednota Spartak Pelhřimov\, z.s.-Tělovýchovná
  jednota Jiskra Havlíčkův Brod z.s.      'B'
END:VEVENT
BEGIN:VEVENT
UID:63336233-6432-4238-a263-373633323535
DTSTAMP:20260422T224251Z
DESCRIPTION:2/31 Tělovýchovná jednota Spartak Pelhřimov\, z.s. - Základní š
 kola Přibyslav 2:1 (-15\,19\,10)\nPořadatel Demlova
DTSTART;TZID=Europe/Berlin:20231022T090000
DTEND;TZID=Europe/Berlin:20231022T110000
LOCATION:Základní škola Pelhřimov\, Osvobození\, Osvobození 1881 Pelhřimov
SUMMARY:VY-U16Z: Tělovýchovná jednota Spartak Pelhřimov\, z.s.-Základní ško
 la Přibyslav
END:VEVENT
BEGIN:VEVENT
UID:63356165-6166-4564-b162-613134316139
DTSTAMP:20260422T224251Z
DESCRIPTION:3/55 Tělovýchovná jednota Spartak Pelhřimov\, z.s. - Štoky 0:2 
 (-13\,-10)\nPořadatel Třebíč
DTSTART;TZID=Europe/Berlin:20231112T090000
DTEND;TZID=Europe/Berlin:20231112T110000
LOCATION:Základní škola Pelhřimov\, Osvobození\, Osvobození 1881 Pelhřimov
SUMMARY:VY-U16Z: Tělovýchovná jednota Spartak Pelhřimov\, z.s.-Štoky
END:VEVENT
BEGIN:VEVENT
UID:66626333-3563-4632-b732-383036623131
DTSTAMP:20260422T224251Z
DESCRIPTION:4/79 Tělovýchovná jednota Spartak Pelhřimov\, z.s. - Tělovýchov
 ná jednota Jiskra Havlíčkův Brod z.s.        'A' 0:2 (-8\,-16)\nodloženo -
  sníh\, Pořadatel Pelhřimov
DTSTART;TZID=Europe/Berlin:20231207T170000
DTEND;TZID=Europe/Berlin:20231207T190000
LOCATION:Základní škola Pelhřimov\, Osvobození\, Osvobození 1881 Pelhřimov
SUMMARY:VY-U16Z: Tělovýchovná jednota Spartak Pelhřimov\, z.s.-Tělovýchovná
  jednota Jiskra Havlíčkův Brod z.s.        'A'
END:VEVENT
BEGIN:VEVENT
UID:37343630-3234-4831-b534-356532366637
DTSTAMP:20260422T224251Z
DESCRIPTION:5/98 Tělovýchovná jednota Spartak Pelhřimov\, z.s. - Tělovýchov
 ná jednota CHS Chotěboř\, z.s. 2:0 (14\,21)
DTSTART;TZID=Europe/Berlin:20231217T090000
DTEND;TZID=Europe/Berlin:20231217T110000
LOCATION:Základní škola Pelhřimov\, Osvobození\, Osvobození 1881 Pelhřimov
SUMMARY:VY-U16Z: Tělovýchovná jednota Spartak Pelhřimov\, z.s.-Tělovýchovná
  jednota CHS Chotěboř\, z.s.
END:VEVENT
BEGIN:VEVENT
UID:65353838-3262-4162-a534-326664656534
DTSTAMP:20260422T224251Z
DESCRIPTION:5/102 Tělovýchovná jednota Spartak Pelhřimov\, z.s. - Sklo Bohe
 mia Světlá nad Sázavou\, z.s. 1:2 (-16\,7\,-9)
DTSTART;TZID=Europe/Berlin:20231217T090000
DTEND;TZID=Europe/Berlin:20231217T110000
LOCATION:Základní škola Pelhřimov\, Osvobození\, Osvobození 1881 Pelhřimov
SUMMARY:VY-U16Z: Tělovýchovná jednota Spartak Pelhřimov\, z.s.-Sklo Bohemia
  Světlá nad Sázavou\, z.s.
END:VEVENT
BEGIN:VEVENT
UID:65303330-6662-4035-b966-613834616533
DTSTAMP:20260422T224251Z
DESCRIPTION:1/9 SK Telč\, z.s. - Tělovýchovná jednota Spartak Pelhřimov\, z
 .s. 0:2 (-14\,-20)
DTSTART;TZID=Europe/Berlin:20231001T090000
DTEND;TZID=Europe/Berlin:20231001T110000
LOCATION:Sokol Telč\, Masarykova 222 Telč - Telč-Podolí
SUMMARY:VY-U16Z: SK Telč\, z.s.-Tělovýchovná jednota Spartak Pelhřimov\, z.
 s.
END:VEVENT
BEGIN:VEVENT
UID:61353664-3832-4439-b134-343063663936
DTSTAMP:20260422T224251Z
DESCRIPTION:1/12 TJ Žďár nad Sázavou - Tělovýchovná jednota Spartak Pelhřim
 ov\, z.s. 2:1 (-21\,22\,5)
DTSTART;TZID=Europe/Berlin:20231001T090000
DTEND;TZID=Europe/Berlin:20231001T110000
LOCATION:ZŠ Palachova\, Palachova 1757 Žďár nad Sázavou - Žďár nad Sázavou 
 6
SUMMARY:VY-U16Z: TJ Žďár nad Sázavou-Tělovýchovná jednota Spartak Pelhřimov
 \, z.s.
END:VEVENT
BEGIN:VEVENT
UID:33626263-6238-4937-b464-313862353265
DTSTAMP:20260422T224251Z
DESCRIPTION:2/33 TJ Sokol Bedřichov A - Tělovýchovná jednota Spartak Pelhři
 mov\, z.s. 2:0 (17\,6)
DTSTART;TZID=Europe/Berlin:20231022T090000
DTEND;TZID=Europe/Berlin:20231022T110000
LOCATION:TJ Sokol Bedřichov\, Jihlava\, Sokolovská 4656 Jihlava
SUMMARY:VY-U16Z: TJ Sokol Bedřichov A-Tělovýchovná jednota Spartak Pelhřimo
 v\, z.s.
END:VEVENT
BEGIN:VEVENT
UID:31376164-3063-4437-a438-376562353065
DTSTAMP:20260422T224251Z
DESCRIPTION:2/36 Jihlava - Tělovýchovná jednota Spartak Pelhřimov\, z.s. 2:
 0 (5\,10)
DTSTART;TZID=Europe/Berlin:20231022T090000
DTEND;TZID=Europe/Berlin:20231022T110000
LOCATION:ZŠ Jihlava Demlova\, Demlova 4178 Jihlava
SUMMARY:VY-U16Z: Jihlava-Tělovýchovná jednota Spartak Pelhřimov\, z.s.
END:VEVENT
BEGIN:VEVENT
UID:61663833-3931-4765-a662-613761343466
DTSTAMP:20260422T224251Z
DESCRIPTION:3/57 KCTM Vysočina - Tělovýchovná jednota Spartak Pelhřimov\, z
 .s. 0:2 (-17\,-6)
DTSTART;TZID=Europe/Berlin:20231112T090000
DTEND;TZID=Europe/Berlin:20231112T110000
LOCATION:tělocvična ZŠ a MŠ v Brtnici\, Školní 725 Brtnice
SUMMARY:VY-U16Z: KCTM Vysočina-Tělovýchovná jednota Spartak Pelhřimov\, z.s
 .
END:VEVENT
BEGIN:VEVENT
UID:33333738-6661-4537-a234-363432356136
DTSTAMP:20260422T224251Z
DESCRIPTION:3/60 Volejbalový klub Třebíč 'B' - Tělovýchovná jednota Spartak
  Pelhřimov\, z.s. 2:0 (21\,21)
DTSTART;TZID=Europe/Berlin:20231112T090000
DTEND;TZID=Europe/Berlin:20231112T110000
LOCATION:hala ZŠ TGM\, Komenského nám. 61 Třebíč - Horka-Domky
SUMMARY:VY-U16Z: Volejbalový klub Třebíč 'B'-Tělovýchovná jednota Spartak P
 elhřimov\, z.s.
END:VEVENT
BEGIN:VEVENT
UID:65653231-6535-4166-a361-636463623639
DTSTAMP:20260422T224251Z
DESCRIPTION:4/81 TJ Sokol Bedřichov B - Tělovýchovná jednota Spartak Pelhři
 mov\, z.s. 0:2 (-12\,-22)\nodloženo - sníh
DTSTART;TZID=Europe/Berlin:20231207T170000
DTEND;TZID=Europe/Berlin:20231207T190000
LOCATION:TJ Sokol Bedřichov\, Jihlava\, Sokolovská 4656 Jihlava
SUMMARY:VY-U16Z: TJ Sokol Bedřichov B-Tělovýchovná jednota Spartak Pelhřimo
 v\, z.s.
END:VEVENT
BEGIN:VEVENT
UID:39336137-3331-4936-b736-316638346132
DTSTAMP:20260422T224251Z
DESCRIPTION:4/84 Volejbalový klub Třebíč - Tělovýchovná jednota Spartak Pel
 hřimov\, z.s. 2:0 (18\,12)\nodloženo - sníh
DTSTART;TZID=Europe/Berlin:20231207T170000
DTEND;TZID=Europe/Berlin:20231207T190000
LOCATION:hala ZŠ TGM\, Komenského nám. 61 Třebíč - Horka-Domky
SUMMARY:VY-U16Z: Volejbalový klub Třebíč-Tělovýchovná jednota Spartak Pelhř
 imov\, z.s.
END:VEVENT
BEGIN:VEVENT
UID:63666433-3661-4639-b336-376263346364
DTSTAMP:20260422T224251Z
DESCRIPTION:5/100 TJ Sokol Nové Veselí - Tělovýchovná jednota Spartak Pelhř
 imov\, z.s. 2:0 (0\,13)
DTSTART;TZID=Europe/Berlin:20231217T090000
DTEND;TZID=Europe/Berlin:20231217T110000
LOCATION:Víceúčelová sportovní hala Nové Veselí\, Žďárská 356 Nové Veselí
SUMMARY:VY-U16Z: TJ Sokol Nové Veselí-Tělovýchovná jednota Spartak Pelhřimo
 v\, z.s.
END:VEVENT
BEGIN:VEVENT
UID:33343630-3733-4238-b039-646661333832
DTSTAMP:20260422T224251Z
DESCRIPTION:1/3 Tělovýchovná jednota Spartak Pelhřimov\, z.s. - Sklo Bohemi
 a Světlá nad Sázavou\, z.s. 2:1 (-20\,20\,16)
DTSTART;TZID=Europe/Berlin:20240107T090000
DTEND;TZID=Europe/Berlin:20240107T110000
LOCATION:Základní škola Pelhřimov\, Osvobození\, Osvobození 1881 Pelhřimov
SUMMARY:VY-U16Z-B: Tělovýchovná jednota Spartak Pelhřimov\, z.s.-Sklo Bohem
 ia Světlá nad Sázavou\, z.s.
END:VEVENT
BEGIN:VEVENT
UID:34386161-3763-4264-a438-316465316638
DTSTAMP:20260422T224251Z
DESCRIPTION:1/5 Tělovýchovná jednota Spartak Pelhřimov\, z.s. - TJ Sokol Be
 dřichov B 2:0 (19\,16)
DTSTART;TZID=Europe/Berlin:20240107T090000
DTEND;TZID=Europe/Berlin:20240107T110000
LOCATION:Základní škola Pelhřimov\, Osvobození\, Osvobození 1881 Pelhřimov
SUMMARY:VY-U16Z-B: Tělovýchovná jednota Spartak Pelhřimov\, z.s.-TJ Sokol B
 edřichov B
END:VEVENT
BEGIN:VEVENT
UID:31636535-3837-4661-b061-323565356138
DTSTAMP:20260422T224251Z
DESCRIPTION:2/21 Tělovýchovná jednota Spartak Pelhřimov\, z.s. - SK Telč\, 
 z.s. 2:1 (19\,-11\,13)
DTSTART;TZID=Europe/Berlin:20240114T090000
DTEND;TZID=Europe/Berlin:20240114T110000
LOCATION:Základní škola Pelhřimov\, Osvobození\, Osvobození 1881 Pelhřimov
SUMMARY:VY-U16Z-B: Tělovýchovná jednota Spartak Pelhřimov\, z.s.-SK Telč\, 
 z.s.
END:VEVENT
BEGIN:VEVENT
UID:33303664-3135-4965-a639-633862363930
DTSTAMP:20260422T224251Z
DESCRIPTION:2/23 Tělovýchovná jednota Spartak Pelhřimov\, z.s. - TJ Sokol B
 edřichov B 0:2 (-23\,-18)
DTSTART;TZID=Europe/Berlin:20240114T090000
DTEND;TZID=Europe/Berlin:20240114T110000
LOCATION:Základní škola Pelhřimov\, Osvobození\, Osvobození 1881 Pelhřimov
SUMMARY:VY-U16Z-B: Tělovýchovná jednota Spartak Pelhřimov\, z.s.-TJ Sokol B
 edřichov B
END:VEVENT
BEGIN:VEVENT
UID:37616366-3232-4531-b864-373339663139
DTSTAMP:20260422T224251Z
DESCRIPTION:3/31 Tělovýchovná jednota Spartak Pelhřimov\, z.s. - KCTM Vysoč
 ina 2:0 (28\,23)\nPořadatel KCTM
DTSTART;TZID=Europe/Berlin:20240204T090000
DTEND;TZID=Europe/Berlin:20240204T110000
LOCATION:Základní škola Pelhřimov\, Osvobození\, Osvobození 1881 Pelhřimov
SUMMARY:VY-U16Z-B: Tělovýchovná jednota Spartak Pelhřimov\, z.s.-KCTM Vysoč
 ina
END:VEVENT
BEGIN:VEVENT
UID:32343564-3533-4163-a330-373664663362
DTSTAMP:20260422T224251Z
DESCRIPTION:4/36 Tělovýchovná jednota Spartak Pelhřimov\, z.s. - SK Telč\, 
 z.s. 2:1 (-16\,12\,12)
DTSTART;TZID=Europe/Berlin:20240225T090000
DTEND;TZID=Europe/Berlin:20240225T110000
LOCATION:Základní škola Pelhřimov\, Osvobození\, Osvobození 1881 Pelhřimov
SUMMARY:VY-U16Z-B: Tělovýchovná jednota Spartak Pelhřimov\, z.s.-SK Telč\, 
 z.s.
END:VEVENT
BEGIN:VEVENT
UID:37633433-3062-4564-b561-653366373564
DTSTAMP:20260422T224251Z
DESCRIPTION:5/54 Tělovýchovná jednota Spartak Pelhřimov\, z.s. - Základní š
 kola Přibyslav 2:0 (24\,21)
DTSTART;TZID=Europe/Berlin:20240310T090000
DTEND;TZID=Europe/Berlin:20240310T110000
LOCATION:Základní škola Pelhřimov\, Osvobození\, Osvobození 1881 Pelhřimov
SUMMARY:VY-U16Z-B: Tělovýchovná jednota Spartak Pelhřimov\, z.s.-Základní š
 kola Přibyslav
END:VEVENT
BEGIN:VEVENT
UID:33663331-3732-4163-a462-383432343764
DTSTAMP:20260422T224251Z
DESCRIPTION:1/2 Volejbalový klub Třebíč 'B' - Tělovýchovná jednota Spartak 
 Pelhřimov\, z.s. 0:2 (-12\,-23)
DTSTART;TZID=Europe/Berlin:20240107T090000
DTEND;TZID=Europe/Berlin:20240107T110000
LOCATION:hala ZŠ TGM\, Komenského nám. 61 Třebíč - Horka-Domky
SUMMARY:VY-U16Z-B: Volejbalový klub Třebíč 'B'-Tělovýchovná jednota Spartak
  Pelhřimov\, z.s.
END:VEVENT
BEGIN:VEVENT
UID:61636139-6163-4365-b665-316139343337
DTSTAMP:20260422T224251Z
DESCRIPTION:2/20 Základní škola Přibyslav - Tělovýchovná jednota Spartak Pe
 lhřimov\, z.s. 2:1 (-17\,26\,5)
DTSTART;TZID=Europe/Berlin:20240114T090000
DTEND;TZID=Europe/Berlin:20240114T110000
LOCATION:Sportovní hala Přibyslav\, Česká 34 Přibyslav
SUMMARY:VY-U16Z-B: Základní škola Přibyslav-Tělovýchovná jednota Spartak Pe
 lhřimov\, z.s.
END:VEVENT
BEGIN:VEVENT
UID:66646631-6130-4161-b865-356438663134
DTSTAMP:20260422T224251Z
DESCRIPTION:3/32 KCTM Vysočina - Tělovýchovná jednota Spartak Pelhřimov\, z
 .s. 0:2 (-22\,-19)
DTSTART;TZID=Europe/Berlin:20240204T090000
DTEND;TZID=Europe/Berlin:20240204T110000
LOCATION:tělocvična ZŠ a MŠ v Brtnici\, Školní 725 Brtnice
SUMMARY:VY-U16Z-B: KCTM Vysočina-Tělovýchovná jednota Spartak Pelhřimov\, z
 .s.
END:VEVENT
BEGIN:VEVENT
UID:62353134-3037-4839-b137-303837616665
DTSTAMP:20260422T224251Z
DESCRIPTION:4/33 Sklo Bohemia Světlá nad Sázavou\, z.s. - Tělovýchovná jedn
 ota Spartak Pelhřimov\, z.s. 1:2 (18\,-17\,-6)\nPořadatel Chotěboř
DTSTART;TZID=Europe/Berlin:20240225T090000
DTEND;TZID=Europe/Berlin:20240225T110000
LOCATION:Sportovní hala\, Komenského 1256 Světlá nad Sázavou
SUMMARY:VY-U16Z-B: Sklo Bohemia Světlá nad Sázavou\, z.s.-Tělovýchovná jedn
 ota Spartak Pelhřimov\, z.s.
END:VEVENT
BEGIN:VEVENT
UID:66356637-6164-4330-b832-313439383938
DTSTAMP:20260422T224251Z
DESCRIPTION:4/37 Tělovýchovná jednota CHS Chotěboř\, z.s. - Tělovýchovná je
 dnota Spartak Pelhřimov\, z.s. 1:2 (23\,-18\,-9)
DTSTART;TZID=Europe/Berlin:20240225T090000
DTEND;TZID=Europe/Berlin:20240225T110000
LOCATION:Sportovní hala \, Tyršova 794 Chotěboř
SUMMARY:VY-U16Z-B: Tělovýchovná jednota CHS Chotěboř\, z.s.-Tělovýchovná je
 dnota Spartak Pelhřimov\, z.s.
END:VEVENT
BEGIN:VEVENT
UID:65336230-6465-4163-a637-633032333639
DTSTAMP:20260422T224251Z
DESCRIPTION:5/51 Volejbalový klub Třebíč 'B' - Tělovýchovná jednota Spartak
  Pelhřimov\, z.s. 0:2 (-18\,-21)\nPořadatel Pelhřimov
DTSTART;TZID=Europe/Berlin:20240310T090000
DTEND;TZID=Europe/Berlin:20240310T110000
LOCATION:hala ZŠ TGM\, Komenského nám. 61 Třebíč - Horka-Domky
SUMMARY:VY-U16Z-B: Volejbalový klub Třebíč 'B'-Tělovýchovná jednota Spartak
  Pelhřimov\, z.s.
END:VEVENT
BEGIN:VEVENT
UID:33396131-6536-4165-b366-386438396166
DTSTAMP:20260422T224251Z
DESCRIPTION:5/55 Tělovýchovná jednota CHS Chotěboř\, z.s. - Tělovýchovná je
 dnota Spartak Pelhřimov\, z.s. 0:2 (-13\,-18)
DTSTART;TZID=Europe/Berlin:20240310T090000
DTEND;TZID=Europe/Berlin:20240310T110000
LOCATION:Sportovní hala \, Tyršova 794 Chotěboř
SUMMARY:VY-U16Z-B: Tělovýchovná jednota CHS Chotěboř\, z.s.-Tělovýchovná je
 dnota Spartak Pelhřimov\, z.s.
END:VEVENT
END:VCALENDAR
