BEGIN:VCALENDAR
VERSION:2.0
PRODID:-//TJ Sokol Nové Veselí83226//NONSGML kigkonsult.se iCalcreator 2.41.80//
CALSCALE:GREGORIAN
UID:39356630-3038-4265-b536-373139316365
BEGIN:VEVENT
UID:65613530-6435-4137-a262-663166303437
DTSTAMP:20260422T164621Z
DESCRIPTION:1/19 TJ Sokol Nové Veselí - Základní škola Přibyslav 2:0 (6\,10
 )\nPořadatel Nové Veselí
DTSTART;TZID=Europe/Berlin:20231001T090000
DTEND;TZID=Europe/Berlin:20231001T110000
LOCATION:Víceúčelová sportovní hala Nové Veselí\, Žďárská 356 Nové Veselí
SUMMARY:VY-U16Z: TJ Sokol Nové Veselí-Základní škola Přibyslav
END:VEVENT
BEGIN:VEVENT
UID:62613830-3039-4361-a539-313063323534
DTSTAMP:20260422T164621Z
DESCRIPTION:2/43 TJ Sokol Nové Veselí - Tělovýchovná jednota Jiskra Havlíčk
 ův Brod z.s.      'B' 2:0 (16\,11)\nPořadatel Nové Veselí
DTSTART;TZID=Europe/Berlin:20231022T090000
DTEND;TZID=Europe/Berlin:20231022T110000
LOCATION:Víceúčelová sportovní hala Nové Veselí\, Žďárská 356 Nové Veselí
SUMMARY:VY-U16Z: TJ Sokol Nové Veselí-Tělovýchovná jednota Jiskra Havlíčkův
  Brod z.s.      'B'
END:VEVENT
BEGIN:VEVENT
UID:32353464-3264-4766-b937-616638343437
DTSTAMP:20260422T164621Z
DESCRIPTION:3/67 TJ Sokol Nové Veselí - Tělovýchovná jednota Jiskra Havlíčk
 ův Brod z.s.        'A' 2:0 (18\,22)\nPořadatel Bedřichov 'A'
DTSTART;TZID=Europe/Berlin:20231112T090000
DTEND;TZID=Europe/Berlin:20231112T110000
LOCATION:Víceúčelová sportovní hala Nové Veselí\, Žďárská 356 Nové Veselí
SUMMARY:VY-U16Z: TJ Sokol Nové Veselí-Tělovýchovná jednota Jiskra Havlíčkův
  Brod z.s.        'A'
END:VEVENT
BEGIN:VEVENT
UID:34646133-3261-4135-b333-343634366565
DTSTAMP:20260422T164621Z
DESCRIPTION:4/91 TJ Sokol Nové Veselí - Štoky 2:1 (-21\,20\,14)\nPořadatel 
 Štoky
DTSTART;TZID=Europe/Berlin:20231203T090000
DTEND;TZID=Europe/Berlin:20231203T110000
LOCATION:Víceúčelová sportovní hala Nové Veselí\, Žďárská 356 Nové Veselí
SUMMARY:VY-U16Z: TJ Sokol Nové Veselí-Štoky
END:VEVENT
BEGIN:VEVENT
UID:32356332-3865-4937-a137-346665353762
DTSTAMP:20260422T164621Z
DESCRIPTION:5/100 TJ Sokol Nové Veselí - Tělovýchovná jednota Spartak Pelhř
 imov\, z.s. 2:0 (0\,13)
DTSTART;TZID=Europe/Berlin:20231217T090000
DTEND;TZID=Europe/Berlin:20231217T110000
LOCATION:Víceúčelová sportovní hala Nové Veselí\, Žďárská 356 Nové Veselí
SUMMARY:VY-U16Z: TJ Sokol Nové Veselí-Tělovýchovná jednota Spartak Pelhřimo
 v\, z.s.
END:VEVENT
BEGIN:VEVENT
UID:36663062-6638-4466-a339-643833623738
DTSTAMP:20260422T164621Z
DESCRIPTION:1/21 TJ Sokol Bedřichov B - TJ Sokol Nové Veselí 0:2 (-3\,-2)
DTSTART;TZID=Europe/Berlin:20231001T090000
DTEND;TZID=Europe/Berlin:20231001T110000
LOCATION:TJ Sokol Bedřichov\, Jihlava\, Sokolovská 4656 Jihlava
SUMMARY:VY-U16Z: TJ Sokol Bedřichov B-TJ Sokol Nové Veselí
END:VEVENT
BEGIN:VEVENT
UID:30633135-3963-4966-b766-613364306138
DTSTAMP:20260422T164621Z
DESCRIPTION:1/24 Volejbalový klub Třebíč 'B' - TJ Sokol Nové Veselí 0:2 (-8
 \,-7)
DTSTART;TZID=Europe/Berlin:20231001T090000
DTEND;TZID=Europe/Berlin:20231001T110000
LOCATION:hala ZŠ TGM\, Komenského nám. 61 Třebíč - Horka-Domky
SUMMARY:VY-U16Z: Volejbalový klub Třebíč 'B'-TJ Sokol Nové Veselí
END:VEVENT
BEGIN:VEVENT
UID:32653438-3364-4461-b635-393461643337
DTSTAMP:20260422T164621Z
DESCRIPTION:2/45 KCTM Vysočina - TJ Sokol Nové Veselí 0:2 (-8\,-10)
DTSTART;TZID=Europe/Berlin:20231022T090000
DTEND;TZID=Europe/Berlin:20231022T110000
LOCATION:tělocvična ZŠ a MŠ v Brtnici\, Školní 725 Brtnice
SUMMARY:VY-U16Z: KCTM Vysočina-TJ Sokol Nové Veselí
END:VEVENT
BEGIN:VEVENT
UID:34656363-3139-4430-a239-303538663630
DTSTAMP:20260422T164621Z
DESCRIPTION:2/48 Volejbalový klub Třebíč - TJ Sokol Nové Veselí 0:2 (-18\,-
 11)
DTSTART;TZID=Europe/Berlin:20231022T090000
DTEND;TZID=Europe/Berlin:20231022T110000
LOCATION:hala ZŠ TGM\, Komenského nám. 61 Třebíč - Horka-Domky
SUMMARY:VY-U16Z: Volejbalový klub Třebíč-TJ Sokol Nové Veselí
END:VEVENT
BEGIN:VEVENT
UID:34366536-6230-4232-b831-303166646331
DTSTAMP:20260422T164621Z
DESCRIPTION:3/69 TJ Sokol Bedřichov A - TJ Sokol Nové Veselí 2:0 (9\,17)
DTSTART;TZID=Europe/Berlin:20231112T090000
DTEND;TZID=Europe/Berlin:20231112T110000
LOCATION:TJ Sokol Bedřichov\, Jihlava\, Sokolovská 4656 Jihlava
SUMMARY:VY-U16Z: TJ Sokol Bedřichov A-TJ Sokol Nové Veselí
END:VEVENT
BEGIN:VEVENT
UID:64383565-6436-4663-b538-646139343263
DTSTAMP:20260422T164621Z
DESCRIPTION:3/72 TJ Žďár nad Sázavou - TJ Sokol Nové Veselí 0:2 (-17\,-23)
DTSTART;TZID=Europe/Berlin:20231112T090000
DTEND;TZID=Europe/Berlin:20231112T110000
LOCATION:ZŠ Palachova\, Palachova 1757 Žďár nad Sázavou - Žďár nad Sázavou 
 6
SUMMARY:VY-U16Z: TJ Žďár nad Sázavou-TJ Sokol Nové Veselí
END:VEVENT
BEGIN:VEVENT
UID:63623036-6133-4136-b335-353661663036
DTSTAMP:20260422T164621Z
DESCRIPTION:4/93 SK Telč\, z.s. - TJ Sokol Nové Veselí 0:2 (-12\,-19)
DTSTART;TZID=Europe/Berlin:20231203T090000
DTEND;TZID=Europe/Berlin:20231203T110000
LOCATION:Sokol Telč\, Masarykova 222 Telč - Telč-Podolí
SUMMARY:VY-U16Z: SK Telč\, z.s.-TJ Sokol Nové Veselí
END:VEVENT
BEGIN:VEVENT
UID:66343533-3533-4533-b664-306434616264
DTSTAMP:20260422T164621Z
DESCRIPTION:4/96 Jihlava - TJ Sokol Nové Veselí 1:2 (13\,-23\,-14)
DTSTART;TZID=Europe/Berlin:20231203T090000
DTEND;TZID=Europe/Berlin:20231203T110000
LOCATION:ZŠ Jihlava Demlova\, Demlova 4178 Jihlava
SUMMARY:VY-U16Z: Jihlava-TJ Sokol Nové Veselí
END:VEVENT
BEGIN:VEVENT
UID:36343239-3962-4639-a266-356238353864
DTSTAMP:20260422T164621Z
DESCRIPTION:5/97 Sklo Bohemia Světlá nad Sázavou\, z.s. - TJ Sokol Nové Ves
 elí 0:2 (-13\,-19)\nPořadatel Pelhřimov
DTSTART;TZID=Europe/Berlin:20231217T090000
DTEND;TZID=Europe/Berlin:20231217T110000
LOCATION:Sportovní hala\, Komenského 1256 Světlá nad Sázavou
SUMMARY:VY-U16Z: Sklo Bohemia Světlá nad Sázavou\, z.s.-TJ Sokol Nové Vesel
 í
END:VEVENT
BEGIN:VEVENT
UID:35613530-3331-4532-a365-613631616239
DTSTAMP:20260422T164621Z
DESCRIPTION:5/101 Tělovýchovná jednota CHS Chotěboř\, z.s. - TJ Sokol Nové 
 Veselí 0:2 (-11\,-14)
DTSTART;TZID=Europe/Berlin:20231217T090000
DTEND;TZID=Europe/Berlin:20231217T110000
LOCATION:Sportovní hala \, Tyršova 794 Chotěboř
SUMMARY:VY-U16Z: Tělovýchovná jednota CHS Chotěboř\, z.s.-TJ Sokol Nové Ves
 elí
END:VEVENT
BEGIN:VEVENT
UID:65626139-3535-4465-b535-383464313632
DTSTAMP:20260422T164621Z
DESCRIPTION:1/2 TJ Sokol Nové Veselí - TJ Sokol Bedřichov A 2:1 (15\,-20\,8
 )
DTSTART;TZID=Europe/Berlin:20240107T090000
DTEND;TZID=Europe/Berlin:20240107T110000
LOCATION:Víceúčelová sportovní hala Nové Veselí\, Žďárská 356 Nové Veselí
SUMMARY:VY-U16Z-A: TJ Sokol Nové Veselí-TJ Sokol Bedřichov A
END:VEVENT
BEGIN:VEVENT
UID:31663066-6561-4436-a461-626464343861
DTSTAMP:20260422T164621Z
DESCRIPTION:1/6 TJ Sokol Nové Veselí - Jihlava 1:2 (-23\,19\,-8)
DTSTART;TZID=Europe/Berlin:20240107T090000
DTEND;TZID=Europe/Berlin:20240107T110000
LOCATION:Víceúčelová sportovní hala Nové Veselí\, Žďárská 356 Nové Veselí
SUMMARY:VY-U16Z-A: TJ Sokol Nové Veselí-Jihlava
END:VEVENT
BEGIN:VEVENT
UID:65383531-3964-4531-b537-353734376638
DTSTAMP:20260422T164621Z
DESCRIPTION:2/14 TJ Sokol Nové Veselí - Tělovýchovná jednota Jiskra Havlíčk
 ův Brod z.s.      'B' 2:0 (8\,9)
DTSTART;TZID=Europe/Berlin:20240114T090000
DTEND;TZID=Europe/Berlin:20240114T110000
LOCATION:Víceúčelová sportovní hala Nové Veselí\, Žďárská 356 Nové Veselí
SUMMARY:VY-U16Z-A: TJ Sokol Nové Veselí-Tělovýchovná jednota Jiskra Havlíčk
 ův Brod z.s.      'B'
END:VEVENT
BEGIN:VEVENT
UID:31636339-6635-4431-b939-613231383066
DTSTAMP:20260422T164621Z
DESCRIPTION:2/18 TJ Sokol Nové Veselí - Jihlava 2:1 (-16\,23\,12)
DTSTART;TZID=Europe/Berlin:20240114T090000
DTEND;TZID=Europe/Berlin:20240114T110000
LOCATION:Víceúčelová sportovní hala Nové Veselí\, Žďárská 356 Nové Veselí
SUMMARY:VY-U16Z-A: TJ Sokol Nové Veselí-Jihlava
END:VEVENT
BEGIN:VEVENT
UID:61323738-6465-4966-a239-653637643733
DTSTAMP:20260422T164621Z
DESCRIPTION:3/27 TJ Sokol Nové Veselí - Volejbalový klub Třebíč 2:0 (16\,12
 )\nPořadatel Nové Veselí
DTSTART;TZID=Europe/Berlin:20240204T090000
DTEND;TZID=Europe/Berlin:20240204T110000
LOCATION:Víceúčelová sportovní hala Nové Veselí\, Žďárská 356 Nové Veselí
SUMMARY:VY-U16Z-A: TJ Sokol Nové Veselí-Volejbalový klub Třebíč
END:VEVENT
BEGIN:VEVENT
UID:63646438-3566-4238-b262-646537643532
DTSTAMP:20260422T164621Z
DESCRIPTION:4/39 TJ Sokol Nové Veselí - Štoky 1:2 (-23\,20\,-10)\nPořadatel
  Nové Veselí
DTSTART;TZID=Europe/Berlin:20240225T090000
DTEND;TZID=Europe/Berlin:20240225T110000
LOCATION:Víceúčelová sportovní hala Nové Veselí\, Žďárská 356 Nové Veselí
SUMMARY:VY-U16Z-A: TJ Sokol Nové Veselí-Štoky
END:VEVENT
BEGIN:VEVENT
UID:34643063-3534-4965-b364-623564303035
DTSTAMP:20260422T164621Z
DESCRIPTION:5/51 TJ Sokol Nové Veselí - TJ Sokol Bedřichov A 2:0 (15\,14)\n
 Pořadatel Jiskra 'B'
DTSTART;TZID=Europe/Berlin:20240303T090000
DTEND;TZID=Europe/Berlin:20240303T110000
LOCATION:Víceúčelová sportovní hala Nové Veselí\, Žďárská 356 Nové Veselí
SUMMARY:VY-U16Z-A: TJ Sokol Nové Veselí-TJ Sokol Bedřichov A
END:VEVENT
BEGIN:VEVENT
UID:34643634-6436-4137-b538-656361383838
DTSTAMP:20260422T164621Z
DESCRIPTION:1/4 Štoky - TJ Sokol Nové Veselí 0:2 (-24\,-20)
DTSTART;TZID=Europe/Berlin:20240107T090000
DTEND;TZID=Europe/Berlin:20240107T110000
LOCATION:Sportovní hala Základní škola a mateřská škola Štoky\,  Štoky220
SUMMARY:VY-U16Z-A: Štoky-TJ Sokol Nové Veselí
END:VEVENT
BEGIN:VEVENT
UID:66643065-3066-4431-b536-313934306338
DTSTAMP:20260422T164621Z
DESCRIPTION:2/16 TJ Žďár nad Sázavou - TJ Sokol Nové Veselí 0:2 (-14\,-16)
DTSTART;TZID=Europe/Berlin:20240114T090000
DTEND;TZID=Europe/Berlin:20240114T110000
LOCATION:ZŠ Palachova\, Palachova 1757 Žďár nad Sázavou - Žďár nad Sázavou 
 6
SUMMARY:VY-U16Z-A: TJ Žďár nad Sázavou-TJ Sokol Nové Veselí
END:VEVENT
BEGIN:VEVENT
UID:32626531-6537-4366-a630-613539346437
DTSTAMP:20260422T164621Z
DESCRIPTION:3/28 Volejbalový klub Třebíč - TJ Sokol Nové Veselí 0:2 (-8\,-7
 )
DTSTART;TZID=Europe/Berlin:20240204T090000
DTEND;TZID=Europe/Berlin:20240204T110000
LOCATION:hala ZŠ TGM\, Komenského nám. 61 Třebíč - Horka-Domky
SUMMARY:VY-U16Z-A: Volejbalový klub Třebíč-TJ Sokol Nové Veselí
END:VEVENT
BEGIN:VEVENT
UID:64623338-6565-4637-b036-633835383661
DTSTAMP:20260422T164621Z
DESCRIPTION:4/41 TJ Žďár nad Sázavou - TJ Sokol Nové Veselí 0:2 (-11\,-8)
DTSTART;TZID=Europe/Berlin:20240225T090000
DTEND;TZID=Europe/Berlin:20240225T110000
LOCATION:ZŠ Palachova\, Palachova 1757 Žďár nad Sázavou - Žďár nad Sázavou 
 6
SUMMARY:VY-U16Z-A: TJ Žďár nad Sázavou-TJ Sokol Nové Veselí
END:VEVENT
BEGIN:VEVENT
UID:35393337-3236-4265-b830-386434306130
DTSTAMP:20260422T164621Z
DESCRIPTION:4/44 Tělovýchovná jednota Jiskra Havlíčkův Brod z.s.        'A'
  - TJ Sokol Nové Veselí 0:2 (-17\,-13)
DTSTART;TZID=Europe/Berlin:20240225T090000
DTEND;TZID=Europe/Berlin:20240225T110000
LOCATION:Tělocvična OA a hotelové školy\, Bratříků 851 Havlíčkův Brod
SUMMARY:VY-U16Z-A: Tělovýchovná jednota Jiskra Havlíčkův Brod z.s.        '
 A'-TJ Sokol Nové Veselí
END:VEVENT
BEGIN:VEVENT
UID:61346331-6631-4139-b637-643536346439
DTSTAMP:20260422T164621Z
DESCRIPTION:5/53 Tělovýchovná jednota Jiskra Havlíčkův Brod z.s.      'B' -
  TJ Sokol Nové Veselí 0:2 (-19\,-8)
DTSTART;TZID=Europe/Berlin:20240303T090000
DTEND;TZID=Europe/Berlin:20240303T110000
LOCATION:Tělocvična OA a hotelové školy\, Bratříků 851 Havlíčkův Brod
SUMMARY:VY-U16Z-A: Tělovýchovná jednota Jiskra Havlíčkův Brod z.s.      'B'
 -TJ Sokol Nové Veselí
END:VEVENT
BEGIN:VEVENT
UID:31323635-6138-4231-a266-666430323634
DTSTAMP:20260422T164621Z
DESCRIPTION:5/56 Tělovýchovná jednota Jiskra Havlíčkův Brod z.s.        'A'
  - TJ Sokol Nové Veselí 0:2 (-22\,-16)
DTSTART;TZID=Europe/Berlin:20240303T090000
DTEND;TZID=Europe/Berlin:20240303T110000
LOCATION:Tělocvična OA a hotelové školy\, Bratříků 851 Havlíčkův Brod
SUMMARY:VY-U16Z-A: Tělovýchovná jednota Jiskra Havlíčkův Brod z.s.        '
 A'-TJ Sokol Nové Veselí
END:VEVENT
BEGIN:VEVENT
UID:38633031-3565-4034-b366-656532333736
DTSTAMP:20260422T164621Z
DESCRIPTION:1/3 TJ Sokol Nové Veselí - Jihlava 0:2 (-6\,-16)\nPořadatel Dem
 lova
DTSTART;TZID=Europe/Berlin:20240330T090000
DTEND;TZID=Europe/Berlin:20240330T110000
LOCATION:Víceúčelová sportovní hala Nové Veselí\, Žďárská 356 Nové Veselí
SUMMARY:VY-U16Z-F: TJ Sokol Nové Veselí-Jihlava
END:VEVENT
BEGIN:VEVENT
UID:33363435-3234-4731-b962-353362653131
DTSTAMP:20260422T164621Z
DESCRIPTION:1/2 Štoky - TJ Sokol Nové Veselí 2:0 (20\,18)\nPořadatel Demlov
 a
DTSTART;TZID=Europe/Berlin:20240330T090000
DTEND;TZID=Europe/Berlin:20240330T110000
LOCATION:Sportovní hala Základní škola a mateřská škola Štoky\,  Štoky220
SUMMARY:VY-U16Z-F: Štoky-TJ Sokol Nové Veselí
END:VEVENT
END:VCALENDAR
