BEGIN:VCALENDAR
VERSION:2.0
PRODID:-//TJ Žďár nad Sázavou z.s.83228//NONSGML kigkonsult.se iCalcreator 2.41.80//
CALSCALE:GREGORIAN
UID:39613365-3261-4435-b862-343230316662
BEGIN:VEVENT
UID:65613731-3763-4637-a433-326165353730
DTSTAMP:20260422T164516Z
DESCRIPTION:1/8 TJ Žďár nad Sázavou - SK Telč\, z.s. 2:0 (23\,17)
DTSTART;TZID=Europe/Berlin:20231001T090000
DTEND;TZID=Europe/Berlin:20231001T110000
LOCATION:ZŠ Palachova\, Palachova 1757 Žďár nad Sázavou - Žďár nad Sázavou 
 6
SUMMARY:VY-U16Z: TJ Žďár nad Sázavou-SK Telč\, z.s.
END:VEVENT
BEGIN:VEVENT
UID:38643461-3632-4261-a437-366132663166
DTSTAMP:20260422T164516Z
DESCRIPTION:1/12 TJ Žďár nad Sázavou - Tělovýchovná jednota Spartak Pelhřim
 ov\, z.s. 2:1 (-21\,22\,5)
DTSTART;TZID=Europe/Berlin:20231001T090000
DTEND;TZID=Europe/Berlin:20231001T110000
LOCATION:ZŠ Palachova\, Palachova 1757 Žďár nad Sázavou - Žďár nad Sázavou 
 6
SUMMARY:VY-U16Z: TJ Žďár nad Sázavou-Tělovýchovná jednota Spartak Pelhřimov
 \, z.s.
END:VEVENT
BEGIN:VEVENT
UID:63373362-3831-4531-b662-303039303562
DTSTAMP:20260422T164516Z
DESCRIPTION:2/26 TJ Žďár nad Sázavou - TJ Sokol Bedřichov B 2:0 (21\,15)
DTSTART;TZID=Europe/Berlin:20231022T090000
DTEND;TZID=Europe/Berlin:20231022T110000
LOCATION:ZŠ Palachova\, Palachova 1757 Žďár nad Sázavou - Žďár nad Sázavou 
 6
SUMMARY:VY-U16Z: TJ Žďár nad Sázavou-TJ Sokol Bedřichov B
END:VEVENT
BEGIN:VEVENT
UID:32623665-3332-4136-a363-323230643239
DTSTAMP:20260422T164516Z
DESCRIPTION:2/30 TJ Žďár nad Sázavou - Sklo Bohemia Světlá nad Sázavou\, z.
 s. 2:0 (17\,22)
DTSTART;TZID=Europe/Berlin:20231022T090000
DTEND;TZID=Europe/Berlin:20231022T110000
LOCATION:ZŠ Palachova\, Palachova 1757 Žďár nad Sázavou - Žďár nad Sázavou 
 6
SUMMARY:VY-U16Z: TJ Žďár nad Sázavou-Sklo Bohemia Světlá nad Sázavou\, z.s.
END:VEVENT
BEGIN:VEVENT
UID:64663434-3164-4238-b832-633738336263
DTSTAMP:20260422T164516Z
DESCRIPTION:3/68 TJ Žďár nad Sázavou - TJ Sokol Bedřichov A 0:2 (-12\,-23)
DTSTART;TZID=Europe/Berlin:20231112T090000
DTEND;TZID=Europe/Berlin:20231112T110000
LOCATION:ZŠ Palachova\, Palachova 1757 Žďár nad Sázavou - Žďár nad Sázavou 
 6
SUMMARY:VY-U16Z: TJ Žďár nad Sázavou-TJ Sokol Bedřichov A
END:VEVENT
BEGIN:VEVENT
UID:33653534-3534-4638-a637-333234396432
DTSTAMP:20260422T164516Z
DESCRIPTION:3/72 TJ Žďár nad Sázavou - TJ Sokol Nové Veselí 0:2 (-17\,-23)
DTSTART;TZID=Europe/Berlin:20231112T090000
DTEND;TZID=Europe/Berlin:20231112T110000
LOCATION:ZŠ Palachova\, Palachova 1757 Žďár nad Sázavou - Žďár nad Sázavou 
 6
SUMMARY:VY-U16Z: TJ Žďár nad Sázavou-TJ Sokol Nové Veselí
END:VEVENT
BEGIN:VEVENT
UID:32613033-6161-4434-a664-613935383465
DTSTAMP:20260422T164516Z
DESCRIPTION:4/86 TJ Žďár nad Sázavou - KCTM Vysočina 2:0 (13\,21)
DTSTART;TZID=Europe/Berlin:20231203T090000
DTEND;TZID=Europe/Berlin:20231203T110000
LOCATION:ZŠ Palachova\, Palachova 1757 Žďár nad Sázavou - Žďár nad Sázavou 
 6
SUMMARY:VY-U16Z: TJ Žďár nad Sázavou-KCTM Vysočina
END:VEVENT
BEGIN:VEVENT
UID:31326238-6364-4036-b230-316163663265
DTSTAMP:20260422T164516Z
DESCRIPTION:4/90 TJ Žďár nad Sázavou - Tělovýchovná jednota CHS Chotěboř\, 
 z.s. 2:0 (13\,7)
DTSTART;TZID=Europe/Berlin:20231203T090000
DTEND;TZID=Europe/Berlin:20231203T110000
LOCATION:ZŠ Palachova\, Palachova 1757 Žďár nad Sázavou - Žďár nad Sázavou 
 6
SUMMARY:VY-U16Z: TJ Žďár nad Sázavou-Tělovýchovná jednota CHS Chotěboř\, z.
 s.
END:VEVENT
BEGIN:VEVENT
UID:30656265-3161-4338-a430-393635356535
DTSTAMP:20260422T164516Z
DESCRIPTION:5/104 TJ Žďár nad Sázavou - Volejbalový klub Třebíč 0:2 (-10\,-
 19)
DTSTART;TZID=Europe/Berlin:20231217T090000
DTEND;TZID=Europe/Berlin:20231217T110000
LOCATION:ZŠ Palachova\, Palachova 1757 Žďár nad Sázavou - Žďár nad Sázavou 
 6
SUMMARY:VY-U16Z: TJ Žďár nad Sázavou-Volejbalový klub Třebíč
END:VEVENT
BEGIN:VEVENT
UID:64646633-6565-4762-b665-636663633134
DTSTAMP:20260422T164516Z
DESCRIPTION:5/108 TJ Žďár nad Sázavou - Jihlava 0:2 (-14\,-10)
DTSTART;TZID=Europe/Berlin:20231217T090000
DTEND;TZID=Europe/Berlin:20231217T110000
LOCATION:ZŠ Palachova\, Palachova 1757 Žďár nad Sázavou - Žďár nad Sázavou 
 6
SUMMARY:VY-U16Z: TJ Žďár nad Sázavou-Jihlava
END:VEVENT
BEGIN:VEVENT
UID:37333562-6136-4138-b164-653436383137
DTSTAMP:20260422T164516Z
DESCRIPTION:1/10 Tělovýchovná jednota Jiskra Havlíčkův Brod z.s.      'B' -
  TJ Žďár nad Sázavou 2:0 (13\,22)
DTSTART;TZID=Europe/Berlin:20231001T090000
DTEND;TZID=Europe/Berlin:20231001T110000
LOCATION:Tělocvična OA a hotelové školy\, Bratříků 851 Havlíčkův Brod
SUMMARY:VY-U16Z: Tělovýchovná jednota Jiskra Havlíčkův Brod z.s.      'B'-T
 J Žďár nad Sázavou
END:VEVENT
BEGIN:VEVENT
UID:37303035-3963-4837-b465-363561313430
DTSTAMP:20260422T164516Z
DESCRIPTION:2/28 Štoky - TJ Žďár nad Sázavou 2:0 (17\,14)
DTSTART;TZID=Europe/Berlin:20231022T090000
DTEND;TZID=Europe/Berlin:20231022T110000
LOCATION:Sportovní hala Základní škola a mateřská škola Štoky\,  Štoky220
SUMMARY:VY-U16Z: Štoky-TJ Žďár nad Sázavou
END:VEVENT
BEGIN:VEVENT
UID:61366430-3664-4464-b863-373862633837
DTSTAMP:20260422T164516Z
DESCRIPTION:3/70 Tělovýchovná jednota Jiskra Havlíčkův Brod z.s.        'A'
  - TJ Žďár nad Sázavou 2:1 (8\,-8\,11)
DTSTART;TZID=Europe/Berlin:20231112T090000
DTEND;TZID=Europe/Berlin:20231112T110000
LOCATION:Tělocvična OA a hotelové školy\, Bratříků 851 Havlíčkův Brod
SUMMARY:VY-U16Z: Tělovýchovná jednota Jiskra Havlíčkův Brod z.s.        'A'
 -TJ Žďár nad Sázavou
END:VEVENT
BEGIN:VEVENT
UID:63326530-6437-4636-b530-356262633835
DTSTAMP:20260422T164516Z
DESCRIPTION:4/88 Základní škola Přibyslav - TJ Žďár nad Sázavou 0:2 (-10\,-
 20)
DTSTART;TZID=Europe/Berlin:20231203T090000
DTEND;TZID=Europe/Berlin:20231203T110000
LOCATION:Sportovní hala Přibyslav\, Česká 34 Přibyslav
SUMMARY:VY-U16Z: Základní škola Přibyslav-TJ Žďár nad Sázavou
END:VEVENT
BEGIN:VEVENT
UID:37666362-6332-4165-b432-623764643038
DTSTAMP:20260422T164516Z
DESCRIPTION:5/106 Volejbalový klub Třebíč 'B' - TJ Žďár nad Sázavou 1:2 (-8
 \,23\,-5)
DTSTART;TZID=Europe/Berlin:20231217T090000
DTEND;TZID=Europe/Berlin:20231217T110000
LOCATION:hala ZŠ TGM\, Komenského nám. 61 Třebíč - Horka-Domky
SUMMARY:VY-U16Z: Volejbalový klub Třebíč 'B'-TJ Žďár nad Sázavou
END:VEVENT
BEGIN:VEVENT
UID:30316432-3062-4731-b634-633134653330
DTSTAMP:20260422T164516Z
DESCRIPTION:1/10 TJ Žďár nad Sázavou - Tělovýchovná jednota Jiskra Havlíčků
 v Brod z.s.        'A' 1:2 (14\,-22\,-9)
DTSTART;TZID=Europe/Berlin:20240107T090000
DTEND;TZID=Europe/Berlin:20240107T110000
LOCATION:ZŠ Palachova\, Palachova 1757 Žďár nad Sázavou - Žďár nad Sázavou 
 6
SUMMARY:VY-U16Z-A: TJ Žďár nad Sázavou-Tělovýchovná jednota Jiskra Havlíčků
 v Brod z.s.        'A'
END:VEVENT
BEGIN:VEVENT
UID:32376332-6135-4336-b630-353266623737
DTSTAMP:20260422T164516Z
DESCRIPTION:2/16 TJ Žďár nad Sázavou - TJ Sokol Nové Veselí 0:2 (-14\,-16)
DTSTART;TZID=Europe/Berlin:20240114T090000
DTEND;TZID=Europe/Berlin:20240114T110000
LOCATION:ZŠ Palachova\, Palachova 1757 Žďár nad Sázavou - Žďár nad Sázavou 
 6
SUMMARY:VY-U16Z-A: TJ Žďár nad Sázavou-TJ Sokol Nové Veselí
END:VEVENT
BEGIN:VEVENT
UID:32316363-3739-4338-a337-613130316438
DTSTAMP:20260422T164516Z
DESCRIPTION:3/32 TJ Žďár nad Sázavou - TJ Sokol Bedřichov A 0:2 (-18\,-10)
DTSTART;TZID=Europe/Berlin:20240204T090000
DTEND;TZID=Europe/Berlin:20240204T110000
LOCATION:ZŠ Palachova\, Palachova 1757 Žďár nad Sázavou - Žďár nad Sázavou 
 6
SUMMARY:VY-U16Z-A: TJ Žďár nad Sázavou-TJ Sokol Bedřichov A
END:VEVENT
BEGIN:VEVENT
UID:61313563-6262-4833-a465-663738323531
DTSTAMP:20260422T164516Z
DESCRIPTION:4/41 TJ Žďár nad Sázavou - TJ Sokol Nové Veselí 0:2 (-11\,-8)
DTSTART;TZID=Europe/Berlin:20240225T090000
DTEND;TZID=Europe/Berlin:20240225T110000
LOCATION:ZŠ Palachova\, Palachova 1757 Žďár nad Sázavou - Žďár nad Sázavou 
 6
SUMMARY:VY-U16Z-A: TJ Žďár nad Sázavou-TJ Sokol Nové Veselí
END:VEVENT
BEGIN:VEVENT
UID:63663534-3530-4365-a233-613337306563
DTSTAMP:20260422T164516Z
DESCRIPTION:4/43 TJ Žďár nad Sázavou - Štoky 0:2 (-17\,-18)
DTSTART;TZID=Europe/Berlin:20240225T090000
DTEND;TZID=Europe/Berlin:20240225T110000
LOCATION:ZŠ Palachova\, Palachova 1757 Žďár nad Sázavou - Žďár nad Sázavou 
 6
SUMMARY:VY-U16Z-A: TJ Žďár nad Sázavou-Štoky
END:VEVENT
BEGIN:VEVENT
UID:35336334-6161-4764-a436-316235613636
DTSTAMP:20260422T164516Z
DESCRIPTION:5/47 TJ Žďár nad Sázavou - Jihlava 0:2 (-19\,-12)
DTSTART;TZID=Europe/Berlin:20240310T090000
DTEND;TZID=Europe/Berlin:20240310T110000
LOCATION:ZŠ Palachova\, Palachova 1757 Žďár nad Sázavou - Žďár nad Sázavou 
 6
SUMMARY:VY-U16Z-A: TJ Žďár nad Sázavou-Jihlava
END:VEVENT
BEGIN:VEVENT
UID:30343536-6561-4039-b631-316330343862
DTSTAMP:20260422T164516Z
DESCRIPTION:5/49 TJ Žďár nad Sázavou - Štoky 0:2 (-20\,-16)
DTSTART;TZID=Europe/Berlin:20240310T090000
DTEND;TZID=Europe/Berlin:20240310T110000
LOCATION:ZŠ Palachova\, Palachova 1757 Žďár nad Sázavou - Žďár nad Sázavou 
 6
SUMMARY:VY-U16Z-A: TJ Žďár nad Sázavou-Štoky
END:VEVENT
BEGIN:VEVENT
UID:62626131-6164-4064-a232-346339306165
DTSTAMP:20260422T164516Z
DESCRIPTION:1/7 Volejbalový klub Třebíč - TJ Žďár nad Sázavou 2:0 (20\,12)
 \nPořadatel Jiskra 'A'
DTSTART;TZID=Europe/Berlin:20240107T090000
DTEND;TZID=Europe/Berlin:20240107T110000
LOCATION:hala ZŠ TGM\, Komenského nám. 61 Třebíč - Horka-Domky
SUMMARY:VY-U16Z-A: Volejbalový klub Třebíč-TJ Žďár nad Sázavou
END:VEVENT
BEGIN:VEVENT
UID:63656464-3062-4134-b533-303237306639
DTSTAMP:20260422T164516Z
DESCRIPTION:1/11 Tělovýchovná jednota Jiskra Havlíčkův Brod z.s.      'B' -
  TJ Žďár nad Sázavou 0:2 (-21\,-14)
DTSTART;TZID=Europe/Berlin:20240107T090000
DTEND;TZID=Europe/Berlin:20240107T110000
LOCATION:Tělocvična OA a hotelové školy\, Bratříků 851 Havlíčkův Brod
SUMMARY:VY-U16Z-A: Tělovýchovná jednota Jiskra Havlíčkův Brod z.s.      'B'
 -TJ Žďár nad Sázavou
END:VEVENT
BEGIN:VEVENT
UID:39653466-6530-4438-a534-333466623030
DTSTAMP:20260422T164516Z
DESCRIPTION:2/13 Jihlava - TJ Žďár nad Sázavou 2:0 (18\,9)\nPořadatel Demlo
 va
DTSTART;TZID=Europe/Berlin:20240114T090000
DTEND;TZID=Europe/Berlin:20240114T110000
LOCATION:ZŠ Jihlava Demlova\, Demlova 4178 Jihlava
SUMMARY:VY-U16Z-A: Jihlava-TJ Žďár nad Sázavou
END:VEVENT
BEGIN:VEVENT
UID:63343633-3636-4461-b362-353061373764
DTSTAMP:20260422T164516Z
DESCRIPTION:2/17 Tělovýchovná jednota Jiskra Havlíčkův Brod z.s.      'B' -
  TJ Žďár nad Sázavou 0:2 (-20\,-21)
DTSTART;TZID=Europe/Berlin:20240114T090000
DTEND;TZID=Europe/Berlin:20240114T110000
LOCATION:Tělocvična OA a hotelové školy\, Bratříků 851 Havlíčkův Brod
SUMMARY:VY-U16Z-A: Tělovýchovná jednota Jiskra Havlíčkův Brod z.s.      'B'
 -TJ Žďár nad Sázavou
END:VEVENT
BEGIN:VEVENT
UID:31366239-3934-4063-b432-653030306561
DTSTAMP:20260422T164516Z
DESCRIPTION:3/31 TJ Sokol Bedřichov A - TJ Žďár nad Sázavou 2:0 (18\,18)\nP
 ořadatel Žďár
DTSTART;TZID=Europe/Berlin:20240204T090000
DTEND;TZID=Europe/Berlin:20240204T110000
LOCATION:TJ Sokol Bedřichov\, Jihlava\, Sokolovská 4656 Jihlava
SUMMARY:VY-U16Z-A: TJ Sokol Bedřichov A-TJ Žďár nad Sázavou
END:VEVENT
BEGIN:VEVENT
UID:36356237-3063-4262-b562-326565393338
DTSTAMP:20260422T164516Z
DESCRIPTION:4/40 Tělovýchovná jednota Jiskra Havlíčkův Brod z.s.        'A'
  - TJ Žďár nad Sázavou 2:0 (10\,24)
DTSTART;TZID=Europe/Berlin:20240225T090000
DTEND;TZID=Europe/Berlin:20240225T110000
LOCATION:Tělocvična OA a hotelové školy\, Bratříků 851 Havlíčkův Brod
SUMMARY:VY-U16Z-A: Tělovýchovná jednota Jiskra Havlíčkův Brod z.s.        '
 A'-TJ Žďár nad Sázavou
END:VEVENT
BEGIN:VEVENT
UID:33646366-3030-4134-b665-333930373934
DTSTAMP:20260422T164516Z
DESCRIPTION:5/46 Volejbalový klub Třebíč - TJ Žďár nad Sázavou 2:1 (-21\,17
 \,10)
DTSTART;TZID=Europe/Berlin:20240310T090000
DTEND;TZID=Europe/Berlin:20240310T110000
LOCATION:hala ZŠ TGM\, Komenského nám. 61 Třebíč - Horka-Domky
SUMMARY:VY-U16Z-A: Volejbalový klub Třebíč-TJ Žďár nad Sázavou
END:VEVENT
END:VCALENDAR
