BEGIN:VCALENDAR
VERSION:2.0
PRODID:-//Tělovýchovná jednota Jiskra Havlíčkův Brod z.s.      "B"83236//NONSGML kigkonsult.se iCalcreator 2.41.80//
CALSCALE:GREGORIAN
UID:34356565-3563-4037-b161-646564383039
BEGIN:VEVENT
UID:64386335-6462-4332-a531-623033623135
DTSTAMP:20260422T111940Z
DESCRIPTION:1/10 Tělovýchovná jednota Jiskra Havlíčkův Brod z.s.      'B' -
  TJ Žďár nad Sázavou 2:0 (13\,22)
DTSTART;TZID=Europe/Berlin:20231001T090000
DTEND;TZID=Europe/Berlin:20231001T110000
LOCATION:Tělocvična OA a hotelové školy\, Bratříků 851 Havlíčkův Brod
SUMMARY:VY-U16Z: Tělovýchovná jednota Jiskra Havlíčkův Brod z.s.      'B'-T
 J Žďár nad Sázavou
END:VEVENT
BEGIN:VEVENT
UID:62363966-3165-4439-b630-666533336131
DTSTAMP:20260422T111940Z
DESCRIPTION:2/46 Tělovýchovná jednota Jiskra Havlíčkův Brod z.s.      'B' -
  Volejbalový klub Třebíč 0:2 (-8\,-16)
DTSTART;TZID=Europe/Berlin:20231022T090000
DTEND;TZID=Europe/Berlin:20231022T110000
LOCATION:Tělocvična OA a hotelové školy\, Bratříků 851 Havlíčkův Brod
SUMMARY:VY-U16Z: Tělovýchovná jednota Jiskra Havlíčkův Brod z.s.      'B'-V
 olejbalový klub Třebíč
END:VEVENT
BEGIN:VEVENT
UID:31343064-3036-4530-a165-353331313333
DTSTAMP:20260422T111940Z
DESCRIPTION:3/64 Tělovýchovná jednota Jiskra Havlíčkův Brod z.s.      'B' -
  Jihlava 0:2 (-18\,-10)
DTSTART;TZID=Europe/Berlin:20231112T090000
DTEND;TZID=Europe/Berlin:20231112T110000
LOCATION:Tělocvična OA a hotelové školy\, Bratříků 851 Havlíčkův Brod
SUMMARY:VY-U16Z: Tělovýchovná jednota Jiskra Havlíčkův Brod z.s.      'B'-J
 ihlava
END:VEVENT
BEGIN:VEVENT
UID:65386236-3135-4638-b166-616639663730
DTSTAMP:20260422T111940Z
DESCRIPTION:4/76 Tělovýchovná jednota Jiskra Havlíčkův Brod z.s.      'B' -
  Volejbalový klub Třebíč 'B' 2:0 (10\,14)
DTSTART;TZID=Europe/Berlin:20231203T090000
DTEND;TZID=Europe/Berlin:20231203T110000
LOCATION:Tělocvična OA a hotelové školy\, Bratříků 851 Havlíčkův Brod
SUMMARY:VY-U16Z: Tělovýchovná jednota Jiskra Havlíčkův Brod z.s.      'B'-V
 olejbalový klub Třebíč 'B'
END:VEVENT
BEGIN:VEVENT
UID:34336366-3563-4330-a565-616561666165
DTSTAMP:20260422T111940Z
DESCRIPTION:5/116 Tělovýchovná jednota Jiskra Havlíčkův Brod z.s.      'B' 
 - Štoky 0:2 (-18\,-14)
DTSTART;TZID=Europe/Berlin:20231210T090000
DTEND;TZID=Europe/Berlin:20231210T110000
LOCATION:Tělocvična OA a hotelové školy\, Bratříků 851 Havlíčkův Brod
SUMMARY:VY-U16Z: Tělovýchovná jednota Jiskra Havlíčkův Brod z.s.      'B'-Š
 toky
END:VEVENT
BEGIN:VEVENT
UID:62626462-6661-4539-a131-656534303865
DTSTAMP:20260422T111940Z
DESCRIPTION:5/120 Tělovýchovná jednota Jiskra Havlíčkův Brod z.s.      'B' 
 - Tělovýchovná jednota Jiskra Havlíčkův Brod z.s.        'A' 0:2 (-12\,-24
 )
DTSTART;TZID=Europe/Berlin:20231210T090000
DTEND;TZID=Europe/Berlin:20231210T110000
LOCATION:Tělocvična OA a hotelové školy\, Bratříků 851 Havlíčkův Brod
SUMMARY:VY-U16Z: Tělovýchovná jednota Jiskra Havlíčkův Brod z.s.      'B'-T
 ělovýchovná jednota Jiskra Havlíčkův Brod z.s.        'A'
END:VEVENT
BEGIN:VEVENT
UID:31363732-3639-4631-b436-663732666564
DTSTAMP:20260422T111940Z
DESCRIPTION:1/7 Tělovýchovná jednota Spartak Pelhřimov\, z.s. - Tělovýchovn
 á jednota Jiskra Havlíčkův Brod z.s.      'B' 0:2 (-10\,-23)\nPořadatel Ji
 skra 'B'
DTSTART;TZID=Europe/Berlin:20231001T090000
DTEND;TZID=Europe/Berlin:20231001T110000
LOCATION:Základní škola Pelhřimov\, Osvobození\, Osvobození 1881 Pelhřimov
SUMMARY:VY-U16Z: Tělovýchovná jednota Spartak Pelhřimov\, z.s.-Tělovýchovná
  jednota Jiskra Havlíčkův Brod z.s.      'B'
END:VEVENT
BEGIN:VEVENT
UID:66633162-6664-4239-b336-656266343165
DTSTAMP:20260422T111940Z
DESCRIPTION:1/11 SK Telč\, z.s. - Tělovýchovná jednota Jiskra Havlíčkův Bro
 d z.s.      'B' 0:2 (-16\,-15)
DTSTART;TZID=Europe/Berlin:20231001T090000
DTEND;TZID=Europe/Berlin:20231001T110000
LOCATION:Sokol Telč\, Masarykova 222 Telč - Telč-Podolí
SUMMARY:VY-U16Z: SK Telč\, z.s.-Tělovýchovná jednota Jiskra Havlíčkův Brod 
 z.s.      'B'
END:VEVENT
BEGIN:VEVENT
UID:64383136-3033-4033-b731-306337626465
DTSTAMP:20260422T111940Z
DESCRIPTION:2/43 TJ Sokol Nové Veselí - Tělovýchovná jednota Jiskra Havlíčk
 ův Brod z.s.      'B' 2:0 (16\,11)\nPořadatel Nové Veselí
DTSTART;TZID=Europe/Berlin:20231022T090000
DTEND;TZID=Europe/Berlin:20231022T110000
LOCATION:Víceúčelová sportovní hala Nové Veselí\, Žďárská 356 Nové Veselí
SUMMARY:VY-U16Z: TJ Sokol Nové Veselí-Tělovýchovná jednota Jiskra Havlíčkův
  Brod z.s.      'B'
END:VEVENT
BEGIN:VEVENT
UID:65666661-6162-4131-b739-303637306134
DTSTAMP:20260422T111940Z
DESCRIPTION:2/47 KCTM Vysočina - Tělovýchovná jednota Jiskra Havlíčkův Brod
  z.s.      'B' 0:2 (-9\,-10)
DTSTART;TZID=Europe/Berlin:20231022T090000
DTEND;TZID=Europe/Berlin:20231022T110000
LOCATION:tělocvična ZŠ a MŠ v Brtnici\, Školní 725 Brtnice
SUMMARY:VY-U16Z: KCTM Vysočina-Tělovýchovná jednota Jiskra Havlíčkův Brod z
 .s.      'B'
END:VEVENT
BEGIN:VEVENT
UID:62396365-6338-4038-a432-656263653435
DTSTAMP:20260422T111940Z
DESCRIPTION:3/61 Tělovýchovná jednota CHS Chotěboř\, z.s. - Tělovýchovná je
 dnota Jiskra Havlíčkův Brod z.s.      'B' 0:2 (-10\,-10)\nPořadatel Demlov
 a
DTSTART;TZID=Europe/Berlin:20231112T090000
DTEND;TZID=Europe/Berlin:20231112T110000
LOCATION:Sportovní hala \, Tyršova 794 Chotěboř
SUMMARY:VY-U16Z: Tělovýchovná jednota CHS Chotěboř\, z.s.-Tělovýchovná jedn
 ota Jiskra Havlíčkův Brod z.s.      'B'
END:VEVENT
BEGIN:VEVENT
UID:39373337-6636-4732-b530-636366366139
DTSTAMP:20260422T111940Z
DESCRIPTION:3/65 TJ Sokol Bedřichov B - Tělovýchovná jednota Jiskra Havlíčk
 ův Brod z.s.      'B' 0:2 (-17\,-11)
DTSTART;TZID=Europe/Berlin:20231112T090000
DTEND;TZID=Europe/Berlin:20231112T110000
LOCATION:TJ Sokol Bedřichov\, Jihlava\, Sokolovská 4656 Jihlava
SUMMARY:VY-U16Z: TJ Sokol Bedřichov B-Tělovýchovná jednota Jiskra Havlíčkův
  Brod z.s.      'B'
END:VEVENT
BEGIN:VEVENT
UID:30353162-3931-4631-a161-383065366165
DTSTAMP:20260422T111940Z
DESCRIPTION:4/73 Sklo Bohemia Světlá nad Sázavou\, z.s. - Tělovýchovná jedn
 ota Jiskra Havlíčkův Brod z.s.      'B' 1:2 (-18\,20\,-11)\nPořadatel Svět
 lá
DTSTART;TZID=Europe/Berlin:20231203T090000
DTEND;TZID=Europe/Berlin:20231203T110000
LOCATION:Sportovní hala\, Komenského 1256 Světlá nad Sázavou
SUMMARY:VY-U16Z: Sklo Bohemia Světlá nad Sázavou\, z.s.-Tělovýchovná jednot
 a Jiskra Havlíčkův Brod z.s.      'B'
END:VEVENT
BEGIN:VEVENT
UID:39646161-3534-4238-a237-626532343533
DTSTAMP:20260422T111940Z
DESCRIPTION:4/775 TJ Sokol Bedřichov A - Tělovýchovná jednota Jiskra Havlíč
 kův Brod z.s.      'B' 2:0 (23\,12)\nPořadatel Světlá
DTSTART;TZID=Europe/Berlin:20231203T090000
DTEND;TZID=Europe/Berlin:20231203T110000
LOCATION:TJ Sokol Bedřichov\, Jihlava\, Sokolovská 4656 Jihlava
SUMMARY:VY-U16Z: TJ Sokol Bedřichov A-Tělovýchovná jednota Jiskra Havlíčkův
  Brod z.s.      'B'
END:VEVENT
BEGIN:VEVENT
UID:66656639-3437-4266-a366-383333366530
DTSTAMP:20260422T111940Z
DESCRIPTION:5/118 Základní škola Přibyslav - Tělovýchovná jednota Jiskra Ha
 vlíčkův Brod z.s.      'B' 0:2 (-7\,-23)
DTSTART;TZID=Europe/Berlin:20231210T090000
DTEND;TZID=Europe/Berlin:20231210T110000
LOCATION:Sportovní hala Přibyslav\, Česká 34 Přibyslav
SUMMARY:VY-U16Z: Základní škola Přibyslav-Tělovýchovná jednota Jiskra Havlí
 čkův Brod z.s.      'B'
END:VEVENT
BEGIN:VEVENT
UID:36353739-6563-4133-a332-656432396332
DTSTAMP:20260422T111940Z
DESCRIPTION:1/9 Tělovýchovná jednota Jiskra Havlíčkův Brod z.s.      'B' - 
 Volejbalový klub Třebíč 0:2 (-22\,-19)
DTSTART;TZID=Europe/Berlin:20240107T090000
DTEND;TZID=Europe/Berlin:20240107T110000
LOCATION:Tělocvična OA a hotelové školy\, Bratříků 851 Havlíčkův Brod
SUMMARY:VY-U16Z-A: Tělovýchovná jednota Jiskra Havlíčkův Brod z.s.      'B'
 -Volejbalový klub Třebíč
END:VEVENT
BEGIN:VEVENT
UID:39646434-6538-4438-b366-316463346534
DTSTAMP:20260422T111940Z
DESCRIPTION:1/11 Tělovýchovná jednota Jiskra Havlíčkův Brod z.s.      'B' -
  TJ Žďár nad Sázavou 0:2 (-21\,-14)
DTSTART;TZID=Europe/Berlin:20240107T090000
DTEND;TZID=Europe/Berlin:20240107T110000
LOCATION:Tělocvična OA a hotelové školy\, Bratříků 851 Havlíčkův Brod
SUMMARY:VY-U16Z-A: Tělovýchovná jednota Jiskra Havlíčkův Brod z.s.      'B'
 -TJ Žďár nad Sázavou
END:VEVENT
BEGIN:VEVENT
UID:61333634-3937-4265-b162-633935383535
DTSTAMP:20260422T111940Z
DESCRIPTION:2/15 Tělovýchovná jednota Jiskra Havlíčkův Brod z.s.      'B' -
  Jihlava 0:2 (-6\,-13)
DTSTART;TZID=Europe/Berlin:20240114T090000
DTEND;TZID=Europe/Berlin:20240114T110000
LOCATION:Tělocvična OA a hotelové školy\, Bratříků 851 Havlíčkův Brod
SUMMARY:VY-U16Z-A: Tělovýchovná jednota Jiskra Havlíčkův Brod z.s.      'B'
 -Jihlava
END:VEVENT
BEGIN:VEVENT
UID:30393563-6530-4830-a530-353231396231
DTSTAMP:20260422T111940Z
DESCRIPTION:2/17 Tělovýchovná jednota Jiskra Havlíčkův Brod z.s.      'B' -
  TJ Žďár nad Sázavou 0:2 (-20\,-21)
DTSTART;TZID=Europe/Berlin:20240114T090000
DTEND;TZID=Europe/Berlin:20240114T110000
LOCATION:Tělocvična OA a hotelové školy\, Bratříků 851 Havlíčkův Brod
SUMMARY:VY-U16Z-A: Tělovýchovná jednota Jiskra Havlíčkův Brod z.s.      'B'
 -TJ Žďár nad Sázavou
END:VEVENT
BEGIN:VEVENT
UID:33646430-6433-4836-a138-633730343139
DTSTAMP:20260422T111940Z
DESCRIPTION:3/30 Tělovýchovná jednota Jiskra Havlíčkův Brod z.s.      'B' -
  Štoky 0:2 (-19\,-15)
DTSTART;TZID=Europe/Berlin:20240204T090000
DTEND;TZID=Europe/Berlin:20240204T110000
LOCATION:Tělocvična OA a hotelové školy\, Bratříků 851 Havlíčkův Brod
SUMMARY:VY-U16Z-A: Tělovýchovná jednota Jiskra Havlíčkův Brod z.s.      'B'
 -Štoky
END:VEVENT
BEGIN:VEVENT
UID:38313666-6437-4634-a138-373265333365
DTSTAMP:20260422T111940Z
DESCRIPTION:4/35 Tělovýchovná jednota Jiskra Havlíčkův Brod z.s.      'B' -
  Jihlava 0:2 (-21\,-9)
DTSTART;TZID=Europe/Berlin:20240127T090000
DTEND;TZID=Europe/Berlin:20240127T110000
LOCATION:Tělocvična OA a hotelové školy\, Bratříků 851 Havlíčkův Brod
SUMMARY:VY-U16Z-A: Tělovýchovná jednota Jiskra Havlíčkův Brod z.s.      'B'
 -Jihlava
END:VEVENT
BEGIN:VEVENT
UID:31353963-3632-4335-a639-323739666132
DTSTAMP:20260422T111940Z
DESCRIPTION:4/37 Tělovýchovná jednota Jiskra Havlíčkův Brod z.s.      'B' -
  TJ Sokol Bedřichov A 0:2 (-12\,-9)
DTSTART;TZID=Europe/Berlin:20240127T090000
DTEND;TZID=Europe/Berlin:20240127T110000
LOCATION:Tělocvična OA a hotelové školy\, Bratříků 851 Havlíčkův Brod
SUMMARY:VY-U16Z-A: Tělovýchovná jednota Jiskra Havlíčkův Brod z.s.      'B'
 -TJ Sokol Bedřichov A
END:VEVENT
BEGIN:VEVENT
UID:36623162-3162-4031-b338-383930343531
DTSTAMP:20260422T111940Z
DESCRIPTION:5/53 Tělovýchovná jednota Jiskra Havlíčkův Brod z.s.      'B' -
  TJ Sokol Nové Veselí 0:2 (-19\,-8)
DTSTART;TZID=Europe/Berlin:20240303T090000
DTEND;TZID=Europe/Berlin:20240303T110000
LOCATION:Tělocvična OA a hotelové školy\, Bratříků 851 Havlíčkův Brod
SUMMARY:VY-U16Z-A: Tělovýchovná jednota Jiskra Havlíčkův Brod z.s.      'B'
 -TJ Sokol Nové Veselí
END:VEVENT
BEGIN:VEVENT
UID:34626535-3761-4461-b966-343533623535
DTSTAMP:20260422T111940Z
DESCRIPTION:5/55 Tělovýchovná jednota Jiskra Havlíčkův Brod z.s.      'B' -
  TJ Sokol Bedřichov A 0:2 (-10\,-15)
DTSTART;TZID=Europe/Berlin:20240303T090000
DTEND;TZID=Europe/Berlin:20240303T110000
LOCATION:Tělocvična OA a hotelové školy\, Bratříků 851 Havlíčkův Brod
SUMMARY:VY-U16Z-A: Tělovýchovná jednota Jiskra Havlíčkův Brod z.s.      'B'
 -TJ Sokol Bedřichov A
END:VEVENT
BEGIN:VEVENT
UID:32626561-3634-4266-b231-366263336531
DTSTAMP:20260422T111940Z
DESCRIPTION:1/8 Tělovýchovná jednota Jiskra Havlíčkův Brod z.s.        'A' 
 - Tělovýchovná jednota Jiskra Havlíčkův Brod z.s.      'B' 2:0 (19\,11)
DTSTART;TZID=Europe/Berlin:20240107T090000
DTEND;TZID=Europe/Berlin:20240107T110000
LOCATION:Tělocvična OA a hotelové školy\, Bratříků 851 Havlíčkův Brod
SUMMARY:VY-U16Z-A: Tělovýchovná jednota Jiskra Havlíčkův Brod z.s.        '
 A'-Tělovýchovná jednota Jiskra Havlíčkův Brod z.s.      'B'
END:VEVENT
BEGIN:VEVENT
UID:31303234-3132-4633-b561-343930326136
DTSTAMP:20260422T111940Z
DESCRIPTION:2/14 TJ Sokol Nové Veselí - Tělovýchovná jednota Jiskra Havlíčk
 ův Brod z.s.      'B' 2:0 (8\,9)
DTSTART;TZID=Europe/Berlin:20240114T090000
DTEND;TZID=Europe/Berlin:20240114T110000
LOCATION:Víceúčelová sportovní hala Nové Veselí\, Žďárská 356 Nové Veselí
SUMMARY:VY-U16Z-A: TJ Sokol Nové Veselí-Tělovýchovná jednota Jiskra Havlíčk
 ův Brod z.s.      'B'
END:VEVENT
BEGIN:VEVENT
UID:31303332-6435-4938-b035-616464386135
DTSTAMP:20260422T111940Z
DESCRIPTION:3/29 Štoky - Tělovýchovná jednota Jiskra Havlíčkův Brod z.s.   
    'B' 2:0 (16\,20)\nPořadatel Jiskra 'B'
DTSTART;TZID=Europe/Berlin:20240204T090000
DTEND;TZID=Europe/Berlin:20240204T110000
LOCATION:Sportovní hala Základní škola a mateřská škola Štoky\,  Štoky220
SUMMARY:VY-U16Z-A: Štoky-Tělovýchovná jednota Jiskra Havlíčkův Brod z.s.   
    'B'
END:VEVENT
BEGIN:VEVENT
UID:30303965-6433-4139-a333-313264313662
DTSTAMP:20260422T111940Z
DESCRIPTION:4/34 Volejbalový klub Třebíč - Tělovýchovná jednota Jiskra Havl
 íčkův Brod z.s.      'B' 0:2 (-17\,-16)
DTSTART;TZID=Europe/Berlin:20240127T090000
DTEND;TZID=Europe/Berlin:20240127T110000
LOCATION:hala ZŠ TGM\, Komenského nám. 61 Třebíč - Horka-Domky
SUMMARY:VY-U16Z-A: Volejbalový klub Třebíč-Tělovýchovná jednota Jiskra Havl
 íčkův Brod z.s.      'B'
END:VEVENT
BEGIN:VEVENT
UID:33653538-3464-4136-b761-343061366439
DTSTAMP:20260422T111940Z
DESCRIPTION:5/52 Tělovýchovná jednota Jiskra Havlíčkův Brod z.s.        'A'
  - Tělovýchovná jednota Jiskra Havlíčkův Brod z.s.      'B' 2:0 (12\,22)
DTSTART;TZID=Europe/Berlin:20240303T090000
DTEND;TZID=Europe/Berlin:20240303T110000
LOCATION:Tělocvična OA a hotelové školy\, Bratříků 851 Havlíčkův Brod
SUMMARY:VY-U16Z-A: Tělovýchovná jednota Jiskra Havlíčkův Brod z.s.        '
 A'-Tělovýchovná jednota Jiskra Havlíčkův Brod z.s.      'B'
END:VEVENT
END:VCALENDAR
