BEGIN:VCALENDAR
VERSION:2.0
PRODID:-//Základní škola Přibyslav83238//NONSGML kigkonsult.se iCalcreator 2.41.80//
CALSCALE:GREGORIAN
UID:35313830-6266-4139-a538-393036323862
BEGIN:VEVENT
UID:34353962-6534-4131-b537-373961616364
DTSTAMP:20260422T235629Z
DESCRIPTION:1/22 Základní škola Přibyslav - Volejbalový klub Třebíč 'B' 1:2
  (23\,-19\,-12)
DTSTART;TZID=Europe/Berlin:20231001T090000
DTEND;TZID=Europe/Berlin:20231001T110000
LOCATION:Sportovní hala Přibyslav\, Česká 34 Přibyslav
SUMMARY:VY-U16Z: Základní škola Přibyslav-Volejbalový klub Třebíč 'B'
END:VEVENT
BEGIN:VEVENT
UID:38393937-6136-4330-b730-333330643330
DTSTAMP:20260422T235629Z
DESCRIPTION:2/34 Základní škola Přibyslav - Jihlava 0:2 (-18\,-16)
DTSTART;TZID=Europe/Berlin:20231022T090000
DTEND;TZID=Europe/Berlin:20231022T110000
LOCATION:Sportovní hala Přibyslav\, Česká 34 Přibyslav
SUMMARY:VY-U16Z: Základní škola Přibyslav-Jihlava
END:VEVENT
BEGIN:VEVENT
UID:33306331-6563-4634-a461-363238613130
DTSTAMP:20260422T235629Z
DESCRIPTION:3/52 Základní škola Přibyslav - Volejbalový klub Třebíč 0:2 (-1
 0\,-16)
DTSTART;TZID=Europe/Berlin:20231112T090000
DTEND;TZID=Europe/Berlin:20231112T110000
LOCATION:Sportovní hala Přibyslav\, Česká 34 Přibyslav
SUMMARY:VY-U16Z: Základní škola Přibyslav-Volejbalový klub Třebíč
END:VEVENT
BEGIN:VEVENT
UID:39383038-6635-4437-a264-633661306665
DTSTAMP:20260422T235629Z
DESCRIPTION:4/88 Základní škola Přibyslav - TJ Žďár nad Sázavou 0:2 (-10\,-
 20)
DTSTART;TZID=Europe/Berlin:20231203T090000
DTEND;TZID=Europe/Berlin:20231203T110000
LOCATION:Sportovní hala Přibyslav\, Česká 34 Přibyslav
SUMMARY:VY-U16Z: Základní škola Přibyslav-TJ Žďár nad Sázavou
END:VEVENT
BEGIN:VEVENT
UID:37356330-6466-4838-b833-646665346165
DTSTAMP:20260422T235629Z
DESCRIPTION:5/118 Základní škola Přibyslav - Tělovýchovná jednota Jiskra Ha
 vlíčkův Brod z.s.      'B' 0:2 (-7\,-23)
DTSTART;TZID=Europe/Berlin:20231210T090000
DTEND;TZID=Europe/Berlin:20231210T110000
LOCATION:Sportovní hala Přibyslav\, Česká 34 Přibyslav
SUMMARY:VY-U16Z: Základní škola Přibyslav-Tělovýchovná jednota Jiskra Havlí
 čkův Brod z.s.      'B'
END:VEVENT
BEGIN:VEVENT
UID:63373961-6430-4563-a463-366632343663
DTSTAMP:20260422T235629Z
DESCRIPTION:1/19 TJ Sokol Nové Veselí - Základní škola Přibyslav 2:0 (6\,10
 )\nPořadatel Nové Veselí
DTSTART;TZID=Europe/Berlin:20231001T090000
DTEND;TZID=Europe/Berlin:20231001T110000
LOCATION:Víceúčelová sportovní hala Nové Veselí\, Žďárská 356 Nové Veselí
SUMMARY:VY-U16Z: TJ Sokol Nové Veselí-Základní škola Přibyslav
END:VEVENT
BEGIN:VEVENT
UID:31353861-3033-4061-b437-353932666333
DTSTAMP:20260422T235629Z
DESCRIPTION:1/23 TJ Sokol Bedřichov B - Základní škola Přibyslav 1:2 (18\,-
 12\,-12)
DTSTART;TZID=Europe/Berlin:20231001T090000
DTEND;TZID=Europe/Berlin:20231001T110000
LOCATION:TJ Sokol Bedřichov\, Jihlava\, Sokolovská 4656 Jihlava
SUMMARY:VY-U16Z: TJ Sokol Bedřichov B-Základní škola Přibyslav
END:VEVENT
BEGIN:VEVENT
UID:62616531-3262-4231-b130-346238613763
DTSTAMP:20260422T235629Z
DESCRIPTION:2/31 Tělovýchovná jednota Spartak Pelhřimov\, z.s. - Základní š
 kola Přibyslav 2:1 (-15\,19\,10)\nPořadatel Demlova
DTSTART;TZID=Europe/Berlin:20231022T090000
DTEND;TZID=Europe/Berlin:20231022T110000
LOCATION:Základní škola Pelhřimov\, Osvobození\, Osvobození 1881 Pelhřimov
SUMMARY:VY-U16Z: Tělovýchovná jednota Spartak Pelhřimov\, z.s.-Základní ško
 la Přibyslav
END:VEVENT
BEGIN:VEVENT
UID:34613434-6137-4530-b932-326165636666
DTSTAMP:20260422T235629Z
DESCRIPTION:2/35 TJ Sokol Bedřichov A - Základní škola Přibyslav 2:0 (5\,12
 )
DTSTART;TZID=Europe/Berlin:20231022T090000
DTEND;TZID=Europe/Berlin:20231022T110000
LOCATION:TJ Sokol Bedřichov\, Jihlava\, Sokolovská 4656 Jihlava
SUMMARY:VY-U16Z: TJ Sokol Bedřichov A-Základní škola Přibyslav
END:VEVENT
BEGIN:VEVENT
UID:61623739-3063-4233-b466-373036373864
DTSTAMP:20260422T235629Z
DESCRIPTION:3/49 Sklo Bohemia Světlá nad Sázavou\, z.s. - Základní škola Př
 ibyslav 2:0 (22\,22)\nPořadatel Přibyslav
DTSTART;TZID=Europe/Berlin:20231112T090000
DTEND;TZID=Europe/Berlin:20231112T110000
LOCATION:Sportovní hala\, Komenského 1256 Světlá nad Sázavou
SUMMARY:VY-U16Z: Sklo Bohemia Světlá nad Sázavou\, z.s.-Základní škola Přib
 yslav
END:VEVENT
BEGIN:VEVENT
UID:64363530-3236-4361-b761-313161383031
DTSTAMP:20260422T235629Z
DESCRIPTION:3/53 SK Telč\, z.s. - Základní škola Přibyslav 2:0 (14\,17)
DTSTART;TZID=Europe/Berlin:20231112T090000
DTEND;TZID=Europe/Berlin:20231112T110000
LOCATION:Sokol Telč\, Masarykova 222 Telč - Telč-Podolí
SUMMARY:VY-U16Z: SK Telč\, z.s.-Základní škola Přibyslav
END:VEVENT
BEGIN:VEVENT
UID:63613331-3333-4763-b565-646531663235
DTSTAMP:20260422T235629Z
DESCRIPTION:4/85 Tělovýchovná jednota CHS Chotěboř\, z.s. - Základní škola 
 Přibyslav 2:1 (-23\,27\,15)\nPořadatel KCTM
DTSTART;TZID=Europe/Berlin:20231203T090000
DTEND;TZID=Europe/Berlin:20231203T110000
LOCATION:Sportovní hala \, Tyršova 794 Chotěboř
SUMMARY:VY-U16Z: Tělovýchovná jednota CHS Chotěboř\, z.s.-Základní škola Př
 ibyslav
END:VEVENT
BEGIN:VEVENT
UID:32386662-3131-4330-b965-373931313663
DTSTAMP:20260422T235629Z
DESCRIPTION:4/89 KCTM Vysočina - Základní škola Přibyslav 2:1 (-21\,23\,8)
DTSTART;TZID=Europe/Berlin:20231203T090000
DTEND;TZID=Europe/Berlin:20231203T110000
LOCATION:tělocvična ZŠ a MŠ v Brtnici\, Školní 725 Brtnice
SUMMARY:VY-U16Z: KCTM Vysočina-Základní škola Přibyslav
END:VEVENT
BEGIN:VEVENT
UID:63353937-3930-4263-b131-393465333333
DTSTAMP:20260422T235629Z
DESCRIPTION:5/115 Tělovýchovná jednota Jiskra Havlíčkův Brod z.s.        'A
 ' - Základní škola Přibyslav 2:0 (14\,11)\nPořadatel Jiskra 'A'
DTSTART;TZID=Europe/Berlin:20231210T090000
DTEND;TZID=Europe/Berlin:20231210T110000
LOCATION:Tělocvična OA a hotelové školy\, Bratříků 851 Havlíčkův Brod
SUMMARY:VY-U16Z: Tělovýchovná jednota Jiskra Havlíčkův Brod z.s.        'A'
 -Základní škola Přibyslav
END:VEVENT
BEGIN:VEVENT
UID:39613434-6337-4566-b062-373833616233
DTSTAMP:20260422T235629Z
DESCRIPTION:5/119 Štoky - Základní škola Přibyslav 2:0 (12\,8)
DTSTART;TZID=Europe/Berlin:20231210T090000
DTEND;TZID=Europe/Berlin:20231210T110000
LOCATION:Sportovní hala Základní škola a mateřská škola Štoky\,  Štoky220
SUMMARY:VY-U16Z: Štoky-Základní škola Přibyslav
END:VEVENT
BEGIN:VEVENT
UID:33646633-3130-4163-b338-663332396538
DTSTAMP:20260422T235629Z
DESCRIPTION:1/8 Základní škola Přibyslav - Tělovýchovná jednota CHS Chotěbo
 ř\, z.s. 2:0 (13\,16)
DTSTART;TZID=Europe/Berlin:20240107T090000
DTEND;TZID=Europe/Berlin:20240107T110000
LOCATION:Sportovní hala Přibyslav\, Česká 34 Přibyslav
SUMMARY:VY-U16Z-B: Základní škola Přibyslav-Tělovýchovná jednota CHS Chotěb
 oř\, z.s.
END:VEVENT
BEGIN:VEVENT
UID:30636539-3763-4434-a137-396636333038
DTSTAMP:20260422T235629Z
DESCRIPTION:1/12 Základní škola Přibyslav - SK Telč\, z.s. 0:2 (-25\,-14)
DTSTART;TZID=Europe/Berlin:20240107T090000
DTEND;TZID=Europe/Berlin:20240107T110000
LOCATION:Sportovní hala Přibyslav\, Česká 34 Přibyslav
SUMMARY:VY-U16Z-B: Základní škola Přibyslav-SK Telč\, z.s.
END:VEVENT
BEGIN:VEVENT
UID:61373332-3133-4536-b230-373135316237
DTSTAMP:20260422T235629Z
DESCRIPTION:2/20 Základní škola Přibyslav - Tělovýchovná jednota Spartak Pe
 lhřimov\, z.s. 2:1 (-17\,26\,5)
DTSTART;TZID=Europe/Berlin:20240114T090000
DTEND;TZID=Europe/Berlin:20240114T110000
LOCATION:Sportovní hala Přibyslav\, Česká 34 Přibyslav
SUMMARY:VY-U16Z-B: Základní škola Přibyslav-Tělovýchovná jednota Spartak Pe
 lhřimov\, z.s.
END:VEVENT
BEGIN:VEVENT
UID:62653332-3637-4439-a561-656461343663
DTSTAMP:20260422T235629Z
DESCRIPTION:2/24 Základní škola Přibyslav - SK Telč\, z.s. 2:0 (20\,23)
DTSTART;TZID=Europe/Berlin:20240114T090000
DTEND;TZID=Europe/Berlin:20240114T110000
LOCATION:Sportovní hala Přibyslav\, Česká 34 Přibyslav
SUMMARY:VY-U16Z-B: Základní škola Přibyslav-SK Telč\, z.s.
END:VEVENT
BEGIN:VEVENT
UID:30616432-3134-4931-b263-386565303562
DTSTAMP:20260422T235630Z
DESCRIPTION:3/26 Základní škola Přibyslav - Sklo Bohemia Světlá nad Sázavou
 \, z.s. 0:2 (-18\,-19)
DTSTART;TZID=Europe/Berlin:20240204T090000
DTEND;TZID=Europe/Berlin:20240204T110000
LOCATION:Sportovní hala Přibyslav\, Česká 34 Přibyslav
SUMMARY:VY-U16Z-B: Základní škola Přibyslav-Sklo Bohemia Světlá nad Sázavou
 \, z.s.
END:VEVENT
BEGIN:VEVENT
UID:36316337-6263-4537-b439-646239613030
DTSTAMP:20260422T235630Z
DESCRIPTION:4/40 Základní škola Přibyslav - KCTM Vysočina 2:0 (18\,19)
DTSTART;TZID=Europe/Berlin:20240225T090000
DTEND;TZID=Europe/Berlin:20240225T110000
LOCATION:Sportovní hala Přibyslav\, Česká 34 Přibyslav
SUMMARY:VY-U16Z-B: Základní škola Přibyslav-KCTM Vysočina
END:VEVENT
BEGIN:VEVENT
UID:64663766-6632-4663-b265-643133633065
DTSTAMP:20260422T235630Z
DESCRIPTION:4/44 Základní škola Přibyslav - Volejbalový klub Třebíč 'B' 2:1
  (-18\,25\,9)
DTSTART;TZID=Europe/Berlin:20240225T090000
DTEND;TZID=Europe/Berlin:20240225T110000
LOCATION:Sportovní hala Přibyslav\, Česká 34 Přibyslav
SUMMARY:VY-U16Z-B: Základní škola Přibyslav-Volejbalový klub Třebíč 'B'
END:VEVENT
BEGIN:VEVENT
UID:63343830-3738-4135-a533-383530376230
DTSTAMP:20260422T235630Z
DESCRIPTION:5/52 Základní škola Přibyslav - Tělovýchovná jednota CHS Chotěb
 oř\, z.s. 1:2 (-23\,17\,-6)
DTSTART;TZID=Europe/Berlin:20240310T090000
DTEND;TZID=Europe/Berlin:20240310T110000
LOCATION:Sportovní hala Přibyslav\, Česká 34 Přibyslav
SUMMARY:VY-U16Z-B: Základní škola Přibyslav-Tělovýchovná jednota CHS Chotěb
 oř\, z.s.
END:VEVENT
BEGIN:VEVENT
UID:39613530-6463-4861-a664-663236333233
DTSTAMP:20260422T235630Z
DESCRIPTION:5/56 Základní škola Přibyslav - Volejbalový klub Třebíč 'B' 0:2
  (-19\,-24)
DTSTART;TZID=Europe/Berlin:20240310T090000
DTEND;TZID=Europe/Berlin:20240310T110000
LOCATION:Sportovní hala Přibyslav\, Česká 34 Přibyslav
SUMMARY:VY-U16Z-B: Základní škola Přibyslav-Volejbalový klub Třebíč 'B'
END:VEVENT
BEGIN:VEVENT
UID:37666134-6536-4632-a163-353061333533
DTSTAMP:20260422T235630Z
DESCRIPTION:1/10 KCTM Vysočina - Základní škola Přibyslav 1:2 (-13\,28\,-16
 )
DTSTART;TZID=Europe/Berlin:20240107T090000
DTEND;TZID=Europe/Berlin:20240107T110000
LOCATION:tělocvična ZŠ a MŠ v Brtnici\, Školní 725 Brtnice
SUMMARY:VY-U16Z-B: KCTM Vysočina-Základní škola Přibyslav
END:VEVENT
BEGIN:VEVENT
UID:37356465-6436-4638-b961-333130343038
DTSTAMP:20260422T235630Z
DESCRIPTION:2/22 TJ Sokol Bedřichov B - Základní škola Přibyslav 1:2 (14\,-
 12\,-13)
DTSTART;TZID=Europe/Berlin:20240114T090000
DTEND;TZID=Europe/Berlin:20240114T110000
LOCATION:TJ Sokol Bedřichov\, Jihlava\, Sokolovská 4656 Jihlava
SUMMARY:VY-U16Z-B: TJ Sokol Bedřichov B-Základní škola Přibyslav
END:VEVENT
BEGIN:VEVENT
UID:30373265-3362-4262-a130-323332326635
DTSTAMP:20260422T235630Z
DESCRIPTION:3/25 Sklo Bohemia Světlá nad Sázavou\, z.s. - Základní škola Př
 ibyslav 1:2 (16\,-20\,-7)\nPořadatel Světlá
DTSTART;TZID=Europe/Berlin:20240204T090000
DTEND;TZID=Europe/Berlin:20240204T110000
LOCATION:Sportovní hala\, Komenského 1256 Světlá nad Sázavou
SUMMARY:VY-U16Z-B: Sklo Bohemia Světlá nad Sázavou\, z.s.-Základní škola Př
 ibyslav
END:VEVENT
BEGIN:VEVENT
UID:61373361-3533-4630-b638-653239373037
DTSTAMP:20260422T235630Z
DESCRIPTION:4/42 TJ Sokol Bedřichov B - Základní škola Přibyslav 2:1 (-17\,
 13\,14)
DTSTART;TZID=Europe/Berlin:20240225T090000
DTEND;TZID=Europe/Berlin:20240225T110000
LOCATION:TJ Sokol Bedřichov\, Jihlava\, Sokolovská 4656 Jihlava
SUMMARY:VY-U16Z-B: TJ Sokol Bedřichov B-Základní škola Přibyslav
END:VEVENT
BEGIN:VEVENT
UID:64306136-3462-4565-b433-373437643663
DTSTAMP:20260422T235630Z
DESCRIPTION:5/54 Tělovýchovná jednota Spartak Pelhřimov\, z.s. - Základní š
 kola Přibyslav 2:0 (24\,21)
DTSTART;TZID=Europe/Berlin:20240310T090000
DTEND;TZID=Europe/Berlin:20240310T110000
LOCATION:Základní škola Pelhřimov\, Osvobození\, Osvobození 1881 Pelhřimov
SUMMARY:VY-U16Z-B: Tělovýchovná jednota Spartak Pelhřimov\, z.s.-Základní š
 kola Přibyslav
END:VEVENT
END:VCALENDAR
