BEGIN:VCALENDAR
VERSION:2.0
PRODID:-//Volejbalový klub Hronov, z.s.83240//NONSGML kigkonsult.se iCalcreator 2.41.80//
CALSCALE:GREGORIAN
UID:35646533-3265-4366-b139-303334643666
BEGIN:VEVENT
UID:32616237-6130-4530-b338-623665386566
DTSTAMP:20260421T120740Z
DESCRIPTION:1/4 Volejbalový klub Hronov\, z.s. - Volejbalový klub Dvůr Král
 ové nad Labem\, z.s. 2:0 (5\,12)
DTSTART;TZID=Europe/Berlin:20230910T100000
DTEND;TZID=Europe/Berlin:20230910T120000
LOCATION:ZŠ Hronov\, Palackého 162 Hronov
SUMMARY:PA-U16M-KV-I: Volejbalový klub Hronov\, z.s.-Volejbalový klub Dvůr 
 Králové nad Labem\, z.s.
END:VEVENT
BEGIN:VEVENT
UID:32393837-3566-4237-b933-646138386166
DTSTAMP:20260421T120740Z
DESCRIPTION:1/7 Volejbalový klub Hronov\, z.s. - Hradec Králové 1:2 (-15\,1
 9\,-5)
DTSTART;TZID=Europe/Berlin:20230910T120000
DTEND;TZID=Europe/Berlin:20230910T140000
LOCATION:ZŠ Hronov\, Palackého 162 Hronov
SUMMARY:PA-U16M-KV-I: Volejbalový klub Hronov\, z.s.-Hradec Králové
END:VEVENT
BEGIN:VEVENT
UID:62623066-3330-4833-a338-343138393638
DTSTAMP:20260421T120740Z
DESCRIPTION:1/5 Nová Paka - Volejbalový klub Hronov\, z.s. 2:0 (22\,19)
DTSTART;TZID=Europe/Berlin:20230910T110000
DTEND;TZID=Europe/Berlin:20230910T130000
LOCATION:ZŠ Husitská\, O. Číly 1933 Nová Paka
SUMMARY:PA-U16M-KV-I: Nová Paka-Volejbalový klub Hronov\, z.s.
END:VEVENT
BEGIN:VEVENT
UID:65663530-6362-4130-b165-373663636138
DTSTAMP:20260421T120740Z
DESCRIPTION:1/10 VK SPORT Rychnov nad Kněžnou\, z.s. - Volejbalový klub Hro
 nov\, z.s. 2:1 (24\,-23\,5)
DTSTART;TZID=Europe/Berlin:20230910T130000
DTEND;TZID=Europe/Berlin:20230910T150000
LOCATION:Hala VOŠ a SPŠS\, U Stadionu 1166 Rychnov nad Kněžnou
SUMMARY:PA-U16M-KV-I: VK SPORT Rychnov nad Kněžnou\, z.s.-Volejbalový klub 
 Hronov\, z.s.
END:VEVENT
BEGIN:VEVENT
UID:63363565-6636-4232-b436-323038336531
DTSTAMP:20260421T120740Z
DESCRIPTION:1/1 TJ Spartak Polička\, z.s. - Volejbalový klub Hronov\, z.s. 
 0:3 (-7\,-14\,-10)
DTSTART;TZID=Europe/Berlin:20230924T090000
DTEND;TZID=Europe/Berlin:20230924T110000
LOCATION:TJ Spartak Polička\, z.s. \, nábř. Svobody 447 Polička - Horní Pře
 dměstí
SUMMARY:PA-U16M-1C: TJ Spartak Polička\, z.s.-Volejbalový klub Hronov\, z.s
 .
END:VEVENT
BEGIN:VEVENT
UID:39663137-3236-4435-b565-636661646232
DTSTAMP:20260421T120740Z
DESCRIPTION:1/2 Tělocvičná jednota Sokol Hrotovice - Volejbalový klub Hrono
 v\, z.s. 0:3 (-14\,-3\,-13)
DTSTART;TZID=Europe/Berlin:20230924T110000
DTEND;TZID=Europe/Berlin:20230924T130000
LOCATION:Sportovní hala ZŠ Hrotovice\, F. B. Zvěřiny 221 Hrotovice
SUMMARY:PA-U16M-1C: Tělocvičná jednota Sokol Hrotovice-Volejbalový klub Hro
 nov\, z.s.
END:VEVENT
BEGIN:VEVENT
UID:64623031-6136-4338-b532-393830333065
DTSTAMP:20260421T120740Z
DESCRIPTION:1/2 Volejbalový klub Hronov\, z.s. - Hradec Králové 0:2 (-12\,-
 16)
DTSTART;TZID=Europe/Berlin:20231029T100000
DTEND;TZID=Europe/Berlin:20231029T120000
LOCATION:ZŠ Hronov\, Palackého 162 Hronov
SUMMARY:PA-U16M-2B: Volejbalový klub Hronov\, z.s.-Hradec Králové
END:VEVENT
BEGIN:VEVENT
UID:31613733-3664-4964-b033-373066316537
DTSTAMP:20260421T120740Z
DESCRIPTION:1/5 Volejbalový klub Hronov\, z.s. - Svitavy 1:2 (-17\,23\,-10)
DTSTART;TZID=Europe/Berlin:20231029T130000
DTEND;TZID=Europe/Berlin:20231029T150000
LOCATION:ZŠ Hronov\, Palackého 162 Hronov
SUMMARY:PA-U16M-2B: Volejbalový klub Hronov\, z.s.-Svitavy
END:VEVENT
BEGIN:VEVENT
UID:65303437-3165-4432-b935-633763383864
DTSTAMP:20260421T120740Z
DESCRIPTION:1/4 Česká Třebová - Volejbalový klub Hronov\, z.s. 2:0 (14\,16)
DTSTART;TZID=Europe/Berlin:20231029T120000
DTEND;TZID=Europe/Berlin:20231029T140000
LOCATION:VDA u Billy\, Habrmanova 2096 Česká Třebová
SUMMARY:PA-U16M-2B: Česká Třebová-Volejbalový klub Hronov\, z.s.
END:VEVENT
BEGIN:VEVENT
UID:32313933-3265-4462-a462-636137626564
DTSTAMP:20260421T120740Z
DESCRIPTION:1/2 Volejbalový klub Hronov\, z.s. - TJ Svitavy B 3:0 (13\,9\,1
 2)
DTSTART;TZID=Europe/Berlin:20231126T110000
DTEND;TZID=Europe/Berlin:20231126T130000
LOCATION:ZŠ Hronov\, Palackého 162 Hronov
SUMMARY:PA-U16M-3C: Volejbalový klub Hronov\, z.s.-TJ Svitavy B
END:VEVENT
BEGIN:VEVENT
UID:30666438-3732-4563-a134-313165663062
DTSTAMP:20260421T120740Z
DESCRIPTION:1/3 Tělocvičná jednota Sokol Pardubice I. - Volejbalový klub Hr
 onov\, z.s. 2:3 (24\,-15\,18\,-16\,-6)
DTSTART;TZID=Europe/Berlin:20231126T130000
DTEND;TZID=Europe/Berlin:20231126T150000
LOCATION:Sokolovna\, Jiráskova 29 Pardubice - Zelené Předměstí
SUMMARY:PA-U16M-3C: Tělocvičná jednota Sokol Pardubice I.-Volejbalový klub 
 Hronov\, z.s.
END:VEVENT
BEGIN:VEVENT
UID:65353131-6161-4365-a133-316463356430
DTSTAMP:20260421T120740Z
DESCRIPTION:1/1 Volejbalový klub Hronov\, z.s. - Nová Paka 0:2 (-23\,-22)
DTSTART;TZID=Europe/Berlin:20240107T090000
DTEND;TZID=Europe/Berlin:20240107T110000
LOCATION:ZŠ Hronov\, Palackého 162 Hronov
SUMMARY:PA-U16M-4B: Volejbalový klub Hronov\, z.s.-Nová Paka
END:VEVENT
BEGIN:VEVENT
UID:37303631-3633-4432-b931-313062373335
DTSTAMP:20260421T120740Z
DESCRIPTION:1/4 Volejbalový klub Hronov\, z.s. - Hradec Králové 0:2 (-23\,-
 18)
DTSTART;TZID=Europe/Berlin:20240107T120000
DTEND;TZID=Europe/Berlin:20240107T140000
LOCATION:ZŠ Hronov\, Palackého 162 Hronov
SUMMARY:PA-U16M-4B: Volejbalový klub Hronov\, z.s.-Hradec Králové
END:VEVENT
BEGIN:VEVENT
UID:35326162-3362-4438-b361-663138646335
DTSTAMP:20260421T120740Z
DESCRIPTION:1/6 Volejbalový klub Hronov\, z.s. - Česká Třebová 1:2 (-12\,22
 \,-8)
DTSTART;TZID=Europe/Berlin:20240107T140000
DTEND;TZID=Europe/Berlin:20240107T160000
LOCATION:ZŠ Hronov\, Palackého 162 Hronov
SUMMARY:PA-U16M-4B: Volejbalový klub Hronov\, z.s.-Česká Třebová
END:VEVENT
BEGIN:VEVENT
UID:37336166-3665-4437-b234-313361353064
DTSTAMP:20260421T120740Z
DESCRIPTION:1/1 Volejbalový klub Hronov\, z.s. - TJ Svitavy B 3:0 (16\,11\,
 17)
DTSTART;TZID=Europe/Berlin:20240204T130000
DTEND;TZID=Europe/Berlin:20240204T150000
LOCATION:ZŠ Hronov\, Palackého 162 Hronov
SUMMARY:PA-U16M-5C: Volejbalový klub Hronov\, z.s.-TJ Svitavy B
END:VEVENT
BEGIN:VEVENT
UID:34306637-6631-4864-a431-323966623733
DTSTAMP:20260421T120740Z
DESCRIPTION:1/3 Volejbalový klub Hronov\, z.s. - Tělocvičná jednota Sokol H
 rotovice
DTSTART;TZID=Europe/Berlin:20240204T090000
DTEND;TZID=Europe/Berlin:20240204T110000
LOCATION:ZŠ Hronov\, Palackého 162 Hronov
SUMMARY:PA-U16M-5C: Volejbalový klub Hronov\, z.s.-Tělocvičná jednota Sokol
  Hrotovice
END:VEVENT
BEGIN:VEVENT
UID:36393836-6161-4138-b139-323332623738
DTSTAMP:20260421T120740Z
DESCRIPTION:1/2 Volejbalový klub Hronov\, z.s. - Nová Paka 0:2 (-21\,-22)
DTSTART;TZID=Europe/Berlin:20240225T100000
DTEND;TZID=Europe/Berlin:20240225T120000
LOCATION:ZŠ Hronov\, Palackého 162 Hronov
SUMMARY:PA-U16M-6B: Volejbalový klub Hronov\, z.s.-Nová Paka
END:VEVENT
BEGIN:VEVENT
UID:66373636-3265-4934-b634-643134666539
DTSTAMP:20260421T120741Z
DESCRIPTION:1/5 Volejbalový klub Hronov\, z.s. - Volejbalový klub Choceň\, 
 z.s. 0:2 (-19\,-22)
DTSTART;TZID=Europe/Berlin:20240225T130000
DTEND;TZID=Europe/Berlin:20240225T150000
LOCATION:ZŠ Hronov\, Palackého 162 Hronov
SUMMARY:PA-U16M-6B: Volejbalový klub Hronov\, z.s.-Volejbalový klub Choceň\
 , z.s.
END:VEVENT
BEGIN:VEVENT
UID:63373365-6363-4262-b739-316136333330
DTSTAMP:20260421T120741Z
DESCRIPTION:1/4 Velké Meziříčí - Volejbalový klub Hronov\, z.s. 2:0 (8\,19)
DTSTART;TZID=Europe/Berlin:20240225T120000
DTEND;TZID=Europe/Berlin:20240225T140000
LOCATION:ZŠ Komenského\, Komenského 1 Velké Meziříčí
SUMMARY:PA-U16M-6B: Velké Meziříčí-Volejbalový klub Hronov\, z.s.
END:VEVENT
BEGIN:VEVENT
UID:61336232-3864-4163-b335-333430313037
DTSTAMP:20260421T120741Z
DESCRIPTION:1/1 Volejbalový klub Hronov\, z.s. - TJ Svitavy B 3:0 (20\,19\,
 17)
DTSTART;TZID=Europe/Berlin:20240407T090000
DTEND;TZID=Europe/Berlin:20240407T110000
LOCATION:ZŠ Hronov\, Palackého 162 Hronov
SUMMARY:PA-U16M-7C: Volejbalový klub Hronov\, z.s.-TJ Svitavy B
END:VEVENT
BEGIN:VEVENT
UID:65383939-3664-4263-b964-363831333338
DTSTAMP:20260421T120741Z
DESCRIPTION:1/3 Volejbalový klub Hronov\, z.s. - Tělocvičná jednota Sokol H
 rotovice 3:0 (23\,10\,23)
DTSTART;TZID=Europe/Berlin:20240407T130000
DTEND;TZID=Europe/Berlin:20240407T150000
LOCATION:ZŠ Hronov\, Palackého 162 Hronov
SUMMARY:PA-U16M-7C: Volejbalový klub Hronov\, z.s.-Tělocvičná jednota Sokol
  Hrotovice
END:VEVENT
END:VCALENDAR
