BEGIN:VCALENDAR
VERSION:2.0
PRODID:-//TJ Jiskra Jaroměř83241//NONSGML kigkonsult.se iCalcreator 2.41.80//
CALSCALE:GREGORIAN
UID:65386231-6239-4531-b564-333762306638
BEGIN:VEVENT
UID:66666364-3165-4562-b038-333662386631
DTSTAMP:20260422T033935Z
DESCRIPTION:5/7 TJ Jiskra Jaroměř - TJ Jičín 2:1 (-25\,22\,10)\nkurt č.3
DTSTART;TZID=Europe/Berlin:20230923T143000
DTEND;TZID=Europe/Berlin:20230923T163000
LOCATION:Hala SŠŘ\, Na Karlově 798 Jaroměř - Pražské Předměstí
SUMMARY:CP-U16Z-V1A: TJ Jiskra Jaroměř-TJ Jičín
END:VEVENT
BEGIN:VEVENT
UID:61326337-6337-4634-b865-353230313432
DTSTAMP:20260422T033935Z
DESCRIPTION:7/11 TJ Jiskra Jaroměř - TJ Jiskra Havlíčkův Brod 2:0 (23\,19)
 \nkurt č.4
DTSTART;TZID=Europe/Berlin:20230924T100000
DTEND;TZID=Europe/Berlin:20230924T120000
LOCATION:Hala SŠŘ\, Na Karlově 798 Jaroměř - Pražské Předměstí
SUMMARY:CP-U16Z-V1A: TJ Jiskra Jaroměř-TJ Jiskra Havlíčkův Brod
END:VEVENT
BEGIN:VEVENT
UID:63653434-6538-4533-b939-643636623234
DTSTAMP:20260422T033935Z
DESCRIPTION:1/1 TJ Slavia Hradec Králové - TJ Jiskra Jaroměř 2:0 (12\,14)\n
 kurt č.3
DTSTART;TZID=Europe/Berlin:20230923T100000
DTEND;TZID=Europe/Berlin:20230923T120000
LOCATION:TJ Slavia Hradec Králové\, Víta Nejedlého 1216 Hradec Králové
SUMMARY:CP-U16Z-V1A: TJ Slavia Hradec Králové-TJ Jiskra Jaroměř
END:VEVENT
BEGIN:VEVENT
UID:61306636-3639-4535-b362-343833373466
DTSTAMP:20260422T033935Z
DESCRIPTION:4/5 TJ Žďár nad Sázavou - TJ Jiskra Jaroměř 0:2 (-13\,-15)\nkur
 t č. 3
DTSTART;TZID=Europe/Berlin:20230923T133000
DTEND;TZID=Europe/Berlin:20230923T153000
LOCATION:ZŠ Palachova\, Palachova 1757 Žďár nad Sázavou - Žďár nad Sázavou 
 6
SUMMARY:CP-U16Z-V1A: TJ Žďár nad Sázavou-TJ Jiskra Jaroměř
END:VEVENT
BEGIN:VEVENT
UID:61613630-3838-4161-b036-386564393562
DTSTAMP:20260422T033935Z
DESCRIPTION:8/13 VO TJ Lanškroun B - TJ Jiskra Jaroměř 0:2 (-8\,-12)\nkurt 
 č.3
DTSTART;TZID=Europe/Berlin:20230924T120000
DTEND;TZID=Europe/Berlin:20230924T140000
LOCATION:SOŠ a SOU Lanškroun\, Sokolská 288 Lanškroun - Ostrovské Předměstí
SUMMARY:CP-U16Z-V1A: VO TJ Lanškroun B-TJ Jiskra Jaroměř
END:VEVENT
BEGIN:VEVENT
UID:30616133-3034-4336-b063-653063663736
DTSTAMP:20260422T033935Z
DESCRIPTION:2/4 TJ Jiskra Jaroměř - SK Volejbal Kolín 0:2 (-20\,-22)
DTSTART;TZID=Europe/Berlin:20231014T110000
DTEND;TZID=Europe/Berlin:20231014T130000
LOCATION:Hala SŠŘ\, Na Karlově 798 Jaroměř - Pražské Předměstí
SUMMARY:CP-U16Z-V2B: TJ Jiskra Jaroměř-SK Volejbal Kolín
END:VEVENT
BEGIN:VEVENT
UID:61343431-3563-4764-b565-373264643164
DTSTAMP:20260422T033935Z
DESCRIPTION:4/10 TJ Jiskra Jaroměř - TJ Svitavy 1:2 (-20\,20\,-16)
DTSTART;TZID=Europe/Berlin:20231014T140000
DTEND;TZID=Europe/Berlin:20231014T160000
LOCATION:Hala SŠŘ\, Na Karlově 798 Jaroměř - Pražské Předměstí
SUMMARY:CP-U16Z-V2B: TJ Jiskra Jaroměř-TJ Svitavy
END:VEVENT
BEGIN:VEVENT
UID:61393535-6330-4338-a361-393264383731
DTSTAMP:20260422T033935Z
DESCRIPTION:6/14 TJ Jiskra Jaroměř - VK Raškovice 1:2 (-15\,15\,-15)
DTSTART;TZID=Europe/Berlin:20231015T090000
DTEND;TZID=Europe/Berlin:20231015T110000
LOCATION:Hala SŠŘ\, Na Karlově 798 Jaroměř - Pražské Předměstí
SUMMARY:CP-U16Z-V2B: TJ Jiskra Jaroměř-VK Raškovice
END:VEVENT
BEGIN:VEVENT
UID:35373234-3134-4431-a562-336164393762
DTSTAMP:20260422T033935Z
DESCRIPTION:1/2 TJ Ostrava - TJ Jiskra Jaroměř 2:1 (16\,-24\,8)
DTSTART;TZID=Europe/Berlin:20231014T093000
DTEND;TZID=Europe/Berlin:20231014T113000
LOCATION:Hala mládeže\, Gajdošova 1893 Ostrava - Moravská Ostrava
SUMMARY:CP-U16Z-V2B: TJ Ostrava-TJ Jiskra Jaroměř
END:VEVENT
BEGIN:VEVENT
UID:32643366-3162-4539-a164-623435623031
DTSTAMP:20260422T033935Z
DESCRIPTION:5/13 Volejbal Rudolfov - TJ Jiskra Jaroměř 2:1 (-21\,10\,7)
DTSTART;TZID=Europe/Berlin:20231014T153000
DTEND;TZID=Europe/Berlin:20231014T173000
LOCATION:Sportovní hala Rudolfov\, Adamovská 511 Rudolfov
SUMMARY:CP-U16Z-V2B: Volejbal Rudolfov-TJ Jiskra Jaroměř
END:VEVENT
BEGIN:VEVENT
UID:62376232-3862-4230-b864-343132326362
DTSTAMP:20260422T033935Z
DESCRIPTION:7/18 Happy Sport Opava - TJ Jiskra Jaroměř 2:0 (25\,15)
DTSTART;TZID=Europe/Berlin:20231015T103000
DTEND;TZID=Europe/Berlin:20231015T123000
LOCATION:Sportovní hala Slezského gymnázia v Opavě\, Zámecký okruh 461 Opav
 a - Město
SUMMARY:CP-U16Z-V2B: Happy Sport Opava-TJ Jiskra Jaroměř
END:VEVENT
BEGIN:VEVENT
UID:63393636-3361-4462-b232-366338386162
DTSTAMP:20260422T033935Z
DESCRIPTION:2/3 TJ Jiskra Jaroměř - TJ Jiskra Havlíčkův Brod 2:0 (25\,19)
DTSTART;TZID=Europe/Berlin:20231118T113000
DTEND;TZID=Europe/Berlin:20231118T133000
LOCATION:Hala SŠŘ\, Na Karlově 798 Jaroměř - Pražské Předměstí
SUMMARY:CP-U16Z-V3C: TJ Jiskra Jaroměř-TJ Jiskra Havlíčkův Brod
END:VEVENT
BEGIN:VEVENT
UID:38666563-3864-4561-a463-336636343937
DTSTAMP:20260422T033935Z
DESCRIPTION:7/13 TJ Jiskra Jaroměř - SVK Nový Jičín 0:2 (-14\,-13)
DTSTART;TZID=Europe/Berlin:20231118T174500
DTEND;TZID=Europe/Berlin:20231118T194500
LOCATION:Hala SŠŘ\, Na Karlově 798 Jaroměř - Pražské Předměstí
SUMMARY:CP-U16Z-V3C: TJ Jiskra Jaroměř-SVK Nový Jičín
END:VEVENT
BEGIN:VEVENT
UID:37383730-6132-4331-b731-336432343064
DTSTAMP:20260422T033935Z
DESCRIPTION:10/19 TJ Jiskra Jaroměř - VK Raškovice 2:0 (12\,9)
DTSTART;TZID=Europe/Berlin:20231119T114500
DTEND;TZID=Europe/Berlin:20231119T134500
LOCATION:Hala SŠŘ\, Na Karlově 798 Jaroměř - Pražské Předměstí
SUMMARY:CP-U16Z-V3C: TJ Jiskra Jaroměř-VK Raškovice
END:VEVENT
BEGIN:VEVENT
UID:64346231-6433-4662-a266-653065323462
DTSTAMP:20260422T033935Z
DESCRIPTION:4/8 Volejbal Znojmo - TJ Jiskra Jaroměř 2:0 (22\,21)
DTSTART;TZID=Europe/Berlin:20231118T140000
DTEND;TZID=Europe/Berlin:20231118T160000
LOCATION:Tělocvična ZŠ Prokopa Diviše a MŠ\, Ke Škole 569 Znojmo - Přímětic
 e
SUMMARY:CP-U16Z-V3C: Volejbal Znojmo-TJ Jiskra Jaroměř
END:VEVENT
BEGIN:VEVENT
UID:37386465-6531-4166-b138-306132613833
DTSTAMP:20260422T033935Z
DESCRIPTION:6/11 TJ Jiskra Nový Bor B - TJ Jiskra Jaroměř 2:0 (24\,25)
DTSTART;TZID=Europe/Berlin:20231118T163000
DTEND;TZID=Europe/Berlin:20231118T183000
LOCATION:Sportovní hala Františka Arnošta Nový Bor\, U hřiště 1391 Nový Bor
SUMMARY:CP-U16Z-V3C: TJ Jiskra Nový Bor B-TJ Jiskra Jaroměř
END:VEVENT
BEGIN:VEVENT
UID:39663163-6335-4365-b238-646230613633
DTSTAMP:20260422T033935Z
DESCRIPTION:8/16 KP Brno B - TJ Jiskra Jaroměř 1:2 (-25\,20\,-13)
DTSTART;TZID=Europe/Berlin:20231119T090000
DTEND;TZID=Europe/Berlin:20231119T110000
LOCATION:Sportovní gymnázium Ludvíka Daňka\, Botanická 63 Brno - Ponava
SUMMARY:CP-U16Z-V3C: KP Brno B-TJ Jiskra Jaroměř
END:VEVENT
BEGIN:VEVENT
UID:62323661-3232-4963-b964-343063613033
DTSTAMP:20260422T033935Z
DESCRIPTION:1/1 TJ Jiskra Jaroměř - TJ Jiskra Nový Bor B 2:0 (18\,25)
DTSTART;TZID=Europe/Berlin:20240127T090000
DTEND;TZID=Europe/Berlin:20240127T110000
LOCATION:Hala SŠŘ\, Na Karlově 798 Jaroměř - Pražské Předměstí
SUMMARY:CP-U16Z-F1D: TJ Jiskra Jaroměř-TJ Jiskra Nový Bor B
END:VEVENT
BEGIN:VEVENT
UID:64636439-3462-4164-a562-313765623866
DTSTAMP:20260422T033935Z
DESCRIPTION:4/7 TJ Jiskra Jaroměř - Loko Plzeň   .A 1:2 (19\,-14\,-8)
DTSTART;TZID=Europe/Berlin:20240127T120000
DTEND;TZID=Europe/Berlin:20240127T140000
LOCATION:Hala SŠŘ\, Na Karlově 798 Jaroměř - Pražské Předměstí
SUMMARY:CP-U16Z-F1D: TJ Jiskra Jaroměř-Loko Plzeň   .A
END:VEVENT
BEGIN:VEVENT
UID:63303632-3338-4665-a662-353263363365
DTSTAMP:20260422T033935Z
DESCRIPTION:6/11 TJ Jiskra Jaroměř - Kladno volejbal 1:2 (22\,-23\,-14)
DTSTART;TZID=Europe/Berlin:20240127T140000
DTEND;TZID=Europe/Berlin:20240127T160000
LOCATION:Hala SŠŘ\, Na Karlově 798 Jaroměř - Pražské Předměstí
SUMMARY:CP-U16Z-F1D: TJ Jiskra Jaroměř-Kladno volejbal
END:VEVENT
BEGIN:VEVENT
UID:34323036-3930-4863-b066-336639663463
DTSTAMP:20260422T033935Z
DESCRIPTION:8/15 TJ Jiskra Jaroměř - RÉMA Rychnov 2:0 (17\,23)
DTSTART;TZID=Europe/Berlin:20240127T160000
DTEND;TZID=Europe/Berlin:20240127T180000
LOCATION:Hala SŠŘ\, Na Karlově 798 Jaroměř - Pražské Předměstí
SUMMARY:CP-U16Z-F1D: TJ Jiskra Jaroměř-RÉMA Rychnov
END:VEVENT
BEGIN:VEVENT
UID:37393765-6264-4036-a666-393230376438
DTSTAMP:20260422T033935Z
DESCRIPTION:10/19 TJ Jiskra Jaroměř - VSC Zlín 2:0 (6\,23)
DTSTART;TZID=Europe/Berlin:20240128T100000
DTEND;TZID=Europe/Berlin:20240128T120000
LOCATION:Hala SŠŘ\, Na Karlově 798 Jaroměř - Pražské Předměstí
SUMMARY:CP-U16Z-F1D: TJ Jiskra Jaroměř-VSC Zlín
END:VEVENT
BEGIN:VEVENT
UID:33623534-3666-4236-b564-323065646166
DTSTAMP:20260422T033935Z
DESCRIPTION:12/23 TJ Jiskra Jaroměř - TJ Baník Příbram 0:2 (-18\,-14)
DTSTART;TZID=Europe/Berlin:20240128T120000
DTEND;TZID=Europe/Berlin:20240128T140000
LOCATION:Hala SŠŘ\, Na Karlově 798 Jaroměř - Pražské Předměstí
SUMMARY:CP-U16Z-F1D: TJ Jiskra Jaroměř-TJ Baník Příbram
END:VEVENT
BEGIN:VEVENT
UID:35643565-6132-4137-a432-633665313731
DTSTAMP:20260422T033935Z
DESCRIPTION:13/25 TJ Jiskra Jaroměř - TJ Kralupy 0:2 (-18\,-19)
DTSTART;TZID=Europe/Berlin:20240128T130000
DTEND;TZID=Europe/Berlin:20240128T150000
LOCATION:Hala SŠŘ\, Na Karlově 798 Jaroměř - Pražské Předměstí
SUMMARY:CP-U16Z-F1D: TJ Jiskra Jaroměř-TJ Kralupy
END:VEVENT
BEGIN:VEVENT
UID:65313032-3566-4234-b930-386464323537
DTSTAMP:20260422T033935Z
DESCRIPTION:3/6 TJ Jiskra Jaroměř - TJ Sokol Pardubice I. 0:2 (-23\,-21)
DTSTART;TZID=Europe/Berlin:20240217T113000
DTEND;TZID=Europe/Berlin:20240217T133000
LOCATION:Hala SŠŘ\, Na Karlově 798 Jaroměř - Pražské Předměstí
SUMMARY:CP-U16Z-F2D: TJ Jiskra Jaroměř-TJ Sokol Pardubice I.
END:VEVENT
BEGIN:VEVENT
UID:66666538-6337-4231-a562-623261353532
DTSTAMP:20260422T033935Z
DESCRIPTION:5/10 TJ Jiskra Jaroměř - Loko Plzeň   .A 2:1 (23\,-21\,13)
DTSTART;TZID=Europe/Berlin:20240217T140000
DTEND;TZID=Europe/Berlin:20240217T160000
LOCATION:Hala SŠŘ\, Na Karlově 798 Jaroměř - Pražské Předměstí
SUMMARY:CP-U16Z-F2D: TJ Jiskra Jaroměř-Loko Plzeň   .A
END:VEVENT
BEGIN:VEVENT
UID:33376163-3262-4135-b439-636535353633
DTSTAMP:20260422T033935Z
DESCRIPTION:8/18 TJ Jiskra Jaroměř - Kladno volejbal 0:2 (-16\,-23)
DTSTART;TZID=Europe/Berlin:20240218T093000
DTEND;TZID=Europe/Berlin:20240218T113000
LOCATION:Hala SŠŘ\, Na Karlově 798 Jaroměř - Pražské Předměstí
SUMMARY:CP-U16Z-F2D: TJ Jiskra Jaroměř-Kladno volejbal
END:VEVENT
BEGIN:VEVENT
UID:66393766-6565-4335-b036-653832356632
DTSTAMP:20260422T033935Z
DESCRIPTION:11/24 TJ Jiskra Jaroměř - Happy Sport Opava 2:0 (11\,8)
DTSTART;TZID=Europe/Berlin:20240218T131500
DTEND;TZID=Europe/Berlin:20240218T151500
LOCATION:Hala SŠŘ\, Na Karlově 798 Jaroměř - Pražské Předměstí
SUMMARY:CP-U16Z-F2D: TJ Jiskra Jaroměř-Happy Sport Opava
END:VEVENT
BEGIN:VEVENT
UID:64383930-6436-4236-b661-666462353035
DTSTAMP:20260422T033935Z
DESCRIPTION:12/25 TJ Jiskra Jaroměř - Volejbal Tábor 1:2 (-23\,21\,-14)
DTSTART;TZID=Europe/Berlin:20240218T143000
DTEND;TZID=Europe/Berlin:20240218T163000
LOCATION:Hala SŠŘ\, Na Karlově 798 Jaroměř - Pražské Předměstí
SUMMARY:CP-U16Z-F2D: TJ Jiskra Jaroměř-Volejbal Tábor
END:VEVENT
BEGIN:VEVENT
UID:36633138-3535-4564-b165-336332306332
DTSTAMP:20260422T033935Z
DESCRIPTION:1/1 TJ Jiskra Nový Bor B - TJ Jiskra Jaroměř 1:2 (18\,-16\,-6)
DTSTART;TZID=Europe/Berlin:20240217T090000
DTEND;TZID=Europe/Berlin:20240217T110000
LOCATION:Sportovní hala Františka Arnošta Nový Bor\, U hřiště 1391 Nový Bor
SUMMARY:CP-U16Z-F2D: TJ Jiskra Nový Bor B-TJ Jiskra Jaroměř
END:VEVENT
BEGIN:VEVENT
UID:63376163-6531-4532-b331-646236363036
DTSTAMP:20260422T033935Z
DESCRIPTION:6/13 VSK Spartak Děčín - TJ Jiskra Jaroměř 2:1 (23\,-19\,5)
DTSTART;TZID=Europe/Berlin:20240217T151500
DTEND;TZID=Europe/Berlin:20240217T171500
LOCATION:Tělocvična SPŠ Stavební\, Jihlavská 628 Havlíčkův Brod
SUMMARY:CP-U16Z-F2D: VSK Spartak Děčín-TJ Jiskra Jaroměř
END:VEVENT
BEGIN:VEVENT
UID:30636137-6339-4562-b937-373833633232
DTSTAMP:20260422T033935Z
DESCRIPTION:4/8 TJ Jiskra Jaroměř - VSC Zlín 0:2 (-11\,-23)
DTSTART;TZID=Europe/Berlin:20240316T124500
DTEND;TZID=Europe/Berlin:20240316T144500
LOCATION:Hala SŠŘ\, Na Karlově 798 Jaroměř - Pražské Předměstí
SUMMARY:CP-U16Z-F3D: TJ Jiskra Jaroměř-VSC Zlín
END:VEVENT
BEGIN:VEVENT
UID:39373634-3638-4665-a135-383538656237
DTSTAMP:20260422T033935Z
DESCRIPTION:7/14 TJ Jiskra Jaroměř - SK Kometa Praha 1:2 (23\,-16\,-13)
DTSTART;TZID=Europe/Berlin:20240316T163000
DTEND;TZID=Europe/Berlin:20240316T183000
LOCATION:Hala SŠŘ\, Na Karlově 798 Jaroměř - Pražské Předměstí
SUMMARY:CP-U16Z-F3D: TJ Jiskra Jaroměř-SK Kometa Praha
END:VEVENT
BEGIN:VEVENT
UID:64383865-6333-4165-b932-303265623930
DTSTAMP:20260422T033935Z
DESCRIPTION:9/17 TJ Jiskra Jaroměř - Loko Plzeň   .A 0:2 (-8\,-13)
DTSTART;TZID=Europe/Berlin:20240317T090000
DTEND;TZID=Europe/Berlin:20240317T110000
LOCATION:Hala SŠŘ\, Na Karlově 798 Jaroměř - Pražské Předměstí
SUMMARY:CP-U16Z-F3D: TJ Jiskra Jaroměř-Loko Plzeň   .A
END:VEVENT
BEGIN:VEVENT
UID:33306663-3834-4330-a439-343166333965
DTSTAMP:20260422T033935Z
DESCRIPTION:14/27 TJ Jiskra Jaroměř - VSK Spartak Děčín 1:2 (-23\,21\,-13)
DTSTART;TZID=Europe/Berlin:20240317T151500
DTEND;TZID=Europe/Berlin:20240317T171500
LOCATION:Hala SŠŘ\, Na Karlově 798 Jaroměř - Pražské Předměstí
SUMMARY:CP-U16Z-F3D: TJ Jiskra Jaroměř-VSK Spartak Děčín
END:VEVENT
BEGIN:VEVENT
UID:65336165-3238-4164-b932-343134616565
DTSTAMP:20260422T033935Z
DESCRIPTION:2/4 Volejbal Ústí n. L. - TJ Jiskra Jaroměř 2:0 (16\,19)
DTSTART;TZID=Europe/Berlin:20240316T101500
DTEND;TZID=Europe/Berlin:20240316T121500
LOCATION:Tělocvična Gymnázia a Střední odborné školy dr. Václava Šmejkala\,
  Stará 3299 Ústí nad Labem - Severní Terasa
SUMMARY:CP-U16Z-F3D: Volejbal Ústí n. L.-TJ Jiskra Jaroměř
END:VEVENT
BEGIN:VEVENT
UID:65396233-3534-4566-b231-306334363966
DTSTAMP:20260422T033935Z
DESCRIPTION:6/11 Mikulova A - TJ Jiskra Jaroměř 1:2 (24\,-23\,-7)
DTSTART;TZID=Europe/Berlin:20240316T151500
DTEND;TZID=Europe/Berlin:20240316T171500
LOCATION:tělocvičny ZŠ Mikulova\, Mikulova 1594 Praha - Chodov
SUMMARY:CP-U16Z-F3D: Mikulova A-TJ Jiskra Jaroměř
END:VEVENT
BEGIN:VEVENT
UID:31343036-6533-4363-a339-383361373337
DTSTAMP:20260422T033935Z
DESCRIPTION:11/22 TJ Jiskra Nový Bor B - TJ Jiskra Jaroměř 2:1 (24\,-23\,14
 )
DTSTART;TZID=Europe/Berlin:20240317T113000
DTEND;TZID=Europe/Berlin:20240317T133000
LOCATION:Sportovní hala Františka Arnošta Nový Bor\, U hřiště 1391 Nový Bor
SUMMARY:CP-U16Z-F3D: TJ Jiskra Nový Bor B-TJ Jiskra Jaroměř
END:VEVENT
END:VCALENDAR
