BEGIN:VCALENDAR
VERSION:2.0
PRODID:-//Volejbal Vyškov83269//NONSGML kigkonsult.se iCalcreator 2.41.80//
CALSCALE:GREGORIAN
UID:65346333-3062-4564-b838-346438383931
BEGIN:VEVENT
UID:30326562-6663-4566-b162-366166383638
DTSTAMP:20260421T231741Z
DESCRIPTION:3/10 Vyškov - VSK Zábřeh 3:0 (13\,23\,19)
DTSTART;TZID=Europe/Berlin:20230916T100000
DTEND;TZID=Europe/Berlin:20230916T120000
LOCATION:Tělocvična ZŠ Nádražní\, Nádražní 5 Vyškov - Vyškov-Město
SUMMARY:OLK-U18Z: Vyškov-VSK Zábřeh
END:VEVENT
BEGIN:VEVENT
UID:64663064-6131-4335-b031-393934383235
DTSTAMP:20260421T231741Z
DESCRIPTION:4/14 Vyškov - VSK Zábřeh 0:3 (-21\,-23\,-26)
DTSTART;TZID=Europe/Berlin:20230916T140000
DTEND;TZID=Europe/Berlin:20230916T160000
LOCATION:Tělocvična ZŠ Nádražní\, Nádražní 5 Vyškov - Vyškov-Město
SUMMARY:OLK-U18Z: Vyškov-VSK Zábřeh
END:VEVENT
BEGIN:VEVENT
UID:33636136-3434-4866-a164-626536633037
DTSTAMP:20260421T231741Z
DESCRIPTION:9/36 Vyškov - VO TJ Lanškroun 0:3 (-21\,-20\,-7)
DTSTART;TZID=Europe/Berlin:20231104T090000
DTEND;TZID=Europe/Berlin:20231104T110000
LOCATION:Tělocvična ZŠ Nádražní\, Nádražní 5 Vyškov - Vyškov-Město
SUMMARY:OLK-U18Z: Vyškov-VO TJ Lanškroun
END:VEVENT
BEGIN:VEVENT
UID:65343337-3931-4035-b331-646433353463
DTSTAMP:20260421T231741Z
DESCRIPTION:10/40 Vyškov - VO TJ Lanškroun 0:3 (-11\,-10\,-8)
DTSTART;TZID=Europe/Berlin:20231104T130000
DTEND;TZID=Europe/Berlin:20231104T150000
LOCATION:Tělocvična ZŠ Nádražní\, Nádražní 5 Vyškov - Vyškov-Město
SUMMARY:OLK-U18Z: Vyškov-VO TJ Lanškroun
END:VEVENT
BEGIN:VEVENT
UID:32326533-3234-4833-b635-376165616632
DTSTAMP:20260421T231741Z
DESCRIPTION:13/51 Vyškov - TJ Šumperk 0:3 (-18\,-14\,-10)
DTSTART;TZID=Europe/Berlin:20231202T090000
DTEND;TZID=Europe/Berlin:20231202T110000
LOCATION:Tělocvična ZŠ Nádražní\, Nádražní 5 Vyškov - Vyškov-Město
SUMMARY:OLK-U18Z: Vyškov-TJ Šumperk
END:VEVENT
BEGIN:VEVENT
UID:30313665-6138-4437-b066-663238386333
DTSTAMP:20260421T231741Z
DESCRIPTION:14/55 Vyškov - TJ Šumperk 0:3 (-22\,-19\,-15)
DTSTART;TZID=Europe/Berlin:20231202T130000
DTEND;TZID=Europe/Berlin:20231202T150000
LOCATION:Tělocvična ZŠ Nádražní\, Nádražní 5 Vyškov - Vyškov-Město
SUMMARY:OLK-U18Z: Vyškov-TJ Šumperk
END:VEVENT
BEGIN:VEVENT
UID:66343531-3434-4933-b537-383831313836
DTSTAMP:20260421T231741Z
DESCRIPTION:15/59 Vyškov - Uničov 0:3 (-16\,-10\,-16)
DTSTART;TZID=Europe/Berlin:20231216T100000
DTEND;TZID=Europe/Berlin:20231216T120000
LOCATION:Tělocvična ZŠ Nádražní\, Nádražní 5 Vyškov - Vyškov-Město
SUMMARY:OLK-U18Z: Vyškov-Uničov
END:VEVENT
BEGIN:VEVENT
UID:32653232-3231-4339-b739-616639366531
DTSTAMP:20260421T231741Z
DESCRIPTION:16/63 Vyškov - Uničov 0:3 (-20\,-22\,-14)
DTSTART;TZID=Europe/Berlin:20231216T140000
DTEND;TZID=Europe/Berlin:20231216T160000
LOCATION:Tělocvična ZŠ Nádražní\, Nádražní 5 Vyškov - Vyškov-Město
SUMMARY:OLK-U18Z: Vyškov-Uničov
END:VEVENT
BEGIN:VEVENT
UID:62333032-3234-4733-b037-343566646331
DTSTAMP:20260421T231741Z
DESCRIPTION:19/76 Vyškov - TJ Sokol Bohuňovice 3:2 (22\,-11\,21\,-19\,10)
DTSTART;TZID=Europe/Berlin:20240203T100000
DTEND;TZID=Europe/Berlin:20240203T120000
LOCATION:Tělocvična ZŠ Nádražní\, Nádražní 5 Vyškov - Vyškov-Město
SUMMARY:OLK-U18Z: Vyškov-TJ Sokol Bohuňovice
END:VEVENT
BEGIN:VEVENT
UID:35366466-3532-4162-a432-653166663763
DTSTAMP:20260421T231741Z
DESCRIPTION:20/80 Vyškov - TJ Sokol Bohuňovice 0:3 (-26\,-12\,-17)
DTSTART;TZID=Europe/Berlin:20240203T140000
DTEND;TZID=Europe/Berlin:20240203T160000
LOCATION:Tělocvična ZŠ Nádražní\, Nádražní 5 Vyškov - Vyškov-Město
SUMMARY:OLK-U18Z: Vyškov-TJ Sokol Bohuňovice
END:VEVENT
BEGIN:VEVENT
UID:33643763-3665-4436-a162-383936623835
DTSTAMP:20260421T231741Z
DESCRIPTION:21/81 Vyškov - VK Prostějov D 3:1 (-23\,19\,18\,15)
DTSTART;TZID=Europe/Berlin:20240217T100000
DTEND;TZID=Europe/Berlin:20240217T120000
LOCATION:Tělocvična ZŠ Nádražní\, Nádražní 5 Vyškov - Vyškov-Město
SUMMARY:OLK-U18Z: Vyškov-VK Prostějov D
END:VEVENT
BEGIN:VEVENT
UID:30373765-3061-4235-b730-376634363939
DTSTAMP:20260421T231741Z
DESCRIPTION:22/85 Vyškov - VK Prostějov D 3:0 (15\,14\,18)
DTSTART;TZID=Europe/Berlin:20240217T140000
DTEND;TZID=Europe/Berlin:20240217T160000
LOCATION:Tělocvična ZŠ Nádražní\, Nádražní 5 Vyškov - Vyškov-Město
SUMMARY:OLK-U18Z: Vyškov-VK Prostějov D
END:VEVENT
BEGIN:VEVENT
UID:37313733-6530-4164-b631-653561663861
DTSTAMP:20260421T231741Z
DESCRIPTION:25/98 Vyškov - VK Prostějov C 2:3 (25\,-18\,-15\,26\,-9)
DTSTART;TZID=Europe/Berlin:20240225T100000
DTEND;TZID=Europe/Berlin:20240225T120000
LOCATION:Tělocvična ZŠ Nádražní\, Nádražní 5 Vyškov - Vyškov-Město
SUMMARY:OLK-U18Z: Vyškov-VK Prostějov C
END:VEVENT
BEGIN:VEVENT
UID:64626663-3637-4561-a634-316466343561
DTSTAMP:20260421T231741Z
DESCRIPTION:26/102 Vyškov - VK Prostějov C 1:3 (-16\,14\,-16\,-22)
DTSTART;TZID=Europe/Berlin:20240225T140000
DTEND;TZID=Europe/Berlin:20240225T160000
LOCATION:Tělocvična ZŠ Nádražní\, Nádražní 5 Vyškov - Vyškov-Město
SUMMARY:OLK-U18Z: Vyškov-VK Prostějov C
END:VEVENT
BEGIN:VEVENT
UID:35383932-3236-4466-b039-363639316535
DTSTAMP:20260421T231741Z
DESCRIPTION:1/3 Uničov - Vyškov 3:0 (6\,9\,10)
DTSTART;TZID=Europe/Berlin:20231015T100000
DTEND;TZID=Europe/Berlin:20231015T120000
LOCATION:tělocvična\, U Stadionu 849 Uničov
SUMMARY:OLK-U18Z: Uničov-Vyškov
END:VEVENT
BEGIN:VEVENT
UID:65343662-3339-4365-b238-376436333061
DTSTAMP:20260421T231741Z
DESCRIPTION:2/7 Uničov - Vyškov 3:0 (17\,15\,11)
DTSTART;TZID=Europe/Berlin:20231015T140000
DTEND;TZID=Europe/Berlin:20231015T160000
LOCATION:tělocvična\, U Stadionu 849 Uničov
SUMMARY:OLK-U18Z: Uničov-Vyškov
END:VEVENT
BEGIN:VEVENT
UID:63333736-3339-4633-b930-353563663339
DTSTAMP:20260421T231741Z
DESCRIPTION:5/20 TJ Sokol Bohuňovice - Vyškov 3:1 (7\,-23\,14\,8)
DTSTART;TZID=Europe/Berlin:20230930T100000
DTEND;TZID=Europe/Berlin:20230930T120000
LOCATION:ZŠ a MŠ Aloise Štěpánka\,  Dolany174
SUMMARY:OLK-U18Z: TJ Sokol Bohuňovice-Vyškov
END:VEVENT
BEGIN:VEVENT
UID:35303332-3364-4130-b432-356265326638
DTSTAMP:20260421T231741Z
DESCRIPTION:6/24 TJ Sokol Bohuňovice - Vyškov 3:0 (12\,16\,16)
DTSTART;TZID=Europe/Berlin:20230930T140000
DTEND;TZID=Europe/Berlin:20230930T160000
LOCATION:ZŠ a MŠ Aloise Štěpánka\,  Dolany174
SUMMARY:OLK-U18Z: TJ Sokol Bohuňovice-Vyškov
END:VEVENT
BEGIN:VEVENT
UID:38643934-3361-4462-b361-633263303232
DTSTAMP:20260421T231742Z
DESCRIPTION:7/25 VK Prostějov D - Vyškov 0:3 (-11\,-12\,-15)
DTSTART;TZID=Europe/Berlin:20231022T090000
DTEND;TZID=Europe/Berlin:20231022T110000
LOCATION:Národní sportovní centrum\, Za velodromem 4187 Prostějov
SUMMARY:OLK-U18Z: VK Prostějov D-Vyškov
END:VEVENT
BEGIN:VEVENT
UID:37623538-3735-4262-b365-393066313963
DTSTAMP:20260421T231742Z
DESCRIPTION:8/29 VK Prostějov D - Vyškov 0:3 (-10\,-16\,-22)
DTSTART;TZID=Europe/Berlin:20231022T130000
DTEND;TZID=Europe/Berlin:20231022T150000
LOCATION:Národní sportovní centrum\, Za velodromem 4187 Prostějov
SUMMARY:OLK-U18Z: VK Prostějov D-Vyškov
END:VEVENT
BEGIN:VEVENT
UID:37333935-6633-4864-b062-396361366537
DTSTAMP:20260421T231742Z
DESCRIPTION:11/42 VK Prostějov C - Vyškov 2:3 (19\,25\,-19\,-18\,-13)
DTSTART;TZID=Europe/Berlin:20231126T120000
DTEND;TZID=Europe/Berlin:20231126T140000
LOCATION:Letní hala u zimního stadionu\, Kostelecká 3113 Prostějov
SUMMARY:OLK-U18Z: VK Prostějov C-Vyškov
END:VEVENT
BEGIN:VEVENT
UID:35653064-3534-4238-b537-313065306663
DTSTAMP:20260421T231742Z
DESCRIPTION:12/46 VK Prostějov C - Vyškov 3:0 (23\,23\,19)
DTSTART;TZID=Europe/Berlin:20231126T140000
DTEND;TZID=Europe/Berlin:20231126T160000
LOCATION:Letní hala u zimního stadionu\, Kostelecká 3113 Prostějov
SUMMARY:OLK-U18Z: VK Prostějov C-Vyškov
END:VEVENT
BEGIN:VEVENT
UID:32636134-3466-4563-b937-666463373637
DTSTAMP:20260421T231742Z
DESCRIPTION:17/66 VSK Zábřeh - Vyškov 3:0 (18\,17\,26)
DTSTART;TZID=Europe/Berlin:20240330T100000
DTEND;TZID=Europe/Berlin:20240330T120000
LOCATION:Tělocvična při SŠ\, ZŠ\, MŠ a DD Zábřeh\, Sušilova 1912 Zábřeh
SUMMARY:OLK-U18Z: VSK Zábřeh-Vyškov
END:VEVENT
BEGIN:VEVENT
UID:38373632-3939-4439-a461-633439626339
DTSTAMP:20260421T231742Z
DESCRIPTION:18/70 VSK Zábřeh - Vyškov 3:0 (18\,26\,22)
DTSTART;TZID=Europe/Berlin:20240330T140000
DTEND;TZID=Europe/Berlin:20240330T160000
LOCATION:Tělocvična při SŠ\, ZŠ\, MŠ a DD Zábřeh\, Sušilova 1912 Zábřeh
SUMMARY:OLK-U18Z: VSK Zábřeh-Vyškov
END:VEVENT
BEGIN:VEVENT
UID:37326465-3239-4335-a661-396537646661
DTSTAMP:20260421T231742Z
DESCRIPTION:23/92 VO TJ Lanškroun - Vyškov 3:0 (14\,14\,20)
DTSTART;TZID=Europe/Berlin:20240302T100000
DTEND;TZID=Europe/Berlin:20240302T120000
LOCATION:SOŠ a SOU Lanškroun\, Sokolská 288 Lanškroun - Ostrovské Předměstí
SUMMARY:OLK-U18Z: VO TJ Lanškroun-Vyškov
END:VEVENT
BEGIN:VEVENT
UID:34633735-3235-4239-a136-653339643037
DTSTAMP:20260421T231742Z
DESCRIPTION:24/96 VO TJ Lanškroun - Vyškov 3:0 (21\,13\,9)
DTSTART;TZID=Europe/Berlin:20240302T140000
DTEND;TZID=Europe/Berlin:20240302T160000
LOCATION:SOŠ a SOU Lanškroun\, Sokolská 288 Lanškroun - Ostrovské Předměstí
SUMMARY:OLK-U18Z: VO TJ Lanškroun-Vyškov
END:VEVENT
BEGIN:VEVENT
UID:63353766-3432-4138-a263-366161633533
DTSTAMP:20260421T231742Z
DESCRIPTION:27/107 TJ Šumperk - Vyškov 3:2 (17\,-8\,16\,-23\,15)
DTSTART;TZID=Europe/Berlin:20240323T100000
DTEND;TZID=Europe/Berlin:20240323T120000
LOCATION:3. ZŠ Šumperk\, 8. května 870 Šumperk
SUMMARY:OLK-U18Z: TJ Šumperk-Vyškov
END:VEVENT
BEGIN:VEVENT
UID:65356162-3534-4138-b865-353630363532
DTSTAMP:20260421T231742Z
DESCRIPTION:28/111 TJ Šumperk - Vyškov 3:1 (19\,-19\,11\,23)
DTSTART;TZID=Europe/Berlin:20240323T140000
DTEND;TZID=Europe/Berlin:20240323T160000
LOCATION:3. ZŠ Šumperk\, 8. května 870 Šumperk
SUMMARY:OLK-U18Z: TJ Šumperk-Vyškov
END:VEVENT
BEGIN:VEVENT
UID:62313035-3938-4365-a534-393230383730
DTSTAMP:20260421T231742Z
DESCRIPTION:6/6 Vyškov - TJ Sokol Jehnice 2:1 (-20\,15\,10)
DTSTART;TZID=Europe/Berlin:20230909T153000
DTEND;TZID=Europe/Berlin:20230909T173000
LOCATION:Tělocvična ZŠ Nádražní\, Nádražní 5 Vyškov - Vyškov-Město
SUMMARY:JM-U18Z-KVB: Vyškov-TJ Sokol Jehnice
END:VEVENT
BEGIN:VEVENT
UID:31616332-3130-4666-b237-326333383363
DTSTAMP:20260421T231742Z
DESCRIPTION:2/2 TJ Sokol Hrušovany u Brna - Vyškov 0:2 (-10\,-10)
DTSTART;TZID=Europe/Berlin:20230909T103000
DTEND;TZID=Europe/Berlin:20230909T123000
LOCATION:Sportovní hala Hrušovany u Brna\, Jízdárenská 698 Hrušovany u Brna
SUMMARY:JM-U18Z-KVB: TJ Sokol Hrušovany u Brna-Vyškov
END:VEVENT
BEGIN:VEVENT
UID:33343866-3130-4661-a636-376433643131
DTSTAMP:20260421T231742Z
DESCRIPTION:3/3 Tělocvičná jednota Sokol Předklášteří - Vyškov 0:2 (-12\,-2
 0)
DTSTART;TZID=Europe/Berlin:20230909T114500
DTEND;TZID=Europe/Berlin:20230909T134500
LOCATION:ZŠ Předklášteří\, Komenského 1097 Předklášteří
SUMMARY:JM-U18Z-KVB: Tělocvičná jednota Sokol Předklášteří-Vyškov
END:VEVENT
BEGIN:VEVENT
UID:36336532-6431-4666-b136-353763613038
DTSTAMP:20260421T231742Z
DESCRIPTION:6/6 Vyškov - Znojmo-Přímětice 1:2 (13\,-19\,-14)
DTSTART;TZID=Europe/Berlin:20230930T153000
DTEND;TZID=Europe/Berlin:20230930T173000
LOCATION:Tělocvična ZŠ Nádražní\, Nádražní 5 Vyškov - Vyškov-Město
SUMMARY:JM-U18Z-IA: Vyškov-Znojmo-Přímětice
END:VEVENT
BEGIN:VEVENT
UID:36653830-6465-4330-a462-633533303437
DTSTAMP:20260421T231742Z
DESCRIPTION:2/2 TJ Minerva Boskovice - Vyškov 2:1 (-19\,25\,11)
DTSTART;TZID=Europe/Berlin:20230930T103000
DTEND;TZID=Europe/Berlin:20230930T123000
LOCATION:Tělocvična ZŠ\, Slovákova 2006 Boskovice
SUMMARY:JM-U18Z-IA: TJ Minerva Boskovice-Vyškov
END:VEVENT
BEGIN:VEVENT
UID:62373134-6435-4433-a138-363730646566
DTSTAMP:20260421T231742Z
DESCRIPTION:3/3 Lokomotiva Fosfa Břeclav - Vyškov 0:2 (-13\,-19)
DTSTART;TZID=Europe/Berlin:20230930T114500
DTEND;TZID=Europe/Berlin:20230930T134500
LOCATION:TJ Lokomotiva Břeclav\, Veslařská 2753 Břeclav
SUMMARY:JM-U18Z-IA: Lokomotiva Fosfa Břeclav-Vyškov
END:VEVENT
BEGIN:VEVENT
UID:65353866-3831-4138-a535-326262396437
DTSTAMP:20260421T231742Z
DESCRIPTION:3/3 Vyškov - TJ Minerva Boskovice 2:0 (13\,19)
DTSTART;TZID=Europe/Berlin:20231014T114500
DTEND;TZID=Europe/Berlin:20231014T134500
LOCATION:Tělocvična ZŠ Prokopa Diviše a MŠ\, Ke Škole 569 Znojmo - Přímětic
 e
SUMMARY:JM-U18Z-IIA: Vyškov-TJ Minerva Boskovice
END:VEVENT
BEGIN:VEVENT
UID:61346533-6630-4532-b431-336334363430
DTSTAMP:20260421T231742Z
DESCRIPTION:1/1 Znojmo-Přímětice - Vyškov 2:1 (20\,-23\,4)
DTSTART;TZID=Europe/Berlin:20231014T090000
DTEND;TZID=Europe/Berlin:20231014T110000
LOCATION:Tělocvična ZŠ Prokopa Diviše a MŠ\, Ke Škole 569 Znojmo - Přímětic
 e
SUMMARY:JM-U18Z-IIA: Znojmo-Přímětice-Vyškov
END:VEVENT
BEGIN:VEVENT
UID:62656439-6135-4435-a330-336161353965
DTSTAMP:20260421T231742Z
DESCRIPTION:5/5 KP Brno - Vyškov 1:2 (-18\,24\,-11)
DTSTART;TZID=Europe/Berlin:20231014T141500
DTEND;TZID=Europe/Berlin:20231014T161500
LOCATION:Tělocvična ZŠ Prokopa Diviše a MŠ\, Ke Škole 569 Znojmo - Přímětic
 e
SUMMARY:JM-U18Z-IIA: KP Brno-Vyškov
END:VEVENT
BEGIN:VEVENT
UID:63613138-3437-4361-b265-303231323631
DTSTAMP:20260421T231742Z
DESCRIPTION:6/6 Vyškov - TJ Sokol Jehnice 0:2 (-21\,-18)
DTSTART;TZID=Europe/Berlin:20231104T153000
DTEND;TZID=Europe/Berlin:20231104T173000
LOCATION:TJ Sokol Jehnice\, Blanenská 1 Brno - Jehnice
SUMMARY:JM-U18Z-IIIA: Vyškov-TJ Sokol Jehnice
END:VEVENT
BEGIN:VEVENT
UID:30306563-3939-4965-a265-376566613431
DTSTAMP:20260421T231742Z
DESCRIPTION:2/2 Znojmo-Přímětice - Vyškov 2:0 (12\,9)
DTSTART;TZID=Europe/Berlin:20231104T103000
DTEND;TZID=Europe/Berlin:20231104T123000
LOCATION:TJ Sokol Jehnice\, Blanenská 1 Brno - Jehnice
SUMMARY:JM-U18Z-IIIA: Znojmo-Přímětice-Vyškov
END:VEVENT
BEGIN:VEVENT
UID:31326261-3662-4430-b339-633534333230
DTSTAMP:20260421T231742Z
DESCRIPTION:3/3 KP Brno - Vyškov 2:1 (-24\,14\,8)
DTSTART;TZID=Europe/Berlin:20231104T114500
DTEND;TZID=Europe/Berlin:20231104T134500
LOCATION:TJ Sokol Jehnice\, Blanenská 1 Brno - Jehnice
SUMMARY:JM-U18Z-IIIA: KP Brno-Vyškov
END:VEVENT
BEGIN:VEVENT
UID:32643766-3133-4462-b532-373234626162
DTSTAMP:20260421T231742Z
DESCRIPTION:2/2 Vyškov - TJ Agrotec Hustopeče z.s. 2:0 (17\,11)
DTSTART;TZID=Europe/Berlin:20231125T090000
DTEND;TZID=Europe/Berlin:20231125T110000
LOCATION:Tělocvična ZŠ Šlapanice\, Masarykovo náměstí 1594 Šlapanice
SUMMARY:JM-U18Z-IVB: Vyškov-TJ Agrotec Hustopeče z.s.
END:VEVENT
BEGIN:VEVENT
UID:63303062-6532-4639-b535-613335633437
DTSTAMP:20260421T231742Z
DESCRIPTION:5/5 Vyškov - Orel Křenovice 2:0 (12\,13)
DTSTART;TZID=Europe/Berlin:20231125T114500
DTEND;TZID=Europe/Berlin:20231125T134500
LOCATION:Tělocvična ZŠ Šlapanice\, Masarykovo náměstí 1594 Šlapanice
SUMMARY:JM-U18Z-IVB: Vyškov-Orel Křenovice
END:VEVENT
BEGIN:VEVENT
UID:31333939-6534-4531-b438-313136656162
DTSTAMP:20260421T231742Z
DESCRIPTION:4/4 TJ Sokol Šlapanice - Vyškov 0:2 (-19\,-23)
DTSTART;TZID=Europe/Berlin:20231125T103000
DTEND;TZID=Europe/Berlin:20231125T123000
LOCATION:Tělocvična ZŠ Šlapanice\, Masarykovo náměstí 1594 Šlapanice
SUMMARY:JM-U18Z-IVB: TJ Sokol Šlapanice-Vyškov
END:VEVENT
BEGIN:VEVENT
UID:38303263-6465-4435-a136-643162666361
DTSTAMP:20260421T231742Z
DESCRIPTION:6/6 Vyškov - TJ Sokol Jehnice 1:2 (-19\,16\,-14)
DTSTART;TZID=Europe/Berlin:20231216T153000
DTEND;TZID=Europe/Berlin:20231216T173000
LOCATION:TJ Sokol Jehnice\, Blanenská 1 Brno - Jehnice
SUMMARY:JM-U18Z-VA: Vyškov-TJ Sokol Jehnice
END:VEVENT
BEGIN:VEVENT
UID:63333030-6638-4831-b531-326163326266
DTSTAMP:20260421T231742Z
DESCRIPTION:2/2 Znojmo-Přímětice - Vyškov 2:0 (19\,15)
DTSTART;TZID=Europe/Berlin:20231216T103000
DTEND;TZID=Europe/Berlin:20231216T123000
LOCATION:TJ Sokol Jehnice\, Blanenská 1 Brno - Jehnice
SUMMARY:JM-U18Z-VA: Znojmo-Přímětice-Vyškov
END:VEVENT
BEGIN:VEVENT
UID:37303333-3566-4937-b838-633738616238
DTSTAMP:20260421T231742Z
DESCRIPTION:3/3 KP Brno - Vyškov 1:2 (18\,-20\,-16)
DTSTART;TZID=Europe/Berlin:20231216T114500
DTEND;TZID=Europe/Berlin:20231216T134500
LOCATION:TJ Sokol Jehnice\, Blanenská 1 Brno - Jehnice
SUMMARY:JM-U18Z-VA: KP Brno-Vyškov
END:VEVENT
BEGIN:VEVENT
UID:33653336-3332-4964-b435-363639383737
DTSTAMP:20260421T231742Z
DESCRIPTION:6/6 Vyškov - TJ Minerva Boskovice 2:0 (16\,17)
DTSTART;TZID=Europe/Berlin:20240113T153000
DTEND;TZID=Europe/Berlin:20240113T173000
LOCATION:Tělocvična ZŠ\, Slovákova 2006 Boskovice
SUMMARY:JM-U18Z-VIA: Vyškov-TJ Minerva Boskovice
END:VEVENT
BEGIN:VEVENT
UID:37653334-3262-4435-b930-373661323839
DTSTAMP:20260421T231742Z
DESCRIPTION:2/2 Znojmo-Přímětice - Vyškov 2:0 (15\,11)
DTSTART;TZID=Europe/Berlin:20240113T103000
DTEND;TZID=Europe/Berlin:20240113T123000
LOCATION:Tělocvična ZŠ\, Slovákova 2006 Boskovice
SUMMARY:JM-U18Z-VIA: Znojmo-Přímětice-Vyškov
END:VEVENT
BEGIN:VEVENT
UID:30336239-3130-4564-b265-373366313366
DTSTAMP:20260421T231742Z
DESCRIPTION:3/3 TJ Sokol Jehnice - Vyškov 2:0 (20\,18)
DTSTART;TZID=Europe/Berlin:20240113T114500
DTEND;TZID=Europe/Berlin:20240113T134500
LOCATION:Tělocvična ZŠ\, Slovákova 2006 Boskovice
SUMMARY:JM-U18Z-VIA: TJ Sokol Jehnice-Vyškov
END:VEVENT
BEGIN:VEVENT
UID:35656532-3235-4661-b565-626534373365
DTSTAMP:20260421T231742Z
DESCRIPTION:3/6 Vyškov - Lokomotiva Fosfa Břeclav 2:0 (20\,13)
DTSTART;TZID=Europe/Berlin:20240210T114500
DTEND;TZID=Europe/Berlin:20240210T134500
LOCATION:TJ Lokomotiva Břeclav\, Veslařská 2753 Břeclav
SUMMARY:JM-U18Z-VIIA: Vyškov-Lokomotiva Fosfa Břeclav
END:VEVENT
BEGIN:VEVENT
UID:30343732-3266-4632-a335-313339646266
DTSTAMP:20260421T231742Z
DESCRIPTION:1/2 TJ Sokol Jehnice - Vyškov 0:2 (-17\,-21)
DTSTART;TZID=Europe/Berlin:20240210T090000
DTEND;TZID=Europe/Berlin:20240210T110000
LOCATION:TJ Lokomotiva Břeclav\, Veslařská 2753 Břeclav
SUMMARY:JM-U18Z-VIIA: TJ Sokol Jehnice-Vyškov
END:VEVENT
BEGIN:VEVENT
UID:66386466-3865-4834-b263-336263326230
DTSTAMP:20260421T231742Z
DESCRIPTION:2/3 Znojmo-Přímětice - Vyškov 2:0 (19\,22)
DTSTART;TZID=Europe/Berlin:20240210T103000
DTEND;TZID=Europe/Berlin:20240210T123000
LOCATION:TJ Lokomotiva Břeclav\, Veslařská 2753 Břeclav
SUMMARY:JM-U18Z-VIIA: Znojmo-Přímětice-Vyškov
END:VEVENT
BEGIN:VEVENT
UID:36376561-6565-4236-b863-366336393232
DTSTAMP:20260421T231742Z
DESCRIPTION:6/6 Vyškov - Znojmo-Přímětice 2:1 (-24\,18\,12)
DTSTART;TZID=Europe/Berlin:20240302T153000
DTEND;TZID=Europe/Berlin:20240302T173000
LOCATION:Tělocvična ZŠ Prokopa Diviše a MŠ\, Ke Škole 569 Znojmo - Přímětic
 e
SUMMARY:JM-U18Z-VIIIA: Vyškov-Znojmo-Přímětice
END:VEVENT
BEGIN:VEVENT
UID:34373237-3032-4132-b964-626262303039
DTSTAMP:20260421T231742Z
DESCRIPTION:2/2 KP Brno - Vyškov 0:2 (-31\,-16)
DTSTART;TZID=Europe/Berlin:20240302T103000
DTEND;TZID=Europe/Berlin:20240302T123000
LOCATION:Tělocvična ZŠ Prokopa Diviše a MŠ\, Ke Škole 569 Znojmo - Přímětic
 e
SUMMARY:JM-U18Z-VIIIA: KP Brno-Vyškov
END:VEVENT
BEGIN:VEVENT
UID:33376565-3538-4132-a434-633566356335
DTSTAMP:20260421T231742Z
DESCRIPTION:3/3 TJ Sokol Jehnice - Vyškov 2:1 (16\,-19\,7)
DTSTART;TZID=Europe/Berlin:20240302T114500
DTEND;TZID=Europe/Berlin:20240302T134500
LOCATION:Tělocvična ZŠ Prokopa Diviše a MŠ\, Ke Škole 569 Znojmo - Přímětic
 e
SUMMARY:JM-U18Z-VIIIA: TJ Sokol Jehnice-Vyškov
END:VEVENT
BEGIN:VEVENT
UID:36653732-3139-4765-b835-333735386266
DTSTAMP:20260421T231742Z
DESCRIPTION:1/2 Vyškov - Orel Křenovice 2:0 (7\,12)\n2. vs 7. Kurt 2
DTSTART;TZID=Europe/Berlin:20240406T090000
DTEND;TZID=Europe/Berlin:20240406T110000
LOCATION:Tělocvična ZŠ Nádražní\, Nádražní 5 Vyškov - Vyškov-Město
SUMMARY:JM-U18Z-F: Vyškov-Orel Křenovice
END:VEVENT
BEGIN:VEVENT
UID:34383761-3531-4432-a233-656633343332
DTSTAMP:20260421T231742Z
DESCRIPTION:4/8 Vyškov - TJ Sokol Jehnice 2:1 (-21\,14\,11)\nW2 vs W3 Kurt 
 2
DTSTART;TZID=Europe/Berlin:20240406T130000
DTEND;TZID=Europe/Berlin:20240406T150000
LOCATION:Tělocvična ZŠ Nádražní\, Nádražní 5 Vyškov - Vyškov-Město
SUMMARY:JM-U18Z-F: Vyškov-TJ Sokol Jehnice
END:VEVENT
BEGIN:VEVENT
UID:34363465-3865-4130-b036-616338623234
DTSTAMP:20260421T231742Z
DESCRIPTION:6/12 Znojmo-Přímětice - Vyškov 2:0 (23\,17)\nW7 vs W8 Kurt 1
DTSTART;TZID=Europe/Berlin:20240406T153000
DTEND;TZID=Europe/Berlin:20240406T173000
LOCATION:Tělocvična ZŠ Prokopa Diviše a MŠ\, Ke Škole 569 Znojmo - Přímětic
 e
SUMMARY:JM-U18Z-F: Znojmo-Přímětice-Vyškov
END:VEVENT
BEGIN:VEVENT
UID:39323365-6666-4765-b237-373665313933
DTSTAMP:20260421T231742Z
DESCRIPTION:2/3 Vyškov - Kylešovice 3:0 (20\,17\,19)
DTSTART;TZID=Europe/Berlin:20240427T150000
DTEND;TZID=Europe/Berlin:20240427T170000
LOCATION:Městská sportovní hala\, Stonky 860 Uherské Hradiště
SUMMARY:2-U18Z-KE: Vyškov-Kylešovice
END:VEVENT
BEGIN:VEVENT
UID:65643331-6365-4362-a538-343337626631
DTSTAMP:20260421T231742Z
DESCRIPTION:1/1 Uh. Hradiště - Vyškov 3:1 (-19\,21\,19\,22)
DTSTART;TZID=Europe/Berlin:20240427T100000
DTEND;TZID=Europe/Berlin:20240427T120000
LOCATION:Městská sportovní hala\, Stonky 860 Uherské Hradiště
SUMMARY:2-U18Z-KE: Uh. Hradiště-Vyškov
END:VEVENT
BEGIN:VEVENT
UID:39383865-3263-4432-a461-616432363733
DTSTAMP:20260421T231742Z
DESCRIPTION:3/5 Třebíč - Vyškov 3:0 (17\,17\,12)
DTSTART;TZID=Europe/Berlin:20240428T100000
DTEND;TZID=Europe/Berlin:20240428T120000
LOCATION:Městská sportovní hala\, Stonky 860 Uherské Hradiště
SUMMARY:2-U18Z-KE: Třebíč-Vyškov
END:VEVENT
END:VCALENDAR
