BEGIN:VCALENDAR
VERSION:2.0
PRODID:-//VS Cobry Drásov83273//NONSGML kigkonsult.se iCalcreator 2.41.80//
CALSCALE:GREGORIAN
UID:65386664-3761-4565-b233-656234363466
BEGIN:VEVENT
UID:63393534-6531-4265-a631-663063383466
DTSTAMP:20260422T052726Z
DESCRIPTION:3/3 VS Cobry Drásov - DDM Kuřim 2:0 (11\,17)
DTSTART;TZID=Europe/Berlin:20230909T114500
DTEND;TZID=Europe/Berlin:20230909T134500
LOCATION:Hala u ZŠ TGM Drásov\, Školní 167 Drásov
SUMMARY:JM-U18Z-KVA: VS Cobry Drásov-DDM Kuřim
END:VEVENT
BEGIN:VEVENT
UID:31353865-3666-4539-a535-313538393864
DTSTAMP:20260422T052726Z
DESCRIPTION:1/1 Orel Křenovice - VS Cobry Drásov 2:1 (17\,-22\,6)
DTSTART;TZID=Europe/Berlin:20230909T090000
DTEND;TZID=Europe/Berlin:20230909T110000
LOCATION:Sportovní hala Křenovice \, Bratří Mrázků 635 Křenovice
SUMMARY:JM-U18Z-KVA: Orel Křenovice-VS Cobry Drásov
END:VEVENT
BEGIN:VEVENT
UID:30323039-6165-4761-b232-663033633032
DTSTAMP:20260422T052726Z
DESCRIPTION:5/5 TJ Minerva Boskovice - VS Cobry Drásov 2:0 (16\,15)
DTSTART;TZID=Europe/Berlin:20230909T141500
DTEND;TZID=Europe/Berlin:20230909T161500
LOCATION:Tělocvična ZŠ\, Slovákova 2006 Boskovice
SUMMARY:JM-U18Z-KVA: TJ Minerva Boskovice-VS Cobry Drásov
END:VEVENT
BEGIN:VEVENT
UID:38613630-6461-4634-a565-303538623135
DTSTAMP:20260422T052726Z
DESCRIPTION:1/1 VS Cobry Drásov - Tělocvičná jednota Sokol Předklášteří 1:2
  (21\,-21\,-12)
DTSTART;TZID=Europe/Berlin:20230930T090000
DTEND;TZID=Europe/Berlin:20230930T110000
LOCATION:Hala u ZŠ TGM Drásov\, Školní 167 Drásov
SUMMARY:JM-U18Z-IC: VS Cobry Drásov-Tělocvičná jednota Sokol Předklášteří
END:VEVENT
BEGIN:VEVENT
UID:61306334-3761-4365-b633-623634306663
DTSTAMP:20260422T052726Z
DESCRIPTION:4/4 VS Cobry Drásov - TJ Sokol Šlapanice 1:2 (-23\,21\,-11)
DTSTART;TZID=Europe/Berlin:20230930T130000
DTEND;TZID=Europe/Berlin:20230930T150000
LOCATION:Hala u ZŠ TGM Drásov\, Školní 167 Drásov
SUMMARY:JM-U18Z-IC: VS Cobry Drásov-TJ Sokol Šlapanice
END:VEVENT
BEGIN:VEVENT
UID:64653335-3063-4837-a339-646665653737
DTSTAMP:20260422T052726Z
DESCRIPTION:6/6 TJ JUNIOR Brno\, z.s. - VS Cobry Drásov 1:2 (-20\,19\,-7)
DTSTART;TZID=Europe/Berlin:20230930T153000
DTEND;TZID=Europe/Berlin:20230930T173000
LOCATION:tělocvičny ZŠ Novolíšeňská\, Brno\, Novolíšeňská 2411 Brno - Líšeň
SUMMARY:JM-U18Z-IC: TJ JUNIOR Brno\, z.s.-VS Cobry Drásov
END:VEVENT
BEGIN:VEVENT
UID:34313561-3239-4336-b064-393634326138
DTSTAMP:20260422T052726Z
DESCRIPTION:3/3 VS Cobry Drásov - TJ JUNIOR Brno\, z.s. 2:0 (21\,19)
DTSTART;TZID=Europe/Berlin:20231014T114500
DTEND;TZID=Europe/Berlin:20231014T134500
LOCATION:ZŠ Jungmannova Kuřim\, Jungmannova 813 Kuřim
SUMMARY:JM-U18Z-IIC: VS Cobry Drásov-TJ JUNIOR Brno\, z.s.
END:VEVENT
BEGIN:VEVENT
UID:62333639-3735-4766-b131-386564306634
DTSTAMP:20260422T052726Z
DESCRIPTION:1/1 DDM Kuřim - VS Cobry Drásov 2:1 (-21\,20\,15)
DTSTART;TZID=Europe/Berlin:20231014T090000
DTEND;TZID=Europe/Berlin:20231014T110000
LOCATION:ZŠ Jungmannova Kuřim\, Jungmannova 813 Kuřim
SUMMARY:JM-U18Z-IIC: DDM Kuřim-VS Cobry Drásov
END:VEVENT
BEGIN:VEVENT
UID:35666439-3335-4130-a432-663038663430
DTSTAMP:20260422T052726Z
DESCRIPTION:5/5 TJ Slovan Ivančice\, z.s. - VS Cobry Drásov 2:0 (13\,23)
DTSTART;TZID=Europe/Berlin:20231014T141500
DTEND;TZID=Europe/Berlin:20231014T161500
LOCATION:ZŠ Jungmannova Kuřim\, Jungmannova 813 Kuřim
SUMMARY:JM-U18Z-IIC: TJ Slovan Ivančice\, z.s.-VS Cobry Drásov
END:VEVENT
BEGIN:VEVENT
UID:63316339-3135-4138-b063-343137316462
DTSTAMP:20260422T052726Z
DESCRIPTION:3/3 VS Cobry Drásov - TJ Agrotec Hustopeče z.s. 0:2 (-22\,-17)
DTSTART;TZID=Europe/Berlin:20231104T114500
DTEND;TZID=Europe/Berlin:20231104T134500
LOCATION:ZŠ Jungmannova - nová\, Jungmannova 813 Kuřim
SUMMARY:JM-U18Z-IIIC: VS Cobry Drásov-TJ Agrotec Hustopeče z.s.
END:VEVENT
BEGIN:VEVENT
UID:36383661-3333-4234-a535-313338323466
DTSTAMP:20260422T052726Z
DESCRIPTION:1/1 DDM Kuřim - VS Cobry Drásov 0:2 (-18\,-15)
DTSTART;TZID=Europe/Berlin:20231104T090000
DTEND;TZID=Europe/Berlin:20231104T110000
LOCATION:ZŠ Jungmannova - nová\, Jungmannova 813 Kuřim
SUMMARY:JM-U18Z-IIIC: DDM Kuřim-VS Cobry Drásov
END:VEVENT
BEGIN:VEVENT
UID:31613563-3265-4661-b537-653032393634
DTSTAMP:20260422T052726Z
DESCRIPTION:5/5 Lokomotiva Fosfa Břeclav - VS Cobry Drásov 2:1 (-20\,17\,11
 )
DTSTART;TZID=Europe/Berlin:20231104T141500
DTEND;TZID=Europe/Berlin:20231104T161500
LOCATION:ZŠ Jungmannova - nová\, Jungmannova 813 Kuřim
SUMMARY:JM-U18Z-IIIC: Lokomotiva Fosfa Břeclav-VS Cobry Drásov
END:VEVENT
BEGIN:VEVENT
UID:31356436-3238-4333-b830-616236613664
DTSTAMP:20260422T052726Z
DESCRIPTION:3/6 VS Cobry Drásov - TJ Slovan Ivančice\, z.s. 1:2 (23\,-12\,-
 12)
DTSTART;TZID=Europe/Berlin:20231125T114500
DTEND;TZID=Europe/Berlin:20231125T134500
LOCATION:sokolovna Ivančice\, Rybářská 1052 Ivančice
SUMMARY:JM-U18Z-IVC: VS Cobry Drásov-TJ Slovan Ivančice\, z.s.
END:VEVENT
BEGIN:VEVENT
UID:65366539-6533-4234-a333-636463383365
DTSTAMP:20260422T052726Z
DESCRIPTION:1/2 Lokomotiva Fosfa Břeclav - VS Cobry Drásov 1:2 (-23\,14\,-1
 3)
DTSTART;TZID=Europe/Berlin:20231125T090000
DTEND;TZID=Europe/Berlin:20231125T110000
LOCATION:sokolovna Ivančice\, Rybářská 1052 Ivančice
SUMMARY:JM-U18Z-IVC: Lokomotiva Fosfa Břeclav-VS Cobry Drásov
END:VEVENT
BEGIN:VEVENT
UID:64666561-6337-4661-b537-646362316233
DTSTAMP:20260422T052726Z
DESCRIPTION:2/3 TJ JUNIOR Brno\, z.s. - VS Cobry Drásov 2:0 (23\,21)
DTSTART;TZID=Europe/Berlin:20231125T103000
DTEND;TZID=Europe/Berlin:20231125T123000
LOCATION:sokolovna Ivančice\, Rybářská 1052 Ivančice
SUMMARY:JM-U18Z-IVC: TJ JUNIOR Brno\, z.s.-VS Cobry Drásov
END:VEVENT
BEGIN:VEVENT
UID:33613735-6536-4132-b962-343434356330
DTSTAMP:20260422T052726Z
DESCRIPTION:6/6 VS Cobry Drásov - TJ Sokol Hrušovany u Brna 2:0 (12\,14)
DTSTART;TZID=Europe/Berlin:20231216T153000
DTEND;TZID=Europe/Berlin:20231216T173000
LOCATION:Sportovní hala Hrušovany u Brna\, Jízdárenská 698 Hrušovany u Brna
SUMMARY:JM-U18Z-VD: VS Cobry Drásov-TJ Sokol Hrušovany u Brna
END:VEVENT
BEGIN:VEVENT
UID:36363662-6464-4661-b839-323538366533
DTSTAMP:20260422T052726Z
DESCRIPTION:2/2 DDM Kuřim - VS Cobry Drásov 2:0 (13\,21)
DTSTART;TZID=Europe/Berlin:20231216T103000
DTEND;TZID=Europe/Berlin:20231216T123000
LOCATION:Sportovní hala Hrušovany u Brna\, Jízdárenská 698 Hrušovany u Brna
SUMMARY:JM-U18Z-VD: DDM Kuřim-VS Cobry Drásov
END:VEVENT
BEGIN:VEVENT
UID:32613034-3462-4632-a635-393764356439
DTSTAMP:20260422T052727Z
DESCRIPTION:3/3 VK Brno\, z.s. - VS Cobry Drásov 2:0 (16\,19)
DTSTART;TZID=Europe/Berlin:20231216T114500
DTEND;TZID=Europe/Berlin:20231216T134500
LOCATION:Sportovní hala Hrušovany u Brna\, Jízdárenská 698 Hrušovany u Brna
SUMMARY:JM-U18Z-VD: VK Brno\, z.s.-VS Cobry Drásov
END:VEVENT
BEGIN:VEVENT
UID:36393834-3936-4139-a163-383365626335
DTSTAMP:20260422T052727Z
DESCRIPTION:3/3 VS Cobry Drásov - TJ Slovan Ivančice\, z.s. 2:0 (5\,21)
DTSTART;TZID=Europe/Berlin:20240113T114500
DTEND;TZID=Europe/Berlin:20240113T134500
LOCATION:ZŠ Jungmannova - nová\, Jungmannova 813 Kuřim
SUMMARY:JM-U18Z-VID: VS Cobry Drásov-TJ Slovan Ivančice\, z.s.
END:VEVENT
BEGIN:VEVENT
UID:62306437-3563-4066-b436-613761653935
DTSTAMP:20260422T052727Z
DESCRIPTION:1/1 DDM Kuřim - VS Cobry Drásov 0:2 (-15\,-20)
DTSTART;TZID=Europe/Berlin:20240113T090000
DTEND;TZID=Europe/Berlin:20240113T110000
LOCATION:ZŠ Jungmannova - nová\, Jungmannova 813 Kuřim
SUMMARY:JM-U18Z-VID: DDM Kuřim-VS Cobry Drásov
END:VEVENT
BEGIN:VEVENT
UID:39343130-6139-4364-b037-313835313439
DTSTAMP:20260422T052727Z
DESCRIPTION:5/5 TJ Sokol Hrušovany u Brna - VS Cobry Drásov 0:2 (-13\,-7)
DTSTART;TZID=Europe/Berlin:20240113T141500
DTEND;TZID=Europe/Berlin:20240113T161500
LOCATION:ZŠ Jungmannova - nová\, Jungmannova 813 Kuřim
SUMMARY:JM-U18Z-VID: TJ Sokol Hrušovany u Brna-VS Cobry Drásov
END:VEVENT
BEGIN:VEVENT
UID:37363938-3261-4362-b264-343733333237
DTSTAMP:20260422T052727Z
DESCRIPTION:6/6 VS Cobry Drásov - TJ JUNIOR Brno\, z.s. 2:1 (22\,-21\,7)
DTSTART;TZID=Europe/Berlin:20240218T114500
DTEND;TZID=Europe/Berlin:20240218T134500
LOCATION:tělocvičny ZŠ Novolíšeňská\, Brno\, Novolíšeňská 2411 Brno - Líšeň
SUMMARY:JM-U18Z-VIIC: VS Cobry Drásov-TJ JUNIOR Brno\, z.s.
END:VEVENT
BEGIN:VEVENT
UID:38366630-3635-4231-b031-613137373533
DTSTAMP:20260422T052727Z
DESCRIPTION:2/2 TJ Agrotec Hustopeče z.s. - VS Cobry Drásov 1:2 (-18\,23\,-
 4)
DTSTART;TZID=Europe/Berlin:20240218T090000
DTEND;TZID=Europe/Berlin:20240218T110000
LOCATION:tělocvičny ZŠ Novolíšeňská\, Brno\, Novolíšeňská 2411 Brno - Líšeň
SUMMARY:JM-U18Z-VIIC: TJ Agrotec Hustopeče z.s.-VS Cobry Drásov
END:VEVENT
BEGIN:VEVENT
UID:38383330-6134-4537-b935-353032653666
DTSTAMP:20260422T052727Z
DESCRIPTION:3/3 VK Brno\, z.s. - VS Cobry Drásov 1:2 (-25\,28\,-7)
DTSTART;TZID=Europe/Berlin:20240218T103000
DTEND;TZID=Europe/Berlin:20240218T123000
LOCATION:tělocvičny ZŠ Novolíšeňská\, Brno\, Novolíšeňská 2411 Brno - Líšeň
SUMMARY:JM-U18Z-VIIC: VK Brno\, z.s.-VS Cobry Drásov
END:VEVENT
BEGIN:VEVENT
UID:65346336-3165-4633-b738-633632393135
DTSTAMP:20260422T052727Z
DESCRIPTION:2/3 VS Cobry Drásov - Tělocvičná jednota Sokol Předklášteří 2:0
  (20\,21)
DTSTART;TZID=Europe/Berlin:20240302T103000
DTEND;TZID=Europe/Berlin:20240302T123000
LOCATION:TJ Lokomotiva Břeclav\, Veslařská 2753 Břeclav
SUMMARY:JM-U18Z-VIIIB: VS Cobry Drásov-Tělocvičná jednota Sokol Předklášteř
 í
END:VEVENT
BEGIN:VEVENT
UID:30636537-3664-4638-b534-633261336437
DTSTAMP:20260422T052727Z
DESCRIPTION:1/1 Lokomotiva Fosfa Břeclav - VS Cobry Drásov 2:0 (24\,23)
DTSTART;TZID=Europe/Berlin:20240302T090000
DTEND;TZID=Europe/Berlin:20240302T110000
LOCATION:TJ Lokomotiva Břeclav\, Veslařská 2753 Břeclav
SUMMARY:JM-U18Z-VIIIB: Lokomotiva Fosfa Břeclav-VS Cobry Drásov
END:VEVENT
BEGIN:VEVENT
UID:38363763-3962-4136-a366-313039666665
DTSTAMP:20260422T052727Z
DESCRIPTION:3/5 TJ Minerva Boskovice - VS Cobry Drásov 2:0 (26\,16)
DTSTART;TZID=Europe/Berlin:20240302T114500
DTEND;TZID=Europe/Berlin:20240302T134500
LOCATION:TJ Lokomotiva Břeclav\, Veslařská 2753 Břeclav
SUMMARY:JM-U18Z-VIIIB: TJ Minerva Boskovice-VS Cobry Drásov
END:VEVENT
END:VCALENDAR
