BEGIN:VCALENDAR
VERSION:2.0
PRODID:-//TJ Sokol Letovice83281//NONSGML kigkonsult.se iCalcreator 2.41.80//
CALSCALE:GREGORIAN
UID:32396135-3664-4563-a565-336336306466
BEGIN:VEVENT
UID:62646530-3238-4435-b337-633232383661
DTSTAMP:20260422T010301Z
DESCRIPTION:1/1 Letovice - VK Brno B\, z.s. 2:0 (8\,18)
DTSTART;TZID=Europe/Berlin:20230923T090000
DTEND;TZID=Europe/Berlin:20230923T110000
LOCATION:Sportovní hala Letovice\, V zahradách 831 Letovice
SUMMARY:JM-U16M-KVA: Letovice-VK Brno B\, z.s.
END:VEVENT
BEGIN:VEVENT
UID:33366666-3934-4938-b765-393039343930
DTSTAMP:20260422T010301Z
DESCRIPTION:3/3 Sokol Šlapanice - Letovice 1:2 (22\,-11\,-8)
DTSTART;TZID=Europe/Berlin:20230923T114500
DTEND;TZID=Europe/Berlin:20230923T134500
LOCATION:Tělocvična ZŠ Šlapanice\, Masarykovo náměstí 1594 Šlapanice
SUMMARY:JM-U16M-KVA: Sokol Šlapanice-Letovice
END:VEVENT
BEGIN:VEVENT
UID:30376662-6535-4237-b365-646361633938
DTSTAMP:20260422T010301Z
DESCRIPTION:1/1 Letovice - TJ TESLA BRNO z.s. 2:0 (11\,10)\n1A vs 2B Kurt1
DTSTART;TZID=Europe/Berlin:20230923T130000
DTEND;TZID=Europe/Berlin:20230923T150000
LOCATION:Sportovní hala Letovice\, V zahradách 831 Letovice
SUMMARY:JM-U16M-KVAB: Letovice-TJ TESLA BRNO z.s.
END:VEVENT
BEGIN:VEVENT
UID:35666333-3863-4866-b830-386538356663
DTSTAMP:20260422T010301Z
DESCRIPTION:2/2 Letovice - Brno 0:2 (-11\,-23)
DTSTART;TZID=Europe/Berlin:20231007T103000
DTEND;TZID=Europe/Berlin:20231007T123000
LOCATION:Sportovní hala Letovice\, V zahradách 831 Letovice
SUMMARY:JM-U16M-IA: Letovice-Brno
END:VEVENT
BEGIN:VEVENT
UID:38313838-6664-4765-a137-326265343037
DTSTAMP:20260422T010301Z
DESCRIPTION:5/5 Letovice - Beach club Zlín\, z.s. 2:0 (22\,21)
DTSTART;TZID=Europe/Berlin:20231007T141500
DTEND;TZID=Europe/Berlin:20231007T161500
LOCATION:Sportovní hala Letovice\, V zahradách 831 Letovice
SUMMARY:JM-U16M-IA: Letovice-Beach club Zlín\, z.s.
END:VEVENT
BEGIN:VEVENT
UID:36626330-3638-4031-b463-373730313239
DTSTAMP:20260422T010301Z
DESCRIPTION:4/4 VK Znojmo - Přímětice 'A' - Letovice 0:2 (-22\,-19)
DTSTART;TZID=Europe/Berlin:20231007T130000
DTEND;TZID=Europe/Berlin:20231007T150000
LOCATION:Tělocvična ZŠ Prokopa Diviše a MŠ\, Ke Škole 569 Znojmo - Přímětic
 e
SUMMARY:JM-U16M-IA: VK Znojmo - Přímětice 'A'-Letovice
END:VEVENT
BEGIN:VEVENT
UID:33633234-3236-4161-b066-646433653135
DTSTAMP:20260422T010301Z
DESCRIPTION:2/2 Letovice - VK Znojmo - Přímětice 'A' 2:1 (-21\,16\,9)\nPřel
 oženo na 11.11.2023
DTSTART;TZID=Europe/Berlin:20231111T103000
DTEND;TZID=Europe/Berlin:20231111T123000
LOCATION:Sportovní hala u ZŠ Brněnec \,  Brněnec - Moravská Chrastová100
SUMMARY:JM-U16M-IIA: Letovice-VK Znojmo - Přímětice 'A'
END:VEVENT
BEGIN:VEVENT
UID:31666231-3266-4563-a434-643631303430
DTSTAMP:20260422T010301Z
DESCRIPTION:5/5 Letovice - Sokol Šlapanice 2:0 (14\,15)\nPřeloženo na 11.11
 .2023
DTSTART;TZID=Europe/Berlin:20231111T141500
DTEND;TZID=Europe/Berlin:20231111T161500
LOCATION:Sportovní hala u ZŠ Brněnec \,  Brněnec - Moravská Chrastová100
SUMMARY:JM-U16M-IIA: Letovice-Sokol Šlapanice
END:VEVENT
BEGIN:VEVENT
UID:64363134-3462-4135-a236-643633326361
DTSTAMP:20260422T010301Z
DESCRIPTION:4/4 Brno - Letovice 2:0 (23\,10)\nPřeloženo na 11.11.2023
DTSTART;TZID=Europe/Berlin:20231111T130000
DTEND;TZID=Europe/Berlin:20231111T150000
LOCATION:Sportovní hala u ZŠ Brněnec \,  Brněnec - Moravská Chrastová100
SUMMARY:JM-U16M-IIA: Brno-Letovice
END:VEVENT
BEGIN:VEVENT
UID:39316564-3331-4337-b638-363364626339
DTSTAMP:20260422T010301Z
DESCRIPTION:6/6 Letovice - Beach club Zlín\, z.s. 2:0 (17\,12)
DTSTART;TZID=Europe/Berlin:20231125T153000
DTEND;TZID=Europe/Berlin:20231125T173000
LOCATION:Hala Tyršova\, Tyršova 1221 Rousínov
SUMMARY:JM-U16M-IIIA: Letovice-Beach club Zlín\, z.s.
END:VEVENT
BEGIN:VEVENT
UID:39393131-3432-4332-b133-396264313136
DTSTAMP:20260422T010301Z
DESCRIPTION:2/2 VK Znojmo - Přímětice 'A' - Letovice 0:2 (-24\,-14)
DTSTART;TZID=Europe/Berlin:20231125T103000
DTEND;TZID=Europe/Berlin:20231125T123000
LOCATION:Hala Tyršova\, Tyršova 1221 Rousínov
SUMMARY:JM-U16M-IIIA: VK Znojmo - Přímětice 'A'-Letovice
END:VEVENT
BEGIN:VEVENT
UID:34326566-3634-4736-a336-386162396166
DTSTAMP:20260422T010301Z
DESCRIPTION:3/3 Brno - Letovice 2:0 (10\,20)
DTSTART;TZID=Europe/Berlin:20231125T114500
DTEND;TZID=Europe/Berlin:20231125T134500
LOCATION:Hala Tyršova\, Tyršova 1221 Rousínov
SUMMARY:JM-U16M-IIIA: Brno-Letovice
END:VEVENT
BEGIN:VEVENT
UID:38633030-3234-4261-a633-376535303533
DTSTAMP:20260422T010301Z
DESCRIPTION:1/2 Letovice - VK Znojmo - Přímětice 'A' 2:0 (14\,16)
DTSTART;TZID=Europe/Berlin:20231216T090000
DTEND;TZID=Europe/Berlin:20231216T110000
LOCATION:Tělocvična ZŠ Šlapanice\, Masarykovo náměstí 1594 Šlapanice
SUMMARY:JM-U16M-IVA: Letovice-VK Znojmo - Přímětice 'A'
END:VEVENT
BEGIN:VEVENT
UID:33383338-3435-4663-a263-316665306265
DTSTAMP:20260422T010301Z
DESCRIPTION:3/5 Letovice - Brno 0:2 (-17\,-23)
DTSTART;TZID=Europe/Berlin:20231216T114500
DTEND;TZID=Europe/Berlin:20231216T134500
LOCATION:Tělocvična ZŠ Šlapanice\, Masarykovo náměstí 1594 Šlapanice
SUMMARY:JM-U16M-IVA: Letovice-Brno
END:VEVENT
BEGIN:VEVENT
UID:30316434-6635-4030-b137-616133623163
DTSTAMP:20260422T010301Z
DESCRIPTION:2/4 Sokol Šlapanice - Letovice 0:2 (-18\,-11)
DTSTART;TZID=Europe/Berlin:20231216T103000
DTEND;TZID=Europe/Berlin:20231216T123000
LOCATION:Tělocvična ZŠ Šlapanice\, Masarykovo náměstí 1594 Šlapanice
SUMMARY:JM-U16M-IVA: Sokol Šlapanice-Letovice
END:VEVENT
BEGIN:VEVENT
UID:35616534-3630-4531-b235-336561646631
DTSTAMP:20260422T010301Z
DESCRIPTION:1/2 Letovice - VK Znojmo - Přímětice 'A' 2:0 (15\,19)
DTSTART;TZID=Europe/Berlin:20240113T090000
DTEND;TZID=Europe/Berlin:20240113T110000
LOCATION:Sportovní gymnázium Ludvíka Daňka\, Botanická 63 Brno - Ponava
SUMMARY:JM-U16M-VA: Letovice-VK Znojmo - Přímětice 'A'
END:VEVENT
BEGIN:VEVENT
UID:62306563-3636-4337-a135-653566326330
DTSTAMP:20260422T010301Z
DESCRIPTION:3/5 Letovice - Beach club Zlín\, z.s. 2:0 (14\,13)
DTSTART;TZID=Europe/Berlin:20240113T114500
DTEND;TZID=Europe/Berlin:20240113T134500
LOCATION:Sportovní gymnázium Ludvíka Daňka\, Botanická 63 Brno - Ponava
SUMMARY:JM-U16M-VA: Letovice-Beach club Zlín\, z.s.
END:VEVENT
BEGIN:VEVENT
UID:66646239-3936-4966-a166-336334343364
DTSTAMP:20260422T010301Z
DESCRIPTION:2/4 Brno - Letovice 2:0 (16\,23)
DTSTART;TZID=Europe/Berlin:20240113T103000
DTEND;TZID=Europe/Berlin:20240113T123000
LOCATION:Sportovní gymnázium Ludvíka Daňka\, Botanická 63 Brno - Ponava
SUMMARY:JM-U16M-VA: Brno-Letovice
END:VEVENT
BEGIN:VEVENT
UID:34346566-6635-4436-a361-636238333632
DTSTAMP:20260422T010301Z
DESCRIPTION:2/2 Letovice - Brno 0:2 (-19\,-16)
DTSTART;TZID=Europe/Berlin:20240127T103000
DTEND;TZID=Europe/Berlin:20240127T123000
LOCATION:Tělocvična ZŠ Prokopa Diviše a MŠ\, Ke Škole 569 Znojmo - Přímětic
 e
SUMMARY:JM-U16M-VIA: Letovice-Brno
END:VEVENT
BEGIN:VEVENT
UID:61323266-6335-4439-a230-373437626233
DTSTAMP:20260422T010301Z
DESCRIPTION:5/5 Letovice - Sokol Šlapanice 2:0 (14\,4)
DTSTART;TZID=Europe/Berlin:20240127T141500
DTEND;TZID=Europe/Berlin:20240127T161500
LOCATION:Tělocvična ZŠ Prokopa Diviše a MŠ\, Ke Škole 569 Znojmo - Přímětic
 e
SUMMARY:JM-U16M-VIA: Letovice-Sokol Šlapanice
END:VEVENT
BEGIN:VEVENT
UID:30363833-6164-4530-a362-646333386533
DTSTAMP:20260422T010301Z
DESCRIPTION:4/4 VK Znojmo - Přímětice 'A' - Letovice 1:2 (-11\,26\,-13)
DTSTART;TZID=Europe/Berlin:20240127T130000
DTEND;TZID=Europe/Berlin:20240127T150000
LOCATION:Tělocvična ZŠ Prokopa Diviše a MŠ\, Ke Škole 569 Znojmo - Přímětic
 e
SUMMARY:JM-U16M-VIA: VK Znojmo - Přímětice 'A'-Letovice
END:VEVENT
BEGIN:VEVENT
UID:63653334-3636-4363-a162-346663323031
DTSTAMP:20260422T010301Z
DESCRIPTION:2/2 Letovice - VK Znojmo - Přímětice 'A' 2:1 (-18\,21\,14)
DTSTART;TZID=Europe/Berlin:20240217T103000
DTEND;TZID=Europe/Berlin:20240217T123000
LOCATION:ZŠ Vejrostova\, Vejrostova 1066 Brno - Bystrc
SUMMARY:JM-U16M-VIIA: Letovice-VK Znojmo - Přímětice 'A'
END:VEVENT
BEGIN:VEVENT
UID:61633832-3336-4234-b730-396464393934
DTSTAMP:20260422T010301Z
DESCRIPTION:5/5 Letovice - Beach club Zlín\, z.s. 2:0 (11\,15)
DTSTART;TZID=Europe/Berlin:20240217T141500
DTEND;TZID=Europe/Berlin:20240217T161500
LOCATION:ZŠ Vejrostova\, Vejrostova 1066 Brno - Bystrc
SUMMARY:JM-U16M-VIIA: Letovice-Beach club Zlín\, z.s.
END:VEVENT
BEGIN:VEVENT
UID:37386637-6530-4535-a463-343932306131
DTSTAMP:20260422T010301Z
DESCRIPTION:4/4 Brno - Letovice 2:0 (9\,16)
DTSTART;TZID=Europe/Berlin:20240217T130000
DTEND;TZID=Europe/Berlin:20240217T150000
LOCATION:ZŠ Vejrostova\, Vejrostova 1066 Brno - Bystrc
SUMMARY:JM-U16M-VIIA: Brno-Letovice
END:VEVENT
BEGIN:VEVENT
UID:63316662-6432-4532-a432-366235396339
DTSTAMP:20260422T010301Z
DESCRIPTION:2/2 Letovice - Brno 0:2 (-17\,-18)
DTSTART;TZID=Europe/Berlin:20240302T103000
DTEND;TZID=Europe/Berlin:20240302T123000
LOCATION:Gymnázium Dr. Karla Polesného\, náměstí Komenského 945 Znojmo
SUMMARY:JM-U16M-VIIIA: Letovice-Brno
END:VEVENT
BEGIN:VEVENT
UID:36333261-3332-4235-a636-633436383663
DTSTAMP:20260422T010301Z
DESCRIPTION:5/5 Letovice - Sokol Šlapanice 2:0 (16\,15)
DTSTART;TZID=Europe/Berlin:20240302T141500
DTEND;TZID=Europe/Berlin:20240302T161500
LOCATION:Gymnázium Dr. Karla Polesného\, náměstí Komenského 945 Znojmo
SUMMARY:JM-U16M-VIIIA: Letovice-Sokol Šlapanice
END:VEVENT
BEGIN:VEVENT
UID:63636339-6462-4230-b838-613766613564
DTSTAMP:20260422T010301Z
DESCRIPTION:4/4 VK Znojmo - Přímětice 'A' - Letovice 2:1 (22\,-19\,14)
DTSTART;TZID=Europe/Berlin:20240302T130000
DTEND;TZID=Europe/Berlin:20240302T150000
LOCATION:Gymnázium Dr. Karla Polesného\, náměstí Komenského 945 Znojmo
SUMMARY:JM-U16M-VIIIA: VK Znojmo - Přímětice 'A'-Letovice
END:VEVENT
BEGIN:VEVENT
UID:35316162-3932-4431-b661-383539386536
DTSTAMP:20260422T010301Z
DESCRIPTION:1/2 Letovice - TJ TESLA BRNO z.s. 2:0 (16\,13)\n2. vs 7. Kurt 2
DTSTART;TZID=Europe/Berlin:20240323T090000
DTEND;TZID=Europe/Berlin:20240323T110000
LOCATION:Sportovní hala Letovice\, V zahradách 831 Letovice
SUMMARY:JM-U16M-F: Letovice-TJ TESLA BRNO z.s.
END:VEVENT
BEGIN:VEVENT
UID:66383266-6430-4438-a439-373765393038
DTSTAMP:20260422T010301Z
DESCRIPTION:4/8 Letovice - VK Znojmo - Přímětice 'A' 2:0 (20\,37)\nW2 vs W3
  Kurt 2
DTSTART;TZID=Europe/Berlin:20240323T130000
DTEND;TZID=Europe/Berlin:20240323T150000
LOCATION:Sportovní hala Letovice\, V zahradách 831 Letovice
SUMMARY:JM-U16M-F: Letovice-VK Znojmo - Přímětice 'A'
END:VEVENT
BEGIN:VEVENT
UID:38633463-3933-4132-a162-656463623433
DTSTAMP:20260422T010301Z
DESCRIPTION:6/12 Brno - Letovice 2:0 (21\,19)\nW7 vs W8 Kurt 1
DTSTART;TZID=Europe/Berlin:20240323T153000
DTEND;TZID=Europe/Berlin:20240323T173000
LOCATION:Sportovní gymnázium Ludvíka Daňka\, Botanická 63 Brno - Ponava
SUMMARY:JM-U16M-F: Brno-Letovice
END:VEVENT
BEGIN:VEVENT
UID:37366139-3332-4431-b631-316635663861
DTSTAMP:20260422T010301Z
DESCRIPTION:1/1 Letovice - Havlíčkův Brod 0:2 (-11\,-17)
DTSTART;TZID=Europe/Berlin:20240427T100000
DTEND;TZID=Europe/Berlin:20240427T120000
LOCATION:Sportovní hala Letovice\, V zahradách 831 Letovice
SUMMARY:MCR-U16M-A: Letovice-Havlíčkův Brod
END:VEVENT
BEGIN:VEVENT
UID:66373139-3737-4834-b038-616539356462
DTSTAMP:20260422T010301Z
DESCRIPTION:1/3 Letovice - Most 2:0 (9\,8)
DTSTART;TZID=Europe/Berlin:20240427T113000
DTEND;TZID=Europe/Berlin:20240427T133000
LOCATION:Sportovní hala Letovice\, V zahradách 831 Letovice
SUMMARY:MCR-U16M-A: Letovice-Most
END:VEVENT
BEGIN:VEVENT
UID:65623332-3531-4137-b133-313032666232
DTSTAMP:20260422T010301Z
DESCRIPTION:2/21 Letovice - Mnichovo Hradiště 0:2 (-23\,-23)
DTSTART;TZID=Europe/Berlin:20240428T140000
DTEND;TZID=Europe/Berlin:20240428T160000
LOCATION:Sportovní hala Letovice\, V zahradách 831 Letovice
SUMMARY:MCR-U16M-A: Letovice-Mnichovo Hradiště
END:VEVENT
BEGIN:VEVENT
UID:36646662-6132-4263-b130-333136626466
DTSTAMP:20260422T010301Z
DESCRIPTION:1/7 Ostrava - Letovice 2:1 (16\,-15\,12)
DTSTART;TZID=Europe/Berlin:20240427T143000
DTEND;TZID=Europe/Berlin:20240427T163000
LOCATION:Sportovní hala Letovice\, V zahradách 831 Letovice
SUMMARY:MCR-U16M-A: Ostrava-Letovice
END:VEVENT
BEGIN:VEVENT
UID:32343832-6235-4538-a562-643632636266
DTSTAMP:20260422T010301Z
DESCRIPTION:1/11 Nová Paka - Letovice 0:2 (-12\,-15)
DTSTART;TZID=Europe/Berlin:20240427T173000
DTEND;TZID=Europe/Berlin:20240427T193000
LOCATION:Sportovní hala Letovice\, V zahradách 831 Letovice
SUMMARY:MCR-U16M-A: Nová Paka-Letovice
END:VEVENT
BEGIN:VEVENT
UID:36363231-3864-4062-b663-303838663862
DTSTAMP:20260422T010301Z
DESCRIPTION:2/17 Karlovarsko - Letovice 0:2 (-7\,-11)
DTSTART;TZID=Europe/Berlin:20240428T110000
DTEND;TZID=Europe/Berlin:20240428T130000
LOCATION:Sportovní hala Letovice\, V zahradách 831 Letovice
SUMMARY:MCR-U16M-A: Karlovarsko-Letovice
END:VEVENT
BEGIN:VEVENT
UID:62633433-6437-4236-a135-336631643166
DTSTAMP:20260422T010301Z
DESCRIPTION:2/3 Letovice - Brno 0:2 (-18\,-26)
DTSTART;TZID=Europe/Berlin:20240517T142500
DTEND;TZID=Europe/Berlin:20240517T162500
LOCATION:ZŠ Oskara Nedbala České Budějovice\, O. Nedbala 882 České Budějovi
 ce - České Budějovice 2
SUMMARY:MCR-U16M-FC: Letovice-Brno
END:VEVENT
BEGIN:VEVENT
UID:37376538-6634-4365-a231-643735646237
DTSTAMP:20260422T010301Z
DESCRIPTION:1/1 České Budějovice - Letovice 2:0 (15\,14)
DTSTART;TZID=Europe/Berlin:20240517T114500
DTEND;TZID=Europe/Berlin:20240517T134500
LOCATION:ZŠ Oskara Nedbala České Budějovice\, O. Nedbala 882 České Budějovi
 ce - České Budějovice 2
SUMMARY:MCR-U16M-FC: České Budějovice-Letovice
END:VEVENT
BEGIN:VEVENT
UID:64613263-3734-4465-b838-383463306439
DTSTAMP:20260422T010301Z
DESCRIPTION:3/5 Příbram - Letovice 2:1 (-22\,13\,8)
DTSTART;TZID=Europe/Berlin:20240517T170500
DTEND;TZID=Europe/Berlin:20240517T190500
LOCATION:ZŠ Oskara Nedbala České Budějovice\, O. Nedbala 882 České Budějovi
 ce - České Budějovice 2
SUMMARY:MCR-U16M-FC: Příbram-Letovice
END:VEVENT
BEGIN:VEVENT
UID:62636639-3161-4439-b934-613937343830
DTSTAMP:20260422T010301Z
DESCRIPTION:1/1 Letovice - Frýdek-Místek 0:2 (-22\,-20)\nC4 - A4\; SH ZŠ Os
 kara Nedbala\, České Budějovice
DTSTART;TZID=Europe/Berlin:20240518T110000
DTEND;TZID=Europe/Berlin:20240518T130000
LOCATION:Sportovní hala\, Stromovka 1216 České Budějovice - České Budějovic
 e 2
SUMMARY:MCR-U16M-FG: Letovice-Frýdek-Místek
END:VEVENT
BEGIN:VEVENT
UID:39363366-3930-4464-a266-363231663839
DTSTAMP:20260422T010301Z
DESCRIPTION:2/4 Sokolov - Letovice 2:0 (20\,19)\nD4 - C4
DTSTART;TZID=Europe/Berlin:20240518T163000
DTEND;TZID=Europe/Berlin:20240518T183000
LOCATION:Sportovní hala\, Stromovka 1216 České Budějovice - České Budějovic
 e 2
SUMMARY:MCR-U16M-FG: Sokolov-Letovice
END:VEVENT
BEGIN:VEVENT
UID:62363431-6633-4533-b039-633437323262
DTSTAMP:20260422T010301Z
DESCRIPTION:3/5 Svitavy - Letovice 0:2 (-37\,-18)\nB4 - C4
DTSTART;TZID=Europe/Berlin:20240519T095000
DTEND;TZID=Europe/Berlin:20240519T115000
LOCATION:Sportovní hala\, Stromovka 1216 České Budějovice - České Budějovic
 e 2
SUMMARY:MCR-U16M-FG: Svitavy-Letovice
END:VEVENT
END:VCALENDAR
