BEGIN:VCALENDAR
VERSION:2.0
PRODID:-//TJ JUNIOR Brno A83299//NONSGML kigkonsult.se iCalcreator 2.41.80//
CALSCALE:GREGORIAN
UID:65383936-6166-4138-b266-313639386466
BEGIN:VEVENT
UID:38396565-3062-4532-a237-346664333836
DTSTAMP:20260421T224745Z
DESCRIPTION:6/6 TJ JUNIOR Brno A - SK Beachvolleyball Slavkov\, spolek 2:0 
 (14\,11)
DTSTART;TZID=Europe/Berlin:20230916T153000
DTEND;TZID=Europe/Berlin:20230916T173000
LOCATION:tělocvičny ZŠ Novolíšeňská\, Brno\, Novolíšeňská 2411 Brno - Líšeň
SUMMARY:JM-U16Z-KVF: TJ JUNIOR Brno A-SK Beachvolleyball Slavkov\, spolek
END:VEVENT
BEGIN:VEVENT
UID:35376263-3766-4962-b337-313334316437
DTSTAMP:20260421T224745Z
DESCRIPTION:2/2 VK Znojmo - Přímětice 'B' - TJ JUNIOR Brno A 0:2 (-12\,-1)
DTSTART;TZID=Europe/Berlin:20230916T103000
DTEND;TZID=Europe/Berlin:20230916T123000
LOCATION:Tělocvična ZŠ Prokopa Diviše a MŠ\, Ke Škole 569 Znojmo - Přímětic
 e
SUMMARY:JM-U16Z-KVF: VK Znojmo - Přímětice 'B'-TJ JUNIOR Brno A
END:VEVENT
BEGIN:VEVENT
UID:65363264-3830-4365-b835-633564613833
DTSTAMP:20260421T224745Z
DESCRIPTION:3/3 Tělocvičná jednota Sokol Bučovice - TJ JUNIOR Brno A 0:2 (-
 4\,-12)
DTSTART;TZID=Europe/Berlin:20230916T114500
DTEND;TZID=Europe/Berlin:20230916T134500
LOCATION:ZŠ Bučovice 710\, Školní 710 Bučovice
SUMMARY:JM-U16Z-KVF: Tělocvičná jednota Sokol Bučovice-TJ JUNIOR Brno A
END:VEVENT
BEGIN:VEVENT
UID:64646331-6239-4162-b431-363865323566
DTSTAMP:20260421T224745Z
DESCRIPTION:1/1 VK Znojmo - Přímětice 'A' - TJ JUNIOR Brno A 2:1 (24\,-19\,
 7)\n1E vs 1F Kurt 1
DTSTART;TZID=Europe/Berlin:20230916T163000
DTEND;TZID=Europe/Berlin:20230916T183000
LOCATION:Tělocvična ZŠ Prokopa Diviše a MŠ\, Ke Škole 569 Znojmo - Přímětic
 e
SUMMARY:JM-U16Z-KVEF: VK Znojmo - Přímětice 'A'-TJ JUNIOR Brno A
END:VEVENT
BEGIN:VEVENT
UID:36383033-3763-4136-b036-376636316533
DTSTAMP:20260421T224745Z
DESCRIPTION:1/1 TJ JUNIOR Brno A - ZŠ Milénova C 2:0 (14\,8)
DTSTART;TZID=Europe/Berlin:20231007T090000
DTEND;TZID=Europe/Berlin:20231007T110000
LOCATION:tělocvičny ZŠ Novolíšeňská\, Brno\, Novolíšeňská 2411 Brno - Líšeň
SUMMARY:JM-U16Z-IB: TJ JUNIOR Brno A-ZŠ Milénova C
END:VEVENT
BEGIN:VEVENT
UID:62623830-3539-4566-b565-363764666662
DTSTAMP:20260421T224745Z
DESCRIPTION:4/4 TJ JUNIOR Brno A - Tělocvičná jednota Sokol Předklášteří 2:
 1 (-18\,15\,12)
DTSTART;TZID=Europe/Berlin:20231007T130000
DTEND;TZID=Europe/Berlin:20231007T150000
LOCATION:tělocvičny ZŠ Novolíšeňská\, Brno\, Novolíšeňská 2411 Brno - Líšeň
SUMMARY:JM-U16Z-IB: TJ JUNIOR Brno A-Tělocvičná jednota Sokol Předklášteří
END:VEVENT
BEGIN:VEVENT
UID:30613735-3235-4938-a132-386535626433
DTSTAMP:20260421T224745Z
DESCRIPTION:6/6 TJ Sokol Šlapanice A - TJ JUNIOR Brno A 1:2 (-21\,23\,-13)
DTSTART;TZID=Europe/Berlin:20231007T153000
DTEND;TZID=Europe/Berlin:20231007T173000
LOCATION:ZŠ Na Zahrádkách \, Na Zahrádkách 1716 Šlapanice
SUMMARY:JM-U16Z-IB: TJ Sokol Šlapanice A-TJ JUNIOR Brno A
END:VEVENT
BEGIN:VEVENT
UID:35343237-3331-4434-b933-363535373630
DTSTAMP:20260421T224745Z
DESCRIPTION:3/6 TJ JUNIOR Brno A - Břeclav 2:1 (18\,-24\,8)
DTSTART;TZID=Europe/Berlin:20231021T114500
DTEND;TZID=Europe/Berlin:20231021T134500
LOCATION:TJ Lokomotiva Břeclav\, Veslařská 2753 Břeclav
SUMMARY:JM-U16Z-IIA: TJ JUNIOR Brno A-Břeclav
END:VEVENT
BEGIN:VEVENT
UID:36646338-3339-4266-b663-653730616264
DTSTAMP:20260421T224745Z
DESCRIPTION:1/2 VK Znojmo - Přímětice 'A' - TJ JUNIOR Brno A 2:0 (19\,19)
DTSTART;TZID=Europe/Berlin:20231021T090000
DTEND;TZID=Europe/Berlin:20231021T110000
LOCATION:TJ Lokomotiva Břeclav\, Veslařská 2753 Břeclav
SUMMARY:JM-U16Z-IIA: VK Znojmo - Přímětice 'A'-TJ JUNIOR Brno A
END:VEVENT
BEGIN:VEVENT
UID:30653161-3036-4536-a166-653835323739
DTSTAMP:20260421T224745Z
DESCRIPTION:2/3 KP Brno - TJ JUNIOR Brno A 2:0 (22\,10)
DTSTART;TZID=Europe/Berlin:20231021T103000
DTEND;TZID=Europe/Berlin:20231021T123000
LOCATION:TJ Lokomotiva Břeclav\, Veslařská 2753 Břeclav
SUMMARY:JM-U16Z-IIA: KP Brno-TJ JUNIOR Brno A
END:VEVENT
BEGIN:VEVENT
UID:33303065-6463-4530-a539-303731303335
DTSTAMP:20260421T224745Z
DESCRIPTION:1/1 TJ JUNIOR Brno A - VS Drásov 2:1 (17\,-22\,12)
DTSTART;TZID=Europe/Berlin:20231111T090000
DTEND;TZID=Europe/Berlin:20231111T110000
LOCATION:tělocvičny ZŠ Novolíšeňská\, Brno\, Novolíšeňská 2411 Brno - Líšeň
SUMMARY:JM-U16Z-IIIB: TJ JUNIOR Brno A-VS Drásov
END:VEVENT
BEGIN:VEVENT
UID:34613230-3763-4836-a361-616130326331
DTSTAMP:20260421T224745Z
DESCRIPTION:2/4 TJ JUNIOR Brno A - ZŠ Milénova A 2:1 (-23\,18\,7)
DTSTART;TZID=Europe/Berlin:20231111T103000
DTEND;TZID=Europe/Berlin:20231111T123000
LOCATION:tělocvičny ZŠ Novolíšeňská\, Brno\, Novolíšeňská 2411 Brno - Líšeň
SUMMARY:JM-U16Z-IIIB: TJ JUNIOR Brno A-ZŠ Milénova A
END:VEVENT
BEGIN:VEVENT
UID:32653066-3430-4231-b762-323130353564
DTSTAMP:20260421T224745Z
DESCRIPTION:3/6 START B6 - TJ JUNIOR Brno A 0:2 (-22\,-11)
DTSTART;TZID=Europe/Berlin:20231111T114500
DTEND;TZID=Europe/Berlin:20231111T134500
LOCATION:tělocvičny ZŠ Novolíšeňská\, Brno\, Novolíšeňská 2411 Brno - Líšeň
SUMMARY:JM-U16Z-IIIB: START B6-TJ JUNIOR Brno A
END:VEVENT
BEGIN:VEVENT
UID:39613134-3663-4366-a135-633634316163
DTSTAMP:20260421T224745Z
DESCRIPTION:6/6 TJ JUNIOR Brno A - VK Znojmo - Přímětice 'A' 1:2 (22\,-17\,
 -5)
DTSTART;TZID=Europe/Berlin:20231209T153000
DTEND;TZID=Europe/Berlin:20231209T173000
LOCATION:Tělocvična ZŠ Prokopa Diviše a MŠ\, Ke Škole 569 Znojmo - Přímětic
 e
SUMMARY:JM-U16Z-IVA: TJ JUNIOR Brno A-VK Znojmo - Přímětice 'A'
END:VEVENT
BEGIN:VEVENT
UID:35626362-3363-4364-b934-663138303164
DTSTAMP:20260421T224745Z
DESCRIPTION:2/2 Tělocvičná jednota Sokol Předklášteří - TJ JUNIOR Brno A 2:
 0 (15\,20)
DTSTART;TZID=Europe/Berlin:20231209T103000
DTEND;TZID=Europe/Berlin:20231209T123000
LOCATION:Tělocvična ZŠ Prokopa Diviše a MŠ\, Ke Škole 569 Znojmo - Přímětic
 e
SUMMARY:JM-U16Z-IVA: Tělocvičná jednota Sokol Předklášteří-TJ JUNIOR Brno A
END:VEVENT
BEGIN:VEVENT
UID:30393266-3139-4530-a262-373735633133
DTSTAMP:20260421T224745Z
DESCRIPTION:3/3 Břeclav - TJ JUNIOR Brno A 2:0 (18\,14)
DTSTART;TZID=Europe/Berlin:20231209T114500
DTEND;TZID=Europe/Berlin:20231209T134500
LOCATION:Tělocvična ZŠ Prokopa Diviše a MŠ\, Ke Škole 569 Znojmo - Přímětic
 e
SUMMARY:JM-U16Z-IVA: Břeclav-TJ JUNIOR Brno A
END:VEVENT
BEGIN:VEVENT
UID:35643136-3464-4265-b931-303262366334
DTSTAMP:20260421T224745Z
DESCRIPTION:1/1 TJ JUNIOR Brno A - TJ Sokol Šlapanice A 2:0 (7\,7)
DTSTART;TZID=Europe/Berlin:20240106T090000
DTEND;TZID=Europe/Berlin:20240106T110000
LOCATION:tělocvičny ZŠ Novolíšeňská\, Brno\, Novolíšeňská 2411 Brno - Líšeň
SUMMARY:JM-U16Z-VB: TJ JUNIOR Brno A-TJ Sokol Šlapanice A
END:VEVENT
BEGIN:VEVENT
UID:65623437-3865-4430-b338-616462366265
DTSTAMP:20260421T224745Z
DESCRIPTION:2/4 TJ JUNIOR Brno A - KP Brno 0:2 (-11\,-22)
DTSTART;TZID=Europe/Berlin:20240106T103000
DTEND;TZID=Europe/Berlin:20240106T123000
LOCATION:tělocvičny ZŠ Novolíšeňská\, Brno\, Novolíšeňská 2411 Brno - Líšeň
SUMMARY:JM-U16Z-VB: TJ JUNIOR Brno A-KP Brno
END:VEVENT
BEGIN:VEVENT
UID:35323034-3932-4565-a666-616432306665
DTSTAMP:20260421T224745Z
DESCRIPTION:3/6 Tělovýchovná jednota Sokol Újezd u Brna - TJ JUNIOR Brno A 
 0:2 (-21\,-9)
DTSTART;TZID=Europe/Berlin:20240106T114500
DTEND;TZID=Europe/Berlin:20240106T134500
LOCATION:tělocvičny ZŠ Novolíšeňská\, Brno\, Novolíšeňská 2411 Brno - Líšeň
SUMMARY:JM-U16Z-VB: Tělovýchovná jednota Sokol Újezd u Brna-TJ JUNIOR Brno 
 A
END:VEVENT
BEGIN:VEVENT
UID:38613138-6136-4133-a334-313630323734
DTSTAMP:20260421T224745Z
DESCRIPTION:6/6 TJ JUNIOR Brno A - VS Drásov 2:0 (15\,22)
DTSTART;TZID=Europe/Berlin:20240120T153000
DTEND;TZID=Europe/Berlin:20240120T173000
LOCATION:Hala u ZŠ TGM Drásov\, Školní 167 Drásov
SUMMARY:JM-U16Z-VIB: TJ JUNIOR Brno A-VS Drásov
END:VEVENT
BEGIN:VEVENT
UID:38313865-3864-4539-b635-326565353733
DTSTAMP:20260421T224745Z
DESCRIPTION:2/2 Tělovýchovná jednota Sokol Újezd u Brna - TJ JUNIOR Brno A 
 1:2 (22\,-15\,-5)
DTSTART;TZID=Europe/Berlin:20240120T103000
DTEND;TZID=Europe/Berlin:20240120T123000
LOCATION:Hala u ZŠ TGM Drásov\, Školní 167 Drásov
SUMMARY:JM-U16Z-VIB: Tělovýchovná jednota Sokol Újezd u Brna-TJ JUNIOR Brno
  A
END:VEVENT
BEGIN:VEVENT
UID:66306137-3833-4666-b764-356236383935
DTSTAMP:20260421T224745Z
DESCRIPTION:3/3 START B6 - TJ JUNIOR Brno A 2:0 (23\,11)
DTSTART;TZID=Europe/Berlin:20240120T114500
DTEND;TZID=Europe/Berlin:20240120T134500
LOCATION:Hala u ZŠ TGM Drásov\, Školní 167 Drásov
SUMMARY:JM-U16Z-VIB: START B6-TJ JUNIOR Brno A
END:VEVENT
BEGIN:VEVENT
UID:35616662-6136-4438-b638-386130666230
DTSTAMP:20260421T224745Z
DESCRIPTION:1/2 TJ JUNIOR Brno A - Tělovýchovná jednota Sokol Újezd u Brna 
 2:X
DTSTART;TZID=Europe/Berlin:20240203T090000
DTEND;TZID=Europe/Berlin:20240203T110000
LOCATION:TJ Lokomotiva Břeclav\, Veslařská 2753 Břeclav
SUMMARY:JM-U16Z-VIIB: TJ JUNIOR Brno A-Tělovýchovná jednota Sokol Újezd u B
 rna
END:VEVENT
BEGIN:VEVENT
UID:64666663-3939-4665-a439-333031323036
DTSTAMP:20260421T224745Z
DESCRIPTION:3/5 TJ JUNIOR Brno A - SK Beachvolleyball Slavkov\, spolek 2:X
DTSTART;TZID=Europe/Berlin:20240203T114500
DTEND;TZID=Europe/Berlin:20240203T134500
LOCATION:TJ Lokomotiva Břeclav\, Veslařská 2753 Břeclav
SUMMARY:JM-U16Z-VIIB: TJ JUNIOR Brno A-SK Beachvolleyball Slavkov\, spolek
END:VEVENT
BEGIN:VEVENT
UID:62313932-6564-4530-b339-393930373263
DTSTAMP:20260421T224745Z
DESCRIPTION:2/4 Břeclav - TJ JUNIOR Brno A 2:0 (16\,23)
DTSTART;TZID=Europe/Berlin:20240203T103000
DTEND;TZID=Europe/Berlin:20240203T123000
LOCATION:TJ Lokomotiva Břeclav\, Veslařská 2753 Břeclav
SUMMARY:JM-U16Z-VIIB: Břeclav-TJ JUNIOR Brno A
END:VEVENT
BEGIN:VEVENT
UID:64346430-6566-4235-b262-376131633963
DTSTAMP:20260421T224745Z
DESCRIPTION:2/2 TJ JUNIOR Brno A - TJ Sokol Šlapanice A 2:0 (4\,13)
DTSTART;TZID=Europe/Berlin:20240224T103000
DTEND;TZID=Europe/Berlin:20240224T123000
LOCATION:ZŠ Milénova 14\, Milénova 808 Brno - Lesná
SUMMARY:JM-U16Z-VIIIB: TJ JUNIOR Brno A-TJ Sokol Šlapanice A
END:VEVENT
BEGIN:VEVENT
UID:37633839-6633-4534-a563-323661376236
DTSTAMP:20260421T224745Z
DESCRIPTION:5/5 TJ JUNIOR Brno A - START B6 1:2 (-16\,23\,-11)
DTSTART;TZID=Europe/Berlin:20240224T141500
DTEND;TZID=Europe/Berlin:20240224T161500
LOCATION:ZŠ Milénova 14\, Milénova 808 Brno - Lesná
SUMMARY:JM-U16Z-VIIIB: TJ JUNIOR Brno A-START B6
END:VEVENT
BEGIN:VEVENT
UID:61643934-3839-4933-b539-353936373666
DTSTAMP:20260421T224745Z
DESCRIPTION:4/4 ZŠ Milénova A - TJ JUNIOR Brno A 0:2 (-21\,-15)
DTSTART;TZID=Europe/Berlin:20240224T130000
DTEND;TZID=Europe/Berlin:20240224T150000
LOCATION:ZŠ Milénova 14\, Milénova 808 Brno - Lesná
SUMMARY:JM-U16Z-VIIIB: ZŠ Milénova A-TJ JUNIOR Brno A
END:VEVENT
BEGIN:VEVENT
UID:36373232-3831-4330-a238-373463396337
DTSTAMP:20260421T224745Z
DESCRIPTION:6/11 TJ JUNIOR Brno A - Tělocvičná jednota Sokol Předklášteří 2
 :0 (24\,23)\nL7 vs L8 Kurt 2
DTSTART;TZID=Europe/Berlin:20240309T153000
DTEND;TZID=Europe/Berlin:20240309T173000
LOCATION:tělocvičny ZŠ Novolíšeňská\, Brno\, Novolíšeňská 2411 Brno - Líšeň
SUMMARY:JM-U16Z-FA: TJ JUNIOR Brno A-Tělocvičná jednota Sokol Předklášteří
END:VEVENT
BEGIN:VEVENT
UID:36383935-6565-4639-b535-343330303634
DTSTAMP:20260421T224745Z
DESCRIPTION:2/4 Břeclav - TJ JUNIOR Brno A 1:2 (20\,-23\,-12)\n4. vs 5. Kur
 t 2
DTSTART;TZID=Europe/Berlin:20240309T103000
DTEND;TZID=Europe/Berlin:20240309T123000
LOCATION:TJ Lokomotiva Břeclav\, Veslařská 2753 Břeclav
SUMMARY:JM-U16Z-FA: Břeclav-TJ JUNIOR Brno A
END:VEVENT
BEGIN:VEVENT
UID:33313063-6266-4238-b939-323363303064
DTSTAMP:20260421T224745Z
DESCRIPTION:4/7 VK Znojmo - Přímětice 'A' - TJ JUNIOR Brno A 2:1 (-21\,19\,
 5)\nW1 vs W4 Kurt 1
DTSTART;TZID=Europe/Berlin:20240309T130000
DTEND;TZID=Europe/Berlin:20240309T150000
LOCATION:Tělocvična ZŠ Prokopa Diviše a MŠ\, Ke Škole 569 Znojmo - Přímětic
 e
SUMMARY:JM-U16Z-FA: VK Znojmo - Přímětice 'A'-TJ JUNIOR Brno A
END:VEVENT
END:VCALENDAR
