BEGIN:VCALENDAR
VERSION:2.0
PRODID:-//VK PFN Znojmo "A"83303//NONSGML kigkonsult.se iCalcreator 2.41.80//
CALSCALE:GREGORIAN
UID:33366338-3338-4735-b435-303364346137
BEGIN:VEVENT
UID:34646661-3430-4831-a261-383663633235
DTSTAMP:20260421T210059Z
DESCRIPTION:6/6 VK Znojmo - Přímětice 'A' - Beach club Zlín\, z.s. 2:0 (10\
 ,9)
DTSTART;TZID=Europe/Berlin:20230916T153000
DTEND;TZID=Europe/Berlin:20230916T173000
LOCATION:Tělocvična ZŠ Prokopa Diviše a MŠ\, Ke Škole 569 Znojmo - Přímětic
 e
SUMMARY:JM-U16Z-KVE: VK Znojmo - Přímětice 'A'-Beach club Zlín\, z.s.
END:VEVENT
BEGIN:VEVENT
UID:35383531-3134-4565-b633-393138386434
DTSTAMP:20260421T210059Z
DESCRIPTION:2/2 VOLEJBAL VYŠKOV E - VK Znojmo - Přímětice 'A' 0:2 (-6\,-17)
DTSTART;TZID=Europe/Berlin:20230916T103000
DTEND;TZID=Europe/Berlin:20230916T123000
LOCATION:Tělocvična ZŠ Nádražní\, Nádražní 5 Vyškov - Vyškov-Město
SUMMARY:JM-U16Z-KVE: VOLEJBAL VYŠKOV E-VK Znojmo - Přímětice 'A'
END:VEVENT
BEGIN:VEVENT
UID:65663031-6634-4764-a630-626162383133
DTSTAMP:20260421T210059Z
DESCRIPTION:3/3 Tělovýchovná jednota Sokol Újezd u Brna - VK Znojmo - Přímě
 tice 'A' 0:2 (-19\,-4)
DTSTART;TZID=Europe/Berlin:20230916T114500
DTEND;TZID=Europe/Berlin:20230916T134500
LOCATION:Hala ZŠ Újezd u Brna\, Školní 284 Újezd u Brna
SUMMARY:JM-U16Z-KVE: Tělovýchovná jednota Sokol Újezd u Brna-VK Znojmo - Př
 ímětice 'A'
END:VEVENT
BEGIN:VEVENT
UID:37616136-3662-4766-b066-636661353539
DTSTAMP:20260421T210059Z
DESCRIPTION:1/1 VK Znojmo - Přímětice 'A' - TJ JUNIOR Brno A 2:1 (24\,-19\,
 7)\n1E vs 1F Kurt 1
DTSTART;TZID=Europe/Berlin:20230916T163000
DTEND;TZID=Europe/Berlin:20230916T183000
LOCATION:Tělocvična ZŠ Prokopa Diviše a MŠ\, Ke Škole 569 Znojmo - Přímětic
 e
SUMMARY:JM-U16Z-KVEF: VK Znojmo - Přímětice 'A'-TJ JUNIOR Brno A
END:VEVENT
BEGIN:VEVENT
UID:39306530-3636-4735-a333-396233646635
DTSTAMP:20260421T210059Z
DESCRIPTION:6/6 VK Znojmo - Přímětice 'A' - ZŠ Milénova A 2:1 (7\,-19\,6)
DTSTART;TZID=Europe/Berlin:20231007T153000
DTEND;TZID=Europe/Berlin:20231007T173000
LOCATION:Tělocvična ZŠ Prokopa Diviše a MŠ\, Ke Škole 569 Znojmo - Přímětic
 e
SUMMARY:JM-U16Z-IA: VK Znojmo - Přímětice 'A'-ZŠ Milénova A
END:VEVENT
BEGIN:VEVENT
UID:62313064-6637-4230-b962-613164336237
DTSTAMP:20260421T210059Z
DESCRIPTION:2/2 Břeclav - VK Znojmo - Přímětice 'A' 0:2 (-17\,-20)
DTSTART;TZID=Europe/Berlin:20231007T103000
DTEND;TZID=Europe/Berlin:20231007T123000
LOCATION:TJ Lokomotiva Břeclav\, Veslařská 2753 Břeclav
SUMMARY:JM-U16Z-IA: Břeclav-VK Znojmo - Přímětice 'A'
END:VEVENT
BEGIN:VEVENT
UID:31653661-6434-4230-a638-623438393561
DTSTAMP:20260421T210059Z
DESCRIPTION:3/3 KP Brno - VK Znojmo - Přímětice 'A' 0:2 (-14\,-19)
DTSTART;TZID=Europe/Berlin:20231007T114500
DTEND;TZID=Europe/Berlin:20231007T134500
LOCATION:Sportovní gymnázium Ludvíka Daňka\, Botanická 63 Brno - Ponava
SUMMARY:JM-U16Z-IA: KP Brno-VK Znojmo - Přímětice 'A'
END:VEVENT
BEGIN:VEVENT
UID:61336562-3861-4266-b438-383433653463
DTSTAMP:20260421T210059Z
DESCRIPTION:1/2 VK Znojmo - Přímětice 'A' - TJ JUNIOR Brno A 2:0 (19\,19)
DTSTART;TZID=Europe/Berlin:20231021T090000
DTEND;TZID=Europe/Berlin:20231021T110000
LOCATION:TJ Lokomotiva Břeclav\, Veslařská 2753 Břeclav
SUMMARY:JM-U16Z-IIA: VK Znojmo - Přímětice 'A'-TJ JUNIOR Brno A
END:VEVENT
BEGIN:VEVENT
UID:61613339-6661-4335-b162-366365306330
DTSTAMP:20260421T210059Z
DESCRIPTION:3/5 VK Znojmo - Přímětice 'A' - KP Brno 2:0 (8\,14)
DTSTART;TZID=Europe/Berlin:20231021T114500
DTEND;TZID=Europe/Berlin:20231021T134500
LOCATION:TJ Lokomotiva Břeclav\, Veslařská 2753 Břeclav
SUMMARY:JM-U16Z-IIA: VK Znojmo - Přímětice 'A'-KP Brno
END:VEVENT
BEGIN:VEVENT
UID:66353133-3565-4537-b939-366665663065
DTSTAMP:20260421T210059Z
DESCRIPTION:2/4 Břeclav - VK Znojmo - Přímětice 'A' 0:2 (-21\,-9)
DTSTART;TZID=Europe/Berlin:20231021T103000
DTEND;TZID=Europe/Berlin:20231021T123000
LOCATION:TJ Lokomotiva Břeclav\, Veslařská 2753 Břeclav
SUMMARY:JM-U16Z-IIA: Břeclav-VK Znojmo - Přímětice 'A'
END:VEVENT
BEGIN:VEVENT
UID:33613238-3637-4830-a630-336139303866
DTSTAMP:20260421T210059Z
DESCRIPTION:2/2 VK Znojmo - Přímětice 'A' - Břeclav 2:0 (18\,17)
DTSTART;TZID=Europe/Berlin:20231111T103000
DTEND;TZID=Europe/Berlin:20231111T123000
LOCATION:ZŠ Předklášteří\, Komenského 1097 Předklášteří
SUMMARY:JM-U16Z-IIIA: VK Znojmo - Přímětice 'A'-Břeclav
END:VEVENT
BEGIN:VEVENT
UID:63363436-3739-4634-b139-616131623264
DTSTAMP:20260421T210059Z
DESCRIPTION:5/5 VK Znojmo - Přímětice 'A' - KP Brno 2:1 (23\,-22\,10)
DTSTART;TZID=Europe/Berlin:20231111T141500
DTEND;TZID=Europe/Berlin:20231111T161500
LOCATION:ZŠ Předklášteří\, Komenského 1097 Předklášteří
SUMMARY:JM-U16Z-IIIA: VK Znojmo - Přímětice 'A'-KP Brno
END:VEVENT
BEGIN:VEVENT
UID:62303032-3839-4331-b830-393431353662
DTSTAMP:20260421T210059Z
DESCRIPTION:4/4 Tělocvičná jednota Sokol Předklášteří - VK Znojmo - Příměti
 ce 'A' 1:2 (21\,-23\,-10)
DTSTART;TZID=Europe/Berlin:20231111T130000
DTEND;TZID=Europe/Berlin:20231111T150000
LOCATION:ZŠ Předklášteří\, Komenského 1097 Předklášteří
SUMMARY:JM-U16Z-IIIA: Tělocvičná jednota Sokol Předklášteří-VK Znojmo - Pří
 mětice 'A'
END:VEVENT
BEGIN:VEVENT
UID:31396363-6439-4466-b064-363432323836
DTSTAMP:20260421T210059Z
DESCRIPTION:1/1 VK Znojmo - Přímětice 'A' - Břeclav 1:2 (23\,-14\,-9)
DTSTART;TZID=Europe/Berlin:20231209T090000
DTEND;TZID=Europe/Berlin:20231209T110000
LOCATION:Tělocvična ZŠ Prokopa Diviše a MŠ\, Ke Škole 569 Znojmo - Přímětic
 e
SUMMARY:JM-U16Z-IVA: VK Znojmo - Přímětice 'A'-Břeclav
END:VEVENT
BEGIN:VEVENT
UID:35633133-3236-4132-b439-663638356562
DTSTAMP:20260421T210059Z
DESCRIPTION:4/4 VK Znojmo - Přímětice 'A' - Tělocvičná jednota Sokol Předkl
 ášteří 1:2 (-21\,14\,-12)
DTSTART;TZID=Europe/Berlin:20231209T130000
DTEND;TZID=Europe/Berlin:20231209T150000
LOCATION:Tělocvična ZŠ Prokopa Diviše a MŠ\, Ke Škole 569 Znojmo - Přímětic
 e
SUMMARY:JM-U16Z-IVA: VK Znojmo - Přímětice 'A'-Tělocvičná jednota Sokol Pře
 dklášteří
END:VEVENT
BEGIN:VEVENT
UID:39666639-3436-4264-a637-653765333538
DTSTAMP:20260421T210059Z
DESCRIPTION:6/6 TJ JUNIOR Brno A - VK Znojmo - Přímětice 'A' 1:2 (22\,-17\,
 -5)
DTSTART;TZID=Europe/Berlin:20231209T153000
DTEND;TZID=Europe/Berlin:20231209T173000
LOCATION:Tělocvična ZŠ Prokopa Diviše a MŠ\, Ke Škole 569 Znojmo - Přímětic
 e
SUMMARY:JM-U16Z-IVA: TJ JUNIOR Brno A-VK Znojmo - Přímětice 'A'
END:VEVENT
BEGIN:VEVENT
UID:38313439-3036-4237-b331-663432616466
DTSTAMP:20260421T210059Z
DESCRIPTION:1/1 VK Znojmo - Přímětice 'A' - Břeclav 1:2 (22\,-20\,-13)
DTSTART;TZID=Europe/Berlin:20240106T090000
DTEND;TZID=Europe/Berlin:20240106T110000
LOCATION:Tělocvična ZŠ Prokopa Diviše a MŠ\, Ke Škole 569 Znojmo - Přímětic
 e
SUMMARY:JM-U16Z-VA: VK Znojmo - Přímětice 'A'-Břeclav
END:VEVENT
BEGIN:VEVENT
UID:35366435-3035-4536-b761-316434633263
DTSTAMP:20260421T210059Z
DESCRIPTION:4/4 VK Znojmo - Přímětice 'A' - Tělocvičná jednota Sokol Předkl
 ášteří 2:0 (14\,23)
DTSTART;TZID=Europe/Berlin:20240106T130000
DTEND;TZID=Europe/Berlin:20240106T150000
LOCATION:Tělocvična ZŠ Prokopa Diviše a MŠ\, Ke Škole 569 Znojmo - Přímětic
 e
SUMMARY:JM-U16Z-VA: VK Znojmo - Přímětice 'A'-Tělocvičná jednota Sokol Před
 klášteří
END:VEVENT
BEGIN:VEVENT
UID:39383665-3831-4534-a535-666162633536
DTSTAMP:20260421T210059Z
DESCRIPTION:6/6 START B6 - VK Znojmo - Přímětice 'A' 0:2 (-18\,-25)
DTSTART;TZID=Europe/Berlin:20240106T153000
DTEND;TZID=Europe/Berlin:20240106T173000
LOCATION:Tělocvična ZŠ Prokopa Diviše a MŠ\, Ke Škole 569 Znojmo - Přímětic
 e
SUMMARY:JM-U16Z-VA: START B6-VK Znojmo - Přímětice 'A'
END:VEVENT
BEGIN:VEVENT
UID:66363862-3532-4062-b363-636530363132
DTSTAMP:20260421T210059Z
DESCRIPTION:3/3 VK Znojmo - Přímětice 'A' - KP Brno 2:0 (22\,21)
DTSTART;TZID=Europe/Berlin:20240120T114500
DTEND;TZID=Europe/Berlin:20240120T134500
LOCATION:ZŠ Předklášteří\, Komenského 1097 Předklášteří
SUMMARY:JM-U16Z-VIA: VK Znojmo - Přímětice 'A'-KP Brno
END:VEVENT
BEGIN:VEVENT
UID:30613036-3235-4437-b761-376662353534
DTSTAMP:20260421T210059Z
DESCRIPTION:1/1 Tělocvičná jednota Sokol Předklášteří - VK Znojmo - Příměti
 ce 'A' 2:0 (10\,14)
DTSTART;TZID=Europe/Berlin:20240120T090000
DTEND;TZID=Europe/Berlin:20240120T110000
LOCATION:ZŠ Předklášteří\, Komenského 1097 Předklášteří
SUMMARY:JM-U16Z-VIA: Tělocvičná jednota Sokol Předklášteří-VK Znojmo - Přím
 ětice 'A'
END:VEVENT
BEGIN:VEVENT
UID:39373464-3361-4331-b231-623163353463
DTSTAMP:20260421T210059Z
DESCRIPTION:2/2 Břeclav - VK Znojmo - Přímětice 'A' 1:2 (19\,-14\,-5)
DTSTART;TZID=Europe/Berlin:20240120T103000
DTEND;TZID=Europe/Berlin:20240120T123000
LOCATION:ZŠ Předklášteří\, Komenského 1097 Předklášteří
SUMMARY:JM-U16Z-VIA: Břeclav-VK Znojmo - Přímětice 'A'
END:VEVENT
BEGIN:VEVENT
UID:62306332-6566-4766-a561-663766356236
DTSTAMP:20260421T210059Z
DESCRIPTION:2/3 VK Znojmo - Přímětice 'A' - KP Brno 0:2 (-19\,-24)\nKurt 3
DTSTART;TZID=Europe/Berlin:20240203T114500
DTEND;TZID=Europe/Berlin:20240203T134500
LOCATION:Sportovní hala Letovice\, V zahradách 831 Letovice
SUMMARY:JM-U16Z-VIIA: VK Znojmo - Přímětice 'A'-KP Brno
END:VEVENT
BEGIN:VEVENT
UID:65633662-3132-4334-b365-643161323165
DTSTAMP:20260421T210059Z
DESCRIPTION:3/5 VK Znojmo - Přímětice 'A' - START B6 2:X\nKurt 3
DTSTART;TZID=Europe/Berlin:20240203T130000
DTEND;TZID=Europe/Berlin:20240203T150000
LOCATION:Sportovní hala Letovice\, V zahradách 831 Letovice
SUMMARY:JM-U16Z-VIIA: VK Znojmo - Přímětice 'A'-START B6
END:VEVENT
BEGIN:VEVENT
UID:66343663-6432-4666-a337-333731336632
DTSTAMP:20260421T210059Z
DESCRIPTION:1/2 Tělocvičná jednota Sokol Předklášteří - VK Znojmo - Příměti
 ce 'A' 2:0 (22\,15)\nKurt 3
DTSTART;TZID=Europe/Berlin:20240203T103000
DTEND;TZID=Europe/Berlin:20240203T123000
LOCATION:Sportovní hala Letovice\, V zahradách 831 Letovice
SUMMARY:JM-U16Z-VIIA: Tělocvičná jednota Sokol Předklášteří-VK Znojmo - Pří
 mětice 'A'
END:VEVENT
BEGIN:VEVENT
UID:34303836-6465-4064-b630-393938333738
DTSTAMP:20260421T210059Z
DESCRIPTION:3/6 VK Znojmo - Přímětice 'A' - Břeclav 2:0 (19\,13)
DTSTART;TZID=Europe/Berlin:20240224T114500
DTEND;TZID=Europe/Berlin:20240224T134500
LOCATION:TJ Lokomotiva Břeclav\, Veslařská 2753 Břeclav
SUMMARY:JM-U16Z-VIIIA: VK Znojmo - Přímětice 'A'-Břeclav
END:VEVENT
BEGIN:VEVENT
UID:63313638-6464-4537-b461-353439333961
DTSTAMP:20260421T210059Z
DESCRIPTION:1/2 Tělocvičná jednota Sokol Předklášteří - VK Znojmo - Příměti
 ce 'A' 1:2 (24\,-19\,-7)
DTSTART;TZID=Europe/Berlin:20240224T090000
DTEND;TZID=Europe/Berlin:20240224T110000
LOCATION:TJ Lokomotiva Břeclav\, Veslařská 2753 Břeclav
SUMMARY:JM-U16Z-VIIIA: Tělocvičná jednota Sokol Předklášteří-VK Znojmo - Př
 ímětice 'A'
END:VEVENT
BEGIN:VEVENT
UID:31313133-3361-4935-b933-383430313864
DTSTAMP:20260421T210059Z
DESCRIPTION:2/3 KP Brno - VK Znojmo - Přímětice 'A' 2:0 (15\,12)
DTSTART;TZID=Europe/Berlin:20240224T103000
DTEND;TZID=Europe/Berlin:20240224T123000
LOCATION:TJ Lokomotiva Břeclav\, Veslařská 2753 Břeclav
SUMMARY:JM-U16Z-VIIIA: KP Brno-VK Znojmo - Přímětice 'A'
END:VEVENT
BEGIN:VEVENT
UID:38383330-3131-4333-b931-333536346366
DTSTAMP:20260421T210059Z
DESCRIPTION:1/1 VK Znojmo - Přímětice 'A' - TJ Sokol Šlapanice A 2:0 (13\,1
 9)\n1. vs 8. Kurt 1
DTSTART;TZID=Europe/Berlin:20240309T090000
DTEND;TZID=Europe/Berlin:20240309T110000
LOCATION:Tělocvična ZŠ Prokopa Diviše a MŠ\, Ke Škole 569 Znojmo - Přímětic
 e
SUMMARY:JM-U16Z-FA: VK Znojmo - Přímětice 'A'-TJ Sokol Šlapanice A
END:VEVENT
BEGIN:VEVENT
UID:37353632-6265-4262-b237-363236326131
DTSTAMP:20260421T210059Z
DESCRIPTION:4/7 VK Znojmo - Přímětice 'A' - TJ JUNIOR Brno A 2:1 (-21\,19\,
 5)\nW1 vs W4 Kurt 1
DTSTART;TZID=Europe/Berlin:20240309T130000
DTEND;TZID=Europe/Berlin:20240309T150000
LOCATION:Tělocvična ZŠ Prokopa Diviše a MŠ\, Ke Škole 569 Znojmo - Přímětic
 e
SUMMARY:JM-U16Z-FA: VK Znojmo - Přímětice 'A'-TJ JUNIOR Brno A
END:VEVENT
BEGIN:VEVENT
UID:61616365-3336-4730-a435-633661393534
DTSTAMP:20260421T210059Z
DESCRIPTION:6/12 VK Znojmo - Přímětice 'A' - KP Brno 0:2 (-12\,-21)\nW7 vs 
 W8 Kurt 1
DTSTART;TZID=Europe/Berlin:20240309T153000
DTEND;TZID=Europe/Berlin:20240309T173000
LOCATION:Tělocvična ZŠ Prokopa Diviše a MŠ\, Ke Škole 569 Znojmo - Přímětic
 e
SUMMARY:JM-U16Z-FA: VK Znojmo - Přímětice 'A'-KP Brno
END:VEVENT
END:VCALENDAR
