BEGIN:VCALENDAR
VERSION:2.0
PRODID:-//SK PROSEK C83361//NONSGML kigkonsult.se iCalcreator 2.41.80//
CALSCALE:GREGORIAN
UID:66323434-3162-4562-b533-336637396230
BEGIN:VEVENT
UID:34333563-6665-4632-a439-363533326133
DTSTAMP:20260423T005416Z
DESCRIPTION:2/2 SK PROSEK C - Orion B 2:0 (19\,11)
DTSTART;TZID=Europe/Berlin:20231008T100000
DTEND;TZID=Europe/Berlin:20231008T120000
LOCATION:Sokol Bubeneč\, Korunovační 630 Praha - Bubeneč
SUMMARY:PP-U16M-T1-2A: SK PROSEK C-Orion B
END:VEVENT
BEGIN:VEVENT
UID:62346363-3635-4339-b465-363937616664
DTSTAMP:20260423T005416Z
DESCRIPTION:1/1 Dansport - SK PROSEK C 2:0 (21\,14)
DTSTART;TZID=Europe/Berlin:20231008T090000
DTEND;TZID=Europe/Berlin:20231008T110000
LOCATION:Sokol Bubeneč\, Korunovační 630 Praha - Bubeneč
SUMMARY:PP-U16M-T1-2A: Dansport-SK PROSEK C
END:VEVENT
BEGIN:VEVENT
UID:38313961-3735-4564-b664-626232663932
DTSTAMP:20260423T005416Z
DESCRIPTION:3/5 SK PROSEK C - Sokol Praha Vršovice 0:2 (-18\,-24)\nO 3.MÍST
 O
DTSTART;TZID=Europe/Berlin:20231008T140000
DTEND;TZID=Europe/Berlin:20231008T160000
LOCATION:Sokol Bubeneč\, Korunovační 630 Praha - Bubeneč
SUMMARY:PP-U16M-T1-2C: SK PROSEK C-Sokol Praha Vršovice
END:VEVENT
BEGIN:VEVENT
UID:37646238-3864-4662-b837-613863326161
DTSTAMP:20260423T005416Z
DESCRIPTION:1/2 VK Lvi Praha B - SK PROSEK C 2:0 (16\,22)\n1B x 2A
DTSTART;TZID=Europe/Berlin:20231008T120000
DTEND;TZID=Europe/Berlin:20231008T140000
LOCATION:Sokol Bubeneč\, Korunovační 630 Praha - Bubeneč
SUMMARY:PP-U16M-T1-2C: VK Lvi Praha B-SK PROSEK C
END:VEVENT
BEGIN:VEVENT
UID:36336463-3639-4663-b730-353763396633
DTSTAMP:20260423T005416Z
DESCRIPTION:2/2 SK PROSEK C - Orion B 2:0 (19\,21)\nkurt č.3
DTSTART;TZID=Europe/Berlin:20231105T100000
DTEND;TZID=Europe/Berlin:20231105T120000
LOCATION:Nafukovací hala v areálu UNYP arény\, Kovanecká 2405 Praha - Libeň
SUMMARY:PP-U16M-T2-2A: SK PROSEK C-Orion B
END:VEVENT
BEGIN:VEVENT
UID:61663462-6561-4532-a336-613339373061
DTSTAMP:20260423T005416Z
DESCRIPTION:1/1 SK Meteor Praha A - SK PROSEK C 2:0 (10\,10)\nkurt č.3
DTSTART;TZID=Europe/Berlin:20231105T090000
DTEND;TZID=Europe/Berlin:20231105T110000
LOCATION:Nafukovací hala v areálu UNYP arény\, Kovanecká 2405 Praha - Libeň
SUMMARY:PP-U16M-T2-2A: SK Meteor Praha A-SK PROSEK C
END:VEVENT
BEGIN:VEVENT
UID:66353763-3033-4564-b432-666665626331
DTSTAMP:20260423T005416Z
DESCRIPTION:1/2 VK Lvi Praha B - SK PROSEK C 2:0 (13\,21)\nkurt č.2\, 1B x 
 2A
DTSTART;TZID=Europe/Berlin:20231105T130000
DTEND;TZID=Europe/Berlin:20231105T150000
LOCATION:Nafukovací hala v areálu UNYP arény\, Kovanecká 2405 Praha - Libeň
SUMMARY:PP-U16M-T2-2C: VK Lvi Praha B-SK PROSEK C
END:VEVENT
BEGIN:VEVENT
UID:33373237-6162-4265-b139-303765383866
DTSTAMP:20260423T005416Z
DESCRIPTION:3/5 Sokol Praha Vršovice - SK PROSEK C 2:0 (12\,24)\nkurt č.2\,
  o 3.místo
DTSTART;TZID=Europe/Berlin:20231105T150000
DTEND;TZID=Europe/Berlin:20231105T170000
LOCATION:Nafukovací hala v areálu UNYP arény\, Kovanecká 2405 Praha - Libeň
SUMMARY:PP-U16M-T2-2C: Sokol Praha Vršovice-SK PROSEK C
END:VEVENT
BEGIN:VEVENT
UID:63303466-6239-4631-b039-333533386239
DTSTAMP:20260423T005416Z
DESCRIPTION:2/2 SK PROSEK C - Meteor Praha B 2:0 (13\,22)
DTSTART;TZID=Europe/Berlin:20231210T100000
DTEND;TZID=Europe/Berlin:20231210T120000
LOCATION:Sokol Bubeneč\, Korunovační 630 Praha - Bubeneč
SUMMARY:PP-U16M-T3-2A: SK PROSEK C-Meteor Praha B
END:VEVENT
BEGIN:VEVENT
UID:38663262-3536-4435-a563-386533303166
DTSTAMP:20260423T005416Z
DESCRIPTION:1/1 Dansport - SK PROSEK C 2:0 (14\,7)
DTSTART;TZID=Europe/Berlin:20231210T090000
DTEND;TZID=Europe/Berlin:20231210T110000
LOCATION:Sokol Bubeneč\, Korunovační 630 Praha - Bubeneč
SUMMARY:PP-U16M-T3-2A: Dansport-SK PROSEK C
END:VEVENT
BEGIN:VEVENT
UID:32333339-3334-4233-b363-303865353464
DTSTAMP:20260423T005416Z
DESCRIPTION:2/3 SK PROSEK C - Dansport 0:2 (-23\,-12)\no 3.místo
DTSTART;TZID=Europe/Berlin:20231210T130000
DTEND;TZID=Europe/Berlin:20231210T150000
LOCATION:Sokol Bubeneč\, Korunovační 630 Praha - Bubeneč
SUMMARY:PP-U16M-T3-2C: SK PROSEK C-Dansport
END:VEVENT
BEGIN:VEVENT
UID:37646363-3961-4136-a236-343230633336
DTSTAMP:20260423T005416Z
DESCRIPTION:1/1 VK Lvi Praha B - SK PROSEK C 2:0 (12\,15)\n1B x 2A
DTSTART;TZID=Europe/Berlin:20231210T120000
DTEND;TZID=Europe/Berlin:20231210T140000
LOCATION:Sokol Bubeneč\, Korunovační 630 Praha - Bubeneč
SUMMARY:PP-U16M-T3-2C: VK Lvi Praha B-SK PROSEK C
END:VEVENT
BEGIN:VEVENT
UID:35333161-6162-4563-b964-333339666538
DTSTAMP:20260423T005416Z
DESCRIPTION:1/1 SK PROSEK C - SK PROSEK B 0:2 (-24\,-20)
DTSTART;TZID=Europe/Berlin:20240114T090000
DTEND;TZID=Europe/Berlin:20240114T110000
LOCATION:Sokol Bubeneč\, Korunovační 630 Praha - Bubeneč
SUMMARY:PP-U16M-T4-2A: SK PROSEK C-SK PROSEK B
END:VEVENT
BEGIN:VEVENT
UID:62616339-6533-4961-a564-316630646135
DTSTAMP:20260423T005416Z
DESCRIPTION:3/3 SK PROSEK C - Orion B 2:0 (14\,23)
DTSTART;TZID=Europe/Berlin:20240114T110000
DTEND;TZID=Europe/Berlin:20240114T130000
LOCATION:Sokol Bubeneč\, Korunovační 630 Praha - Bubeneč
SUMMARY:PP-U16M-T4-2A: SK PROSEK C-Orion B
END:VEVENT
BEGIN:VEVENT
UID:37356561-6163-4365-b663-616439323666
DTSTAMP:20260423T005416Z
DESCRIPTION:1/2 Dansport - SK PROSEK C 2:0 (11\,20)\n1b x 2a
DTSTART;TZID=Europe/Berlin:20240114T120000
DTEND;TZID=Europe/Berlin:20240114T140000
LOCATION:Sokol Bubeneč\, Korunovační 630 Praha - Bubeneč
SUMMARY:PP-U16M-T4-2C: Dansport-SK PROSEK C
END:VEVENT
BEGIN:VEVENT
UID:39306463-3762-4564-a236-613736616130
DTSTAMP:20260423T005416Z
DESCRIPTION:3/4 Sokol Praha Vršovice - SK PROSEK C 2:0 (19\,9)\no 3.místo
DTSTART;TZID=Europe/Berlin:20240114T130000
DTEND;TZID=Europe/Berlin:20240114T150000
LOCATION:Sokol Bubeneč\, Korunovační 630 Praha - Bubeneč
SUMMARY:PP-U16M-T4-2C: Sokol Praha Vršovice-SK PROSEK C
END:VEVENT
BEGIN:VEVENT
UID:33396532-3731-4333-b961-383938343437
DTSTAMP:20260423T005416Z
DESCRIPTION:2/2 SK PROSEK C - Orion B 2:1 (21\,-19\,5)
DTSTART;TZID=Europe/Berlin:20240310T100000
DTEND;TZID=Europe/Berlin:20240310T120000
LOCATION:Sokol Bubeneč\, Korunovační 630 Praha - Bubeneč
SUMMARY:PP-U16M-T5-2A: SK PROSEK C-Orion B
END:VEVENT
BEGIN:VEVENT
UID:31386163-3837-4631-b936-623266366663
DTSTAMP:20260423T005416Z
DESCRIPTION:1/1 VK Lvi Praha B - SK PROSEK C 2:0 (13\,13)
DTSTART;TZID=Europe/Berlin:20240310T090000
DTEND;TZID=Europe/Berlin:20240310T110000
LOCATION:Sokol Bubeneč\, Korunovační 630 Praha - Bubeneč
SUMMARY:PP-U16M-T5-2A: VK Lvi Praha B-SK PROSEK C
END:VEVENT
BEGIN:VEVENT
UID:35346235-6237-4135-b131-363534656335
DTSTAMP:20260423T005416Z
DESCRIPTION:3/4 SK PROSEK C - VK Lvi Praha B 1:2 (-15\,32\,-4)\no 3. místo
DTSTART;TZID=Europe/Berlin:20240310T130000
DTEND;TZID=Europe/Berlin:20240310T150000
LOCATION:Sokol Bubeneč\, Korunovační 630 Praha - Bubeneč
SUMMARY:PP-U16M-T5-2C: SK PROSEK C-VK Lvi Praha B
END:VEVENT
BEGIN:VEVENT
UID:36313739-3239-4162-a135-396334623762
DTSTAMP:20260423T005416Z
DESCRIPTION:1/1 SK PROSEK B - SK PROSEK C 2:0 (11\,17)\n1a x 2b
DTSTART;TZID=Europe/Berlin:20240310T120000
DTEND;TZID=Europe/Berlin:20240310T140000
LOCATION:Sokol Bubeneč\, Korunovační 630 Praha - Bubeneč
SUMMARY:PP-U16M-T5-2C: SK PROSEK B-SK PROSEK C
END:VEVENT
END:VCALENDAR
