BEGIN:VCALENDAR
VERSION:2.0
PRODID:-//Mikulova B83375//NONSGML kigkonsult.se iCalcreator 2.41.80//
CALSCALE:GREGORIAN
UID:39623930-3236-4966-a665-306333666265
BEGIN:VEVENT
UID:31646664-3962-4336-a234-383366613431
DTSTAMP:20260425T132856Z
DESCRIPTION:2/2 Mikulova B - Španielka U22 0:2 (-20\,-18)
DTSTART;TZID=Europe/Berlin:20231008T100000
DTEND;TZID=Europe/Berlin:20231008T120000
LOCATION:Tělocvična ZŠ\, Španielova 1111 Praha - Řepy
SUMMARY:PP-U20Z-1-A: Mikulova B-Španielka U22
END:VEVENT
BEGIN:VEVENT
UID:35613761-6361-4239-a430-363336376566
DTSTAMP:20260425T132856Z
DESCRIPTION:5/5 Mikulova B - Meteor Praha B 1:2 (-17\,16\,-4)
DTSTART;TZID=Europe/Berlin:20231008T130000
DTEND;TZID=Europe/Berlin:20231008T150000
LOCATION:Tělocvična ZŠ\, Španielova 1111 Praha - Řepy
SUMMARY:PP-U20Z-1-A: Mikulova B-Meteor Praha B
END:VEVENT
BEGIN:VEVENT
UID:35393832-3237-4834-b365-363034633463
DTSTAMP:20260425T132856Z
DESCRIPTION:4/4 BVŠP - Mikulova B 2:0 (10\,21)
DTSTART;TZID=Europe/Berlin:20231008T120000
DTEND;TZID=Europe/Berlin:20231008T140000
LOCATION:Tělocvična ZŠ\, Španielova 1111 Praha - Řepy
SUMMARY:PP-U20Z-1-A: BVŠP-Mikulova B
END:VEVENT
BEGIN:VEVENT
UID:30373366-6161-4632-b132-336136613438
DTSTAMP:20260425T132856Z
DESCRIPTION:1/1 Mikulova B - Slavia Praha B 2:1 (15\,-22\,6)
DTSTART;TZID=Europe/Berlin:20231112T090000
DTEND;TZID=Europe/Berlin:20231112T110000
LOCATION:SKŠ ZŠ Mikulova Praha\, Mikulova 1594 Praha - Chodov
SUMMARY:PP-U20Z-2-B: Mikulova B-Slavia Praha B
END:VEVENT
BEGIN:VEVENT
UID:65373839-6135-4633-a365-313262393338
DTSTAMP:20260425T132856Z
DESCRIPTION:4/4 Mikulova B - SAVO Praha A 1:2 (-23\,14\,-12)
DTSTART;TZID=Europe/Berlin:20231112T120000
DTEND;TZID=Europe/Berlin:20231112T140000
LOCATION:SKŠ ZŠ Mikulova Praha\, Mikulova 1594 Praha - Chodov
SUMMARY:PP-U20Z-2-B: Mikulova B-SAVO Praha A
END:VEVENT
BEGIN:VEVENT
UID:63396565-6533-4138-a664-343364646134
DTSTAMP:20260425T132856Z
DESCRIPTION:6/6 Španielka - Mikulova B 0:2 (-18\,-18)
DTSTART;TZID=Europe/Berlin:20231112T140000
DTEND;TZID=Europe/Berlin:20231112T160000
LOCATION:SKŠ ZŠ Mikulova Praha\, Mikulova 1594 Praha - Chodov
SUMMARY:PP-U20Z-2-B: Španielka-Mikulova B
END:VEVENT
BEGIN:VEVENT
UID:62333661-6535-4833-b932-303532363133
DTSTAMP:20260425T132856Z
DESCRIPTION:2/2 Mikulova B - Slavia Praha B 2:0 (9\,16)
DTSTART;TZID=Europe/Berlin:20231217T100000
DTEND;TZID=Europe/Berlin:20231217T120000
LOCATION:SKŠ ZŠ Mikulova Praha\, Mikulova 1594 Praha - Chodov
SUMMARY:PP-U20Z-3-B: Mikulova B-Slavia Praha B
END:VEVENT
BEGIN:VEVENT
UID:32643531-3164-4932-b264-376139623061
DTSTAMP:20260425T132856Z
DESCRIPTION:5/5 Mikulova B - Orion Praha B 2:0 (13\,16)
DTSTART;TZID=Europe/Berlin:20231217T130000
DTEND;TZID=Europe/Berlin:20231217T150000
LOCATION:SKŠ ZŠ Mikulova Praha\, Mikulova 1594 Praha - Chodov
SUMMARY:PP-U20Z-3-B: Mikulova B-Orion Praha B
END:VEVENT
BEGIN:VEVENT
UID:65343836-3039-4263-b035-623233343630
DTSTAMP:20260425T132856Z
DESCRIPTION:4/4 Španielka U22 - Mikulova B 0:2 (-18\,-19)
DTSTART;TZID=Europe/Berlin:20231217T120000
DTEND;TZID=Europe/Berlin:20231217T140000
LOCATION:SKŠ ZŠ Mikulova Praha\, Mikulova 1594 Praha - Chodov
SUMMARY:PP-U20Z-3-B: Španielka U22-Mikulova B
END:VEVENT
BEGIN:VEVENT
UID:38656562-3036-4431-b838-346330613632
DTSTAMP:20260425T132856Z
DESCRIPTION:3/3 Mikulova B - BVŠP 2:0 (23\,20)
DTSTART;TZID=Europe/Berlin:20240114T110000
DTEND;TZID=Europe/Berlin:20240114T130000
LOCATION:ZŠ Žernosecká\, Žernosecká 1597 Praha - Kobylisy
SUMMARY:PP-U20Z-4-A: Mikulova B-BVŠP
END:VEVENT
BEGIN:VEVENT
UID:31653138-3139-4032-a335-623837323136
DTSTAMP:20260425T132856Z
DESCRIPTION:1/1 ABC Braník - Mikulova B 2:0 (10\,24)
DTSTART;TZID=Europe/Berlin:20240114T090000
DTEND;TZID=Europe/Berlin:20240114T110000
LOCATION:ZŠ Žernosecká\, Žernosecká 1597 Praha - Kobylisy
SUMMARY:PP-U20Z-4-A: ABC Braník-Mikulova B
END:VEVENT
BEGIN:VEVENT
UID:32663734-3638-4932-a132-366438623765
DTSTAMP:20260425T132856Z
DESCRIPTION:5/5 Meteor Praha B - Mikulova B 2:0 (19\,15)
DTSTART;TZID=Europe/Berlin:20240114T130000
DTEND;TZID=Europe/Berlin:20240114T150000
LOCATION:ZŠ Žernosecká\, Žernosecká 1597 Praha - Kobylisy
SUMMARY:PP-U20Z-4-A: Meteor Praha B-Mikulova B
END:VEVENT
BEGIN:VEVENT
UID:30303437-3137-4338-b733-393234396465
DTSTAMP:20260425T132856Z
DESCRIPTION:6/6 Mikulova B - Meteor Praha BPospíšilová Jana
DTSTART;TZID=Europe/Berlin:20240310T140000
DTEND;TZID=Europe/Berlin:20240310T160000
LOCATION:FZŠ Mezi Školami\, Mezi školami 2322 Praha - Stodůlky
SUMMARY:PP-U20Z-5-A: Mikulova B-Meteor Praha B
END:VEVENT
BEGIN:VEVENT
UID:65656335-3731-4735-b130-303631336537
DTSTAMP:20260425T132856Z
DESCRIPTION:2/2 ABC Braník - Mikulova BPospíšilová Jana
DTSTART;TZID=Europe/Berlin:20240310T100000
DTEND;TZID=Europe/Berlin:20240310T120000
LOCATION:FZŠ Mezi Školami\, Mezi školami 2322 Praha - Stodůlky
SUMMARY:PP-U20Z-5-A: ABC Braník-Mikulova B
END:VEVENT
BEGIN:VEVENT
UID:33363362-3333-4364-a365-333737383164
DTSTAMP:20260425T132856Z
DESCRIPTION:3/3 Střešovice - Mikulova BPospíšilová Jana
DTSTART;TZID=Europe/Berlin:20240310T110000
DTEND;TZID=Europe/Berlin:20240310T130000
LOCATION:FZŠ Mezi Školami\, Mezi školami 2322 Praha - Stodůlky
SUMMARY:PP-U20Z-5-A: Střešovice-Mikulova B
END:VEVENT
BEGIN:VEVENT
UID:63363035-6634-4134-b736-373433633165
DTSTAMP:20260425T132856Z
DESCRIPTION:1/1 Mikulova B - Španielka U22 2:0 (12\,23)
DTSTART;TZID=Europe/Berlin:20240421T090000
DTEND;TZID=Europe/Berlin:20240421T110000
LOCATION:SKŠ ZŠ Mikulova Praha\, Mikulova 1594 Praha - Chodov
SUMMARY:PP-U20Z-6-B: Mikulova B-Španielka U22
END:VEVENT
BEGIN:VEVENT
UID:32346436-3330-4462-b564-613732396536
DTSTAMP:20260425T132856Z
DESCRIPTION:4/4 Mikulova B - BVŠP 2:0 (23\,20)
DTSTART;TZID=Europe/Berlin:20240421T120000
DTEND;TZID=Europe/Berlin:20240421T140000
LOCATION:SKŠ ZŠ Mikulova Praha\, Mikulova 1594 Praha - Chodov
SUMMARY:PP-U20Z-6-B: Mikulova B-BVŠP
END:VEVENT
BEGIN:VEVENT
UID:34353534-6232-4237-a338-333330303032
DTSTAMP:20260425T132856Z
DESCRIPTION:6/6 Orion Praha B - Mikulova B 0:2 (-20\,-13)
DTSTART;TZID=Europe/Berlin:20240421T140000
DTEND;TZID=Europe/Berlin:20240421T160000
LOCATION:SKŠ ZŠ Mikulova Praha\, Mikulova 1594 Praha - Chodov
SUMMARY:PP-U20Z-6-B: Orion Praha B-Mikulova B
END:VEVENT
END:VCALENDAR
